BEGIN:VCALENDAR
VERSION:2.0
PRODID:-//RCLS+ - ECPv6.15.20//NONSGML v1.0//EN
CALSCALE:GREGORIAN
METHOD:PUBLISH
X-ORIGINAL-URL:https://rclstn.org
X-WR-CALDESC:Events for RCLS+
REFRESH-INTERVAL;VALUE=DURATION:PT1H
X-Robots-Tag:noindex
X-PUBLISHED-TTL:PT1H
BEGIN:VTIMEZONE
TZID:America/Chicago
BEGIN:DAYLIGHT
TZOFFSETFROM:-0600
TZOFFSETTO:-0500
TZNAME:CDT
DTSTART:20250309T080000
END:DAYLIGHT
BEGIN:STANDARD
TZOFFSETFROM:-0500
TZOFFSETTO:-0600
TZNAME:CST
DTSTART:20251102T070000
END:STANDARD
BEGIN:DAYLIGHT
TZOFFSETFROM:-0600
TZOFFSETTO:-0500
TZNAME:CDT
DTSTART:20260308T080000
END:DAYLIGHT
BEGIN:STANDARD
TZOFFSETFROM:-0500
TZOFFSETTO:-0600
TZNAME:CST
DTSTART:20261101T070000
END:STANDARD
BEGIN:DAYLIGHT
TZOFFSETFROM:-0600
TZOFFSETTO:-0500
TZNAME:CDT
DTSTART:20270314T080000
END:DAYLIGHT
BEGIN:STANDARD
TZOFFSETFROM:-0500
TZOFFSETTO:-0600
TZNAME:CST
DTSTART:20271107T070000
END:STANDARD
BEGIN:DAYLIGHT
TZOFFSETFROM:-0600
TZOFFSETTO:-0500
TZNAME:CDT
DTSTART:20280312T080000
END:DAYLIGHT
BEGIN:STANDARD
TZOFFSETFROM:-0500
TZOFFSETTO:-0600
TZNAME:CST
DTSTART:20281105T070000
END:STANDARD
BEGIN:DAYLIGHT
TZOFFSETFROM:-0600
TZOFFSETTO:-0500
TZNAME:CDT
DTSTART:20290311T080000
END:DAYLIGHT
BEGIN:STANDARD
TZOFFSETFROM:-0500
TZOFFSETTO:-0600
TZNAME:CST
DTSTART:20291104T070000
END:STANDARD
BEGIN:DAYLIGHT
TZOFFSETFROM:-0600
TZOFFSETTO:-0500
TZNAME:CDT
DTSTART:20300310T080000
END:DAYLIGHT
BEGIN:STANDARD
TZOFFSETFROM:-0500
TZOFFSETTO:-0600
TZNAME:CST
DTSTART:20301103T070000
END:STANDARD
BEGIN:DAYLIGHT
TZOFFSETFROM:-0600
TZOFFSETTO:-0500
TZNAME:CDT
DTSTART:20310309T080000
END:DAYLIGHT
BEGIN:STANDARD
TZOFFSETFROM:-0500
TZOFFSETTO:-0600
TZNAME:CST
DTSTART:20311102T070000
END:STANDARD
END:VTIMEZONE
BEGIN:VEVENT
DTSTART;TZID=America/Chicago:20260420T170000
DTEND;TZID=America/Chicago:20260420T180000
DTSTAMP:20260420T143105
CREATED:20260420T164122Z
LAST-MODIFIED:20260420T164124Z
UID:10010687-1776704400-1776708000@rclstn.org
SUMMARY:RCLS Board Meeting
DESCRIPTION:
URL:https://rclstn.org/event/rcls-board-meeting-2-4/2026-04-20/
LOCATION:Rutherford County Courthouse
CATEGORIES:Library Board
END:VEVENT
BEGIN:VEVENT
DTSTART;TZID=America/Chicago:20261019T170000
DTEND;TZID=America/Chicago:20261019T180000
DTSTAMP:20260420T143105
CREATED:20260420T164122Z
LAST-MODIFIED:20260420T164124Z
UID:10010688-1792429200-1792432800@rclstn.org
SUMMARY:RCLS Board Meeting
DESCRIPTION:
URL:https://rclstn.org/event/rcls-board-meeting-2-4/2026-10-19/
LOCATION:Rutherford County Courthouse
CATEGORIES:Library Board
END:VEVENT
BEGIN:VEVENT
DTSTART;TZID=America/Chicago:20270419T170000
DTEND;TZID=America/Chicago:20270419T180000
DTSTAMP:20260420T143105
CREATED:20260420T164122Z
LAST-MODIFIED:20260420T164124Z
UID:10010689-1808154000-1808157600@rclstn.org
SUMMARY:RCLS Board Meeting
DESCRIPTION:
URL:https://rclstn.org/event/rcls-board-meeting-2-4/2027-04-19/
LOCATION:Rutherford County Courthouse
CATEGORIES:Library Board
END:VEVENT
BEGIN:VEVENT
DTSTART;TZID=America/Chicago:20271018T170000
DTEND;TZID=America/Chicago:20271018T180000
DTSTAMP:20260420T143105
CREATED:20260420T164122Z
LAST-MODIFIED:20260420T164124Z
UID:10010690-1823878800-1823882400@rclstn.org
SUMMARY:RCLS Board Meeting
DESCRIPTION:
URL:https://rclstn.org/event/rcls-board-meeting-2-4/2027-10-18/
LOCATION:Rutherford County Courthouse
CATEGORIES:Library Board
END:VEVENT
BEGIN:VEVENT
DTSTART;TZID=America/Chicago:20280417T170000
DTEND;TZID=America/Chicago:20280417T180000
DTSTAMP:20260420T143105
CREATED:20260420T164122Z
LAST-MODIFIED:20260420T164124Z
UID:10010691-1839603600-1839607200@rclstn.org
SUMMARY:RCLS Board Meeting
DESCRIPTION:
URL:https://rclstn.org/event/rcls-board-meeting-2-4/2028-04-17/
LOCATION:Rutherford County Courthouse
CATEGORIES:Library Board
END:VEVENT
BEGIN:VEVENT
DTSTART;TZID=America/Chicago:20281016T170000
DTEND;TZID=America/Chicago:20281016T180000
DTSTAMP:20260420T143105
CREATED:20260420T164122Z
LAST-MODIFIED:20260420T164124Z
UID:10010692-1855328400-1855332000@rclstn.org
SUMMARY:RCLS Board Meeting
DESCRIPTION:
URL:https://rclstn.org/event/rcls-board-meeting-2-4/2028-10-16/
LOCATION:Rutherford County Courthouse
CATEGORIES:Library Board
END:VEVENT
BEGIN:VEVENT
DTSTART;TZID=America/Chicago:20290416T170000
DTEND;TZID=America/Chicago:20290416T180000
DTSTAMP:20260420T143105
CREATED:20260420T164122Z
LAST-MODIFIED:20260420T164124Z
UID:10010693-1871053200-1871056800@rclstn.org
SUMMARY:RCLS Board Meeting
DESCRIPTION:
URL:https://rclstn.org/event/rcls-board-meeting-2-4/2029-04-16/
LOCATION:Rutherford County Courthouse
CATEGORIES:Library Board
END:VEVENT
BEGIN:VEVENT
DTSTART;TZID=America/Chicago:20291015T170000
DTEND;TZID=America/Chicago:20291015T180000
DTSTAMP:20260420T143105
CREATED:20260420T164122Z
LAST-MODIFIED:20260420T164124Z
UID:10010694-1886778000-1886781600@rclstn.org
SUMMARY:RCLS Board Meeting
DESCRIPTION:
URL:https://rclstn.org/event/rcls-board-meeting-2-4/2029-10-15/
LOCATION:Rutherford County Courthouse
CATEGORIES:Library Board
END:VEVENT
BEGIN:VEVENT
DTSTART;TZID=America/Chicago:20300415T170000
DTEND;TZID=America/Chicago:20300415T180000
DTSTAMP:20260420T143105
CREATED:20260420T164122Z
LAST-MODIFIED:20260420T164124Z
UID:10016308-1902502800-1902506400@rclstn.org
SUMMARY:RCLS Board Meeting
DESCRIPTION:
URL:https://rclstn.org/event/rcls-board-meeting-2-4/2030-04-15/
LOCATION:Rutherford County Courthouse
CATEGORIES:Library Board
END:VEVENT
BEGIN:VEVENT
DTSTART;TZID=America/Chicago:20301021T170000
DTEND;TZID=America/Chicago:20301021T180000
DTSTAMP:20260420T143105
CREATED:20260420T164122Z
LAST-MODIFIED:20260420T164124Z
UID:10025509-1918832400-1918836000@rclstn.org
SUMMARY:RCLS Board Meeting
DESCRIPTION:
URL:https://rclstn.org/event/rcls-board-meeting-2-4/2030-10-21/
LOCATION:Rutherford County Courthouse
CATEGORIES:Library Board
END:VEVENT
END:VCALENDAR