BEGIN:VCALENDAR
VERSION:2.0
PRODID:-//RCLS+ - ECPv6.15.20//NONSGML v1.0//EN
CALSCALE:GREGORIAN
METHOD:PUBLISH
X-ORIGINAL-URL:https://rclstn.org
X-WR-CALDESC:Events for RCLS+
REFRESH-INTERVAL;VALUE=DURATION:PT1H
X-Robots-Tag:noindex
X-PUBLISHED-TTL:PT1H
BEGIN:VTIMEZONE
TZID:America/Chicago
BEGIN:DAYLIGHT
TZOFFSETFROM:-0600
TZOFFSETTO:-0500
TZNAME:CDT
DTSTART:20240310T080000
END:DAYLIGHT
BEGIN:STANDARD
TZOFFSETFROM:-0500
TZOFFSETTO:-0600
TZNAME:CST
DTSTART:20241103T070000
END:STANDARD
BEGIN:DAYLIGHT
TZOFFSETFROM:-0600
TZOFFSETTO:-0500
TZNAME:CDT
DTSTART:20250309T080000
END:DAYLIGHT
BEGIN:STANDARD
TZOFFSETFROM:-0500
TZOFFSETTO:-0600
TZNAME:CST
DTSTART:20251102T070000
END:STANDARD
BEGIN:DAYLIGHT
TZOFFSETFROM:-0600
TZOFFSETTO:-0500
TZNAME:CDT
DTSTART:20260308T080000
END:DAYLIGHT
BEGIN:STANDARD
TZOFFSETFROM:-0500
TZOFFSETTO:-0600
TZNAME:CST
DTSTART:20261101T070000
END:STANDARD
BEGIN:DAYLIGHT
TZOFFSETFROM:-0600
TZOFFSETTO:-0500
TZNAME:CDT
DTSTART:20270314T080000
END:DAYLIGHT
BEGIN:STANDARD
TZOFFSETFROM:-0500
TZOFFSETTO:-0600
TZNAME:CST
DTSTART:20271107T070000
END:STANDARD
END:VTIMEZONE
BEGIN:VEVENT
DTSTART;TZID=America/Chicago:20260407T140000
DTEND;TZID=America/Chicago:20260407T150000
DTSTAMP:20260421T080338
CREATED:20260319T170023Z
LAST-MODIFIED:20260320T132115Z
UID:10025258-1775570400-1775574000@rclstn.org
SUMMARY:DIY Digitization Station Orientation
DESCRIPTION:Are you interested in learning how to digitize your family home videos\, photographs\, or transfer files from a floppy disk? Register to attend our orientation class on what equipment is available and how to use it. The orientation class will be held on Tuesday\, April 7\, at 2 PM. Please register to attend by emailing HRC@RCLSTN.ORG.
URL:https://rclstn.org/event/diy-digitization-station-orientation/
LOCATION:Historical Research Center\, 435 Rice St\, Murfreesboro\, TN\, 37130\, United States
CATEGORIES:Adult,Historical Research Center (HRC)
ATTACH;FMTTYPE=application/pdf:https://rclstn.org/wp-content/uploads/2026/03/digitization-cart-2.pdf
END:VEVENT
BEGIN:VEVENT
DTSTART;TZID=America/Chicago:20260326T130000
DTEND;TZID=America/Chicago:20260326T150000
DTSTAMP:20260421T080338
CREATED:20251003T165120Z
LAST-MODIFIED:20251020T144604Z
UID:10014427-1774530000-1774537200@rclstn.org
SUMMARY:Linda Suzo Smith Genealogy Group
DESCRIPTION:Interested in genealogy? Want to have someone to talk to about genealogy related topics? Join us for our monthly genealogy group meeting\, where we talk all things genealogy! \nThe Linda Suzo Smith Genealogy Group meets the fourth Thursday every month from 1PM to 3PM at the Historical Research Center\, which is located inside the Rutherford County Archives. \n 
URL:https://rclstn.org/event/linda-suzo-smith-genealogy-group-2/2026-03-26/
LOCATION:Historical Research Center\, 435 Rice St\, Murfreesboro\, TN\, 37130\, United States
CATEGORIES:Club,Historical Research Center (HRC)
ATTACH;FMTTYPE=image/png:https://rclstn.org/wp-content/uploads/2025/03/unnamed.png
ORGANIZER;CN="Kayla":MAILTO:hrc@rclstn.org
END:VEVENT
BEGIN:VEVENT
DTSTART;TZID=America/Chicago:20260305T160000
DTEND;TZID=America/Chicago:20260305T180000
DTSTAMP:20260421T080338
CREATED:20251002T165635Z
LAST-MODIFIED:20260115T171648Z
UID:10022922-1772726400-1772733600@rclstn.org
SUMMARY:Genealogy Night at HRC
DESCRIPTION:Interested in genealogy but can’t visit during normal hours? For one night every other month\, we’re extending our hours to 6 PM to help you with your genealogy questions and goals!\n \n*Not a class* \nWe can help you with: \n\nAncestry\nFamilySearch\nResearching your ancestors\nFirst Family Applications\nRetrieving copies of historical family documents from the Rutherford County Archives\nAnd more\n\nHave questions about this event? Email us at hrc@rclstn.org \n 
URL:https://rclstn.org/event/genealogy-night-at-hrc-2/2026-03-05/
LOCATION:Historical Research Center\, 435 Rice St\, Murfreesboro\, TN\, 37130\, United States
CATEGORIES:Historical Research Center (HRC)
ATTACH;FMTTYPE=image/png:https://rclstn.org/wp-content/uploads/2025/10/One-on-One-Genealogy-Sessions-Instagram-Post-45-1.png
ORGANIZER;CN="Kayla":MAILTO:hrc@rclstn.org
END:VEVENT
BEGIN:VEVENT
DTSTART;TZID=America/Chicago:20260226T130000
DTEND;TZID=America/Chicago:20260226T150000
DTSTAMP:20260421T080338
CREATED:20251003T165120Z
LAST-MODIFIED:20251020T144604Z
UID:10014426-1772110800-1772118000@rclstn.org
SUMMARY:Linda Suzo Smith Genealogy Group
DESCRIPTION:Interested in genealogy? Want to have someone to talk to about genealogy related topics? Join us for our monthly genealogy group meeting\, where we talk all things genealogy! \nThe Linda Suzo Smith Genealogy Group meets the fourth Thursday every month from 1PM to 3PM at the Historical Research Center\, which is located inside the Rutherford County Archives. \n 
URL:https://rclstn.org/event/linda-suzo-smith-genealogy-group-2/2026-02-26/
LOCATION:Historical Research Center\, 435 Rice St\, Murfreesboro\, TN\, 37130\, United States
CATEGORIES:Club,Historical Research Center (HRC)
ATTACH;FMTTYPE=image/png:https://rclstn.org/wp-content/uploads/2025/03/unnamed.png
ORGANIZER;CN="Kayla":MAILTO:hrc@rclstn.org
END:VEVENT
BEGIN:VEVENT
DTSTART;TZID=America/Chicago:20260210T130000
DTEND;TZID=America/Chicago:20260210T140000
DTSTAMP:20260421T080338
CREATED:20260203T014959Z
LAST-MODIFIED:20260203T014959Z
UID:10023820-1770728400-1770732000@rclstn.org
SUMMARY:Rutherford's African American Churches at HRC
DESCRIPTION:Presenter\, Dr. John Lodl\, will be giving a talk about their dissertation on African American Churches in Rutherford County and we invite the community to attend. It will be held in-person and through Zoom. No registration is required. This event is free and open to the public. To attend virtually\, please email HRC@rclstn.org for the Zoom link.
URL:https://rclstn.org/event/rutherfords-african-american-churches-at-hrc/
LOCATION:Historical Research Center\, 435 Rice St\, Murfreesboro\, TN\, 37130\, United States
CATEGORIES:Historical Research Center (HRC),Teen/Adult
ATTACH;FMTTYPE=image/png:https://rclstn.org/wp-content/uploads/2026/02/February-Events-2026-Amanda-6.png
END:VEVENT
BEGIN:VEVENT
DTSTART;TZID=America/Chicago:20260122T130000
DTEND;TZID=America/Chicago:20260122T150000
DTSTAMP:20260421T080338
CREATED:20251003T165120Z
LAST-MODIFIED:20251020T144604Z
UID:10014425-1769086800-1769094000@rclstn.org
SUMMARY:Linda Suzo Smith Genealogy Group
DESCRIPTION:Interested in genealogy? Want to have someone to talk to about genealogy related topics? Join us for our monthly genealogy group meeting\, where we talk all things genealogy! \nThe Linda Suzo Smith Genealogy Group meets the fourth Thursday every month from 1PM to 3PM at the Historical Research Center\, which is located inside the Rutherford County Archives. \n 
URL:https://rclstn.org/event/linda-suzo-smith-genealogy-group-2/2026-01-22/
LOCATION:Historical Research Center\, 435 Rice St\, Murfreesboro\, TN\, 37130\, United States
CATEGORIES:Club,Historical Research Center (HRC)
ATTACH;FMTTYPE=image/png:https://rclstn.org/wp-content/uploads/2025/03/unnamed.png
ORGANIZER;CN="Kayla":MAILTO:hrc@rclstn.org
END:VEVENT
BEGIN:VEVENT
DTSTART;TZID=America/Chicago:20251204T130000
DTEND;TZID=America/Chicago:20251204T150000
DTSTAMP:20260421T080338
CREATED:20251003T165120Z
LAST-MODIFIED:20251020T144604Z
UID:10020837-1764853200-1764860400@rclstn.org
SUMMARY:Linda Suzo Smith Genealogy Group
DESCRIPTION:Interested in genealogy? Want to have someone to talk to about genealogy related topics? Join us for our monthly genealogy group meeting\, where we talk all things genealogy! \nThe Linda Suzo Smith Genealogy Group meets the fourth Thursday every month from 1PM to 3PM at the Historical Research Center\, which is located inside the Rutherford County Archives. \n 
URL:https://rclstn.org/event/linda-suzo-smith-genealogy-group-2/2025-12-04/
LOCATION:Historical Research Center\, 435 Rice St\, Murfreesboro\, TN\, 37130\, United States
CATEGORIES:Club,Historical Research Center (HRC)
ATTACH;FMTTYPE=image/png:https://rclstn.org/wp-content/uploads/2025/03/unnamed.png
ORGANIZER;CN="Kayla":MAILTO:hrc@rclstn.org
END:VEVENT
BEGIN:VEVENT
DTSTART;TZID=America/Chicago:20251113T130000
DTEND;TZID=America/Chicago:20251113T140000
DTSTAMP:20260421T080338
CREATED:20251028T060019Z
LAST-MODIFIED:20251028T060019Z
UID:10021134-1763038800-1763042400@rclstn.org
SUMMARY:Family Recipe Preservation
DESCRIPTION:This is a two part program about preserving recipe cards and creating family recipe books! \nRegister by calling (615) 893-4132 or emailing hrc@rclstn.org The Historical Research Center is holding TWO special events in November for families and individuals to learn how to make sure their recipe cards last for generations to come AND how to use the cards alongside other family recipes to create a book that can be cherished and shared with loved ones. You are not required to attend both events\, but registration is required to attend! \n🥧 Part One – Preserving Recipe Cards Thursday\, November 6th from 1-2 pm \n🥣 Part Two – Creating A Recipe Book Thursday\, November 13th from 1-2 pm
URL:https://rclstn.org/event/family-recipe-preservation-2/
LOCATION:Historical Research Center\, 435 Rice St\, Murfreesboro\, TN\, 37130\, United States
CATEGORIES:Historical Research Center (HRC),Teen/Adult
ATTACH;FMTTYPE=image/png:https://rclstn.org/wp-content/uploads/2025/10/November-Events-2025-Amanda-5.png
END:VEVENT
BEGIN:VEVENT
DTSTART;TZID=America/Chicago:20251106T130000
DTEND;TZID=America/Chicago:20251106T140000
DTSTAMP:20260421T080338
CREATED:20251028T055738Z
LAST-MODIFIED:20251028T055738Z
UID:10021133-1762434000-1762437600@rclstn.org
SUMMARY:Family Recipe Preservation
DESCRIPTION:This is a two part program about preserving recipe cards and creating family recipe books! \nRegister by calling (615) 893-4132 or emailing hrc@rclstn.org The Historical Research Center is holding TWO special events in November for families and individuals to learn how to make sure their recipe cards last for generations to come AND how to use the cards alongside other family recipes to create a book that can be cherished and shared with loved ones. You are not required to attend both events\, but registration is required to attend! \n🥧 Part One – Preserving Recipe Cards Thursday\, November 6th from 1-2 pm \n🥣 Part Two – Creating A Recipe Book Thursday\, November 13th from 1-2 pm
URL:https://rclstn.org/event/family-recipe-preservation/
LOCATION:Historical Research Center\, 435 Rice St\, Murfreesboro\, TN\, 37130\, United States
CATEGORIES:Historical Research Center (HRC),Teen/Adult
ATTACH;FMTTYPE=image/png:https://rclstn.org/wp-content/uploads/2025/10/November-Events-2025-Amanda-3.png
END:VEVENT
BEGIN:VEVENT
DTSTART;TZID=America/Chicago:20251023T130000
DTEND;TZID=America/Chicago:20251023T150000
DTSTAMP:20260421T080338
CREATED:20251003T165120Z
LAST-MODIFIED:20251020T144604Z
UID:10014422-1761224400-1761231600@rclstn.org
SUMMARY:Linda Suzo Smith Genealogy Group
DESCRIPTION:Interested in genealogy? Want to have someone to talk to about genealogy related topics? Join us for our monthly genealogy group meeting\, where we talk all things genealogy! \nThe Linda Suzo Smith Genealogy Group meets the fourth Thursday every month from 1PM to 3PM at the Historical Research Center\, which is located inside the Rutherford County Archives. \n 
URL:https://rclstn.org/event/linda-suzo-smith-genealogy-group-2/2025-10-23/
LOCATION:Historical Research Center\, 435 Rice St\, Murfreesboro\, TN\, 37130\, United States
CATEGORIES:Club,Historical Research Center (HRC)
ATTACH;FMTTYPE=image/png:https://rclstn.org/wp-content/uploads/2025/03/unnamed.png
ORGANIZER;CN="Kayla":MAILTO:hrc@rclstn.org
END:VEVENT
BEGIN:VEVENT
DTSTART;TZID=America/Chicago:20251015T130000
DTEND;TZID=America/Chicago:20251015T140000
DTSTAMP:20260421T080338
CREATED:20251002T165044Z
LAST-MODIFIED:20251002T165044Z
UID:10020110-1760533200-1760536800@rclstn.org
SUMMARY:Archive Scramble
DESCRIPTION:Are you ready for a challenge? Want to test your knowledge of Rutherford County History? Join us at the Historical Research Center for our first-ever archival puzzle challenge: Archive Scramble!\n\n\nShow off what you know about the HRC and Rutherford County Archives’ different collections and items as you piece together scrambled reproductions from various archival collections and match them to their correct collection.
URL:https://rclstn.org/event/archive-scramble/
LOCATION:Historical Research Center\, 435 Rice St\, Murfreesboro\, TN\, 37130\, United States
ATTACH;FMTTYPE=image/png:https://rclstn.org/wp-content/uploads/2025/10/ArchiveScramble.png
ORGANIZER;CN="Kayla":MAILTO:hrc@rclstn.org
END:VEVENT
BEGIN:VEVENT
DTSTART;TZID=America/Chicago:20250925T130000
DTEND;TZID=America/Chicago:20250925T150000
DTSTAMP:20260421T080338
CREATED:20250311T131535Z
LAST-MODIFIED:20250314T161056Z
UID:10014421-1758805200-1758812400@rclstn.org
SUMMARY:Linda Suzo Smith Genealogy Group
DESCRIPTION:Interested in genealogy? Want to have someone to talk to about genealogy related topics? Join us for our monthly genealogy group meeting\, where we talk all things genealogy! \nThe Linda Suzo Smith Genealogy Group meets the fourth Thursday every month from 1PM to 3PM at the Historical Research Center\, which is located inside the Rutherford County Archives. \n 
URL:https://rclstn.org/event/linda-suzo-smith-genealogy-group/2025-09-25/
LOCATION:Historical Research Center\, 435 Rice St\, Murfreesboro\, TN\, 37130\, United States
CATEGORIES:Club,Historical Research Center (HRC)
ATTACH;FMTTYPE=image/png:https://rclstn.org/wp-content/uploads/2025/03/unnamed.png
ORGANIZER;CN="Kayla":MAILTO:hrc@rclstn.org
END:VEVENT
BEGIN:VEVENT
DTSTART;TZID=America/Chicago:20250904T160000
DTEND;TZID=America/Chicago:20250904T180000
DTSTAMP:20260421T080338
CREATED:20250821T203654Z
LAST-MODIFIED:20250821T205020Z
UID:10018494-1757001600-1757008800@rclstn.org
SUMMARY:Genealogy Night at HRC
DESCRIPTION:Interested in genealogy but can’t visit during normal hours? For one night only\, we’re extending our hours to help you with your genealogy questions and goals!\n \nWe can help you with: \n\nAncestry\nFamilySearch\nResearching your ancestors\nFirst Family Applications\nRetrieving copies of historical family documents from the Rutherford County Archives\nAnd more\n\nHave questions about this event? Email us at hrc@rclstn.org
URL:https://rclstn.org/event/genealogy-night-at-hrc/
LOCATION:Historical Research Center\, 435 Rice St\, Murfreesboro\, TN\, 37130\, United States
CATEGORIES:Historical Research Center (HRC)
ATTACH;FMTTYPE=image/png:https://rclstn.org/wp-content/uploads/2025/08/One-on-One-Genealogy-Sessions-Instagram-Post-45.png
END:VEVENT
BEGIN:VEVENT
DTSTART;TZID=America/Chicago:20250828T130000
DTEND;TZID=America/Chicago:20250828T150000
DTSTAMP:20260421T080339
CREATED:20250311T131535Z
LAST-MODIFIED:20250314T161056Z
UID:10014420-1756386000-1756393200@rclstn.org
SUMMARY:Linda Suzo Smith Genealogy Group
DESCRIPTION:Interested in genealogy? Want to have someone to talk to about genealogy related topics? Join us for our monthly genealogy group meeting\, where we talk all things genealogy! \nThe Linda Suzo Smith Genealogy Group meets the fourth Thursday every month from 1PM to 3PM at the Historical Research Center\, which is located inside the Rutherford County Archives. \n 
URL:https://rclstn.org/event/linda-suzo-smith-genealogy-group/2025-08-28/
LOCATION:Historical Research Center\, 435 Rice St\, Murfreesboro\, TN\, 37130\, United States
CATEGORIES:Club,Historical Research Center (HRC)
ATTACH;FMTTYPE=image/png:https://rclstn.org/wp-content/uploads/2025/03/unnamed.png
ORGANIZER;CN="Kayla":MAILTO:hrc@rclstn.org
END:VEVENT
BEGIN:VEVENT
DTSTART;TZID=America/Chicago:20250724T130000
DTEND;TZID=America/Chicago:20250724T150000
DTSTAMP:20260421T080339
CREATED:20250311T131535Z
LAST-MODIFIED:20250314T161056Z
UID:10014419-1753362000-1753369200@rclstn.org
SUMMARY:Linda Suzo Smith Genealogy Group
DESCRIPTION:Interested in genealogy? Want to have someone to talk to about genealogy related topics? Join us for our monthly genealogy group meeting\, where we talk all things genealogy! \nThe Linda Suzo Smith Genealogy Group meets the fourth Thursday every month from 1PM to 3PM at the Historical Research Center\, which is located inside the Rutherford County Archives. \n 
URL:https://rclstn.org/event/linda-suzo-smith-genealogy-group/2025-07-24/
LOCATION:Historical Research Center\, 435 Rice St\, Murfreesboro\, TN\, 37130\, United States
CATEGORIES:Club,Historical Research Center (HRC)
ATTACH;FMTTYPE=image/png:https://rclstn.org/wp-content/uploads/2025/03/unnamed.png
ORGANIZER;CN="Kayla":MAILTO:hrc@rclstn.org
END:VEVENT
BEGIN:VEVENT
DTSTART;TZID=America/Chicago:20250626T130000
DTEND;TZID=America/Chicago:20250626T150000
DTSTAMP:20260421T080339
CREATED:20250311T131535Z
LAST-MODIFIED:20250314T161056Z
UID:10014418-1750942800-1750950000@rclstn.org
SUMMARY:Linda Suzo Smith Genealogy Group
DESCRIPTION:Interested in genealogy? Want to have someone to talk to about genealogy related topics? Join us for our monthly genealogy group meeting\, where we talk all things genealogy! \nThe Linda Suzo Smith Genealogy Group meets the fourth Thursday every month from 1PM to 3PM at the Historical Research Center\, which is located inside the Rutherford County Archives. \n 
URL:https://rclstn.org/event/linda-suzo-smith-genealogy-group/2025-06-26/
LOCATION:Historical Research Center\, 435 Rice St\, Murfreesboro\, TN\, 37130\, United States
CATEGORIES:Club,Historical Research Center (HRC)
ATTACH;FMTTYPE=image/png:https://rclstn.org/wp-content/uploads/2025/03/unnamed.png
ORGANIZER;CN="Kayla":MAILTO:hrc@rclstn.org
END:VEVENT
BEGIN:VEVENT
DTSTART;TZID=America/Chicago:20250609T160000
DTEND;TZID=America/Chicago:20250609T180000
DTSTAMP:20260421T080339
CREATED:20250519T193829Z
LAST-MODIFIED:20250519T193829Z
UID:10015835-1749484800-1749492000@rclstn.org
SUMMARY:Genealogy Night @ the Library & Archives
DESCRIPTION:Have you always wanted to visit the Historical Research Center and research your family history\, but just never had the time to visit during normal business hours? Well\, now is your chance because on Monday\, June 9th\, we will be open from 8 AM to 6 PM\, for your convenience. Come check us out and do some research on your family\, or just simply come by to take a look around if you’ve never been!
URL:https://rclstn.org/event/genealogy-night-the-library-archives/
LOCATION:Historical Research Center\, 435 Rice St\, Murfreesboro\, TN\, 37130\, United States
CATEGORIES:Historical Research Center (HRC)
ATTACH;FMTTYPE=image/png:https://rclstn.org/wp-content/uploads/2025/05/One-on-One-Genealogy-Sessions-2.png
ORGANIZER;CN="Kayla":MAILTO:hrc@rclstn.org
END:VEVENT
BEGIN:VEVENT
DTSTART;TZID=America/Chicago:20250523T100000
DTEND;TZID=America/Chicago:20250523T120000
DTSTAMP:20260421T080339
CREATED:20250429T202842Z
LAST-MODIFIED:20250501T141413Z
UID:10015143-1747994400-1748001600@rclstn.org
SUMMARY:Preserving Family History: Document Preservation
DESCRIPTION:The Historical Research Center is offering a workshop with the Rutherford County Archives on how to preserve important family documents and treasures at home! We will also be giving a behind the scenes tour of the Historical Research Center and Rutherford County Archives. This workshop is being limited to 10 participants for space. Please bring a few items (1-3) to work on while you’re here. Items can range from family letters\, cards\, certificates\, or other family papers. Please do not bring anything that has sensitive information. \nPlease contact the Historical Research Center to reserve your spot today! \n 
URL:https://rclstn.org/event/preserving-family-history-document-preservation/
LOCATION:Historical Research Center\, 435 Rice St\, Murfreesboro\, TN\, 37130\, United States
CATEGORIES:Historical Research Center (HRC)
ATTACH;FMTTYPE=image/png:https://rclstn.org/wp-content/uploads/2025/04/Preserving-Family-History-11-x-8.5-in-Instagram-Post-45.png
ORGANIZER;CN="Kayla":MAILTO:hrc@rclstn.org
END:VEVENT
BEGIN:VEVENT
DTSTART;TZID=America/Chicago:20250522T130000
DTEND;TZID=America/Chicago:20250522T150000
DTSTAMP:20260421T080339
CREATED:20250311T131535Z
LAST-MODIFIED:20250314T161056Z
UID:10014417-1747918800-1747926000@rclstn.org
SUMMARY:Linda Suzo Smith Genealogy Group
DESCRIPTION:Interested in genealogy? Want to have someone to talk to about genealogy related topics? Join us for our monthly genealogy group meeting\, where we talk all things genealogy! \nThe Linda Suzo Smith Genealogy Group meets the fourth Thursday every month from 1PM to 3PM at the Historical Research Center\, which is located inside the Rutherford County Archives. \n 
URL:https://rclstn.org/event/linda-suzo-smith-genealogy-group/2025-05-22/
LOCATION:Historical Research Center\, 435 Rice St\, Murfreesboro\, TN\, 37130\, United States
CATEGORIES:Club,Historical Research Center (HRC)
ATTACH;FMTTYPE=image/png:https://rclstn.org/wp-content/uploads/2025/03/unnamed.png
ORGANIZER;CN="Kayla":MAILTO:hrc@rclstn.org
END:VEVENT
BEGIN:VEVENT
DTSTART;TZID=America/Chicago:20250521T130000
DTEND;TZID=America/Chicago:20250521T150000
DTSTAMP:20260421T080339
CREATED:20250512T124253Z
LAST-MODIFIED:20250512T154003Z
UID:10015233-1747832400-1747839600@rclstn.org
SUMMARY:Bookmobile Community Visit @ Historical Research Center
DESCRIPTION:Join us at the Historical Research Center for a special Bookmobile visit! Explore a fascinating collection of books focused on local history\, genealogy\, and archival research. Sign up for a library card\, check out materials\, and enjoy free access to Wi-Fi and library services\, all on-site. Library staff will be available to help you navigate historical research tools and discover digital resources like the Tennessee Electronic Library and Ancestry Library Edition. Whether you’re a dedicated researcher or just curious about the past\, this is a great opportunity to connect with history and your community in a convenient\, mobile format.
URL:https://rclstn.org/event/bookmobile-community-visit-historical-research-center/
LOCATION:Historical Research Center\, 435 Rice St\, Murfreesboro\, TN\, 37130\, United States
CATEGORIES:Adult,Bookmobile,Historical Research Center (HRC),Kids and Family,off-site,Outreach,Teen,Teen/Adult,Tween/Teen
ORGANIZER;CN="Mike":MAILTO:mcleaves@rclstn.org
END:VEVENT
BEGIN:VEVENT
DTSTART;TZID=America/Chicago:20250424T130000
DTEND;TZID=America/Chicago:20250424T150000
DTSTAMP:20260421T080339
CREATED:20250311T131535Z
LAST-MODIFIED:20250314T161056Z
UID:10014416-1745499600-1745506800@rclstn.org
SUMMARY:Linda Suzo Smith Genealogy Group
DESCRIPTION:Interested in genealogy? Want to have someone to talk to about genealogy related topics? Join us for our monthly genealogy group meeting\, where we talk all things genealogy! \nThe Linda Suzo Smith Genealogy Group meets the fourth Thursday every month from 1PM to 3PM at the Historical Research Center\, which is located inside the Rutherford County Archives. \n 
URL:https://rclstn.org/event/linda-suzo-smith-genealogy-group/2025-04-24/
LOCATION:Historical Research Center\, 435 Rice St\, Murfreesboro\, TN\, 37130\, United States
CATEGORIES:Club,Historical Research Center (HRC)
ATTACH;FMTTYPE=image/png:https://rclstn.org/wp-content/uploads/2025/03/unnamed.png
ORGANIZER;CN="Kayla":MAILTO:hrc@rclstn.org
END:VEVENT
BEGIN:VEVENT
DTSTART;TZID=America/Chicago:20250327T130000
DTEND;TZID=America/Chicago:20250327T150000
DTSTAMP:20260421T080339
CREATED:20250311T131535Z
LAST-MODIFIED:20250314T161056Z
UID:10014415-1743080400-1743087600@rclstn.org
SUMMARY:Linda Suzo Smith Genealogy Group
DESCRIPTION:Interested in genealogy? Want to have someone to talk to about genealogy related topics? Join us for our monthly genealogy group meeting\, where we talk all things genealogy! \nThe Linda Suzo Smith Genealogy Group meets the fourth Thursday every month from 1PM to 3PM at the Historical Research Center\, which is located inside the Rutherford County Archives. \n 
URL:https://rclstn.org/event/linda-suzo-smith-genealogy-group/2025-03-27/
LOCATION:Historical Research Center\, 435 Rice St\, Murfreesboro\, TN\, 37130\, United States
CATEGORIES:Club,Historical Research Center (HRC)
ATTACH;FMTTYPE=image/png:https://rclstn.org/wp-content/uploads/2025/03/unnamed.png
ORGANIZER;CN="Kayla":MAILTO:hrc@rclstn.org
END:VEVENT
END:VCALENDAR