BEGIN:VCALENDAR
VERSION:2.0
PRODID:-//RCLS+ - ECPv6.15.20//NONSGML v1.0//EN
CALSCALE:GREGORIAN
METHOD:PUBLISH
X-WR-CALNAME:RCLS+
X-ORIGINAL-URL:https://rclstn.org
X-WR-CALDESC:Events for RCLS+
REFRESH-INTERVAL;VALUE=DURATION:PT1H
X-Robots-Tag:noindex
X-PUBLISHED-TTL:PT1H
BEGIN:VTIMEZONE
TZID:America/Chicago
BEGIN:DAYLIGHT
TZOFFSETFROM:-0600
TZOFFSETTO:-0500
TZNAME:CDT
DTSTART:20250309T080000
END:DAYLIGHT
BEGIN:STANDARD
TZOFFSETFROM:-0500
TZOFFSETTO:-0600
TZNAME:CST
DTSTART:20251102T070000
END:STANDARD
BEGIN:DAYLIGHT
TZOFFSETFROM:-0600
TZOFFSETTO:-0500
TZNAME:CDT
DTSTART:20260308T080000
END:DAYLIGHT
BEGIN:STANDARD
TZOFFSETFROM:-0500
TZOFFSETTO:-0600
TZNAME:CST
DTSTART:20261101T070000
END:STANDARD
BEGIN:DAYLIGHT
TZOFFSETFROM:-0600
TZOFFSETTO:-0500
TZNAME:CDT
DTSTART:20270314T080000
END:DAYLIGHT
BEGIN:STANDARD
TZOFFSETFROM:-0500
TZOFFSETTO:-0600
TZNAME:CST
DTSTART:20271107T070000
END:STANDARD
END:VTIMEZONE
BEGIN:VEVENT
DTSTART;TZID=America/Chicago:20260428T180000
DTEND;TZID=America/Chicago:20260428T193000
DTSTAMP:20260425T233137
CREATED:20260425T175220Z
LAST-MODIFIED:20260425T175445Z
UID:10025627-1777399200-1777404600@rclstn.org
SUMMARY:Navigating change: Immigration legislation & advocacy in Tennessee at Smyrna Library
DESCRIPTION:Join the League of Women Voters (LWV) of Murfreesboro-Rutherford County\, co-sponsored by Statewide Organizing for\nCommunity eMpowerment (SOCM)\, for an informative presentation with the Tennessee Immigrant and Refugee Rights Coalition (TIRRC)\, a\nstatewide\, immigrant-led organization working to strengthen civic participation and advocacy. \nThis program will cover: \n\nRecent Tennessee legislation affecting immigrant and refugee communities.\nRefugee resettlement and integration in Tennessee\, including what’s happening right here in Rutherford County.\nHow YOU can take action\, from educating voters to engaging elected officials and supporting immigrant and refugee neighbors in our community.\nQ&A and open discussion.\n\nFREE AND OPEN TO THE PUBLIC. ALL ARE WELCOME! \nThis event will be hybrid\, offering attendance in person or via Zoom. Please indicate if you need a Zoom link when you register at the link below. \nRegistration Form \n 
URL:https://rclstn.org/event/navigating-change-immigration-legislation-advocacy-in-tennessee-at-smyrna-library/
LOCATION:Smyrna Public Library\, 400 Enon Springs Rd W\, Smyrna\, TN\, 37167\, United States
CATEGORIES:Adult,Smyrna Public Libary
ATTACH;FMTTYPE=image/png:https://rclstn.org/wp-content/uploads/2026/04/LWV-Immigration-Advocacy-Session-1.png
END:VEVENT
END:VCALENDAR