BEGIN:VCALENDAR
VERSION:2.0
PRODID:-//RCLS+ - ECPv6.15.20//NONSGML v1.0//EN
CALSCALE:GREGORIAN
METHOD:PUBLISH
X-ORIGINAL-URL:https://rclstn.org
X-WR-CALDESC:Events for RCLS+
REFRESH-INTERVAL;VALUE=DURATION:PT1H
X-Robots-Tag:noindex
X-PUBLISHED-TTL:PT1H
BEGIN:VTIMEZONE
TZID:America/Chicago
BEGIN:DAYLIGHT
TZOFFSETFROM:-0600
TZOFFSETTO:-0500
TZNAME:CDT
DTSTART:20240310T080000
END:DAYLIGHT
BEGIN:STANDARD
TZOFFSETFROM:-0500
TZOFFSETTO:-0600
TZNAME:CST
DTSTART:20241103T070000
END:STANDARD
BEGIN:DAYLIGHT
TZOFFSETFROM:-0600
TZOFFSETTO:-0500
TZNAME:CDT
DTSTART:20250309T080000
END:DAYLIGHT
BEGIN:STANDARD
TZOFFSETFROM:-0500
TZOFFSETTO:-0600
TZNAME:CST
DTSTART:20251102T070000
END:STANDARD
BEGIN:DAYLIGHT
TZOFFSETFROM:-0600
TZOFFSETTO:-0500
TZNAME:CDT
DTSTART:20260308T080000
END:DAYLIGHT
BEGIN:STANDARD
TZOFFSETFROM:-0500
TZOFFSETTO:-0600
TZNAME:CST
DTSTART:20261101T070000
END:STANDARD
END:VTIMEZONE
BEGIN:VEVENT
DTSTART;VALUE=DATE:20250901
DTEND;VALUE=DATE:20251206
DTSTAMP:20260422T232705
CREATED:20250925T175321Z
LAST-MODIFIED:20251117T202618Z
UID:10019953-1756684800-1764979199@rclstn.org
SUMMARY:Linebaugh Library Tween/Teen Lounge Redesign Contest
DESCRIPTION:Have you ever wanted to play Animal Crossing: Happy Home Designer or The Sims with your local government building? Love redecorating your room at home or planning your dream dorm? Do you just like interior design in general? Here’s your chance to put your skills to the test! We want your help in redesigning the tween/teen lounge here at Linebaugh. \nUse the modeling/design methods of your choice (traditional art\, 3D modeling\, dioramas\, etc.) and submit your design to us for a chance to see it come to life. You could win fabulous prizes…including gift cards & the honor of a plaque commemorating your contributions to Linebaugh Library hanging in the teen lounge for all to see! \nContest rules & submission can be found here: https://forms.gle/sHAZQmftbhFVRviE6. The section is roughly 39’6″ by 31’2″. Contact Taylor at tdavis@rclstn.org with any questions. \n\n**This contest is open to patrons aged 12-18.
URL:https://rclstn.org/event/linebaugh-library-teen-lounge-redesign-contest/
LOCATION:Linebaugh Public Library\, 105 W Vine St\, Murfreesboro\, TN\, 37130\, United States
CATEGORIES:Arts and Crafts,Linebaugh Public Library,Linebaugh Youth Services,Teen
ATTACH;FMTTYPE=image/png:https://rclstn.org/wp-content/uploads/2025/09/Teen-Lounge-Redesign-Contest-IG.png
END:VEVENT
BEGIN:VEVENT
DTSTART;TZID=America/Chicago:20251114T153000
DTEND;TZID=America/Chicago:20251114T163000
DTSTAMP:20260422T232706
CREATED:20251031T191007Z
LAST-MODIFIED:20251031T191018Z
UID:10018215-1763134200-1763137800@rclstn.org
SUMMARY:We're Board Too! Tween Board Game Club
DESCRIPTION:Tweens aged 9-12 are welcome to join us every 2nd Friday of the month for our Tween Board Game Club! We play board games\, card games\, and strategy games with new titles featured every single meeting. This club meets from 3:30-4:30pm in the 1st floor clubroom at Linebaugh Public Library. For more information\, contact Taylor at tdavis@rclstn.org. \nNo registration required. November’s game: Exploding Kittens!
URL:https://rclstn.org/event/were-board-too-tween-board-game-club-2/
LOCATION:TN
CATEGORIES:Club,Kids and Family,Linebaugh Public Library,Linebaugh Youth Services,Tween/Teen
ATTACH;FMTTYPE=image/png:https://rclstn.org/wp-content/uploads/2025/08/Were-Board-Too-Tween-BGC-Site.png
END:VEVENT
END:VCALENDAR