BEGIN:VCALENDAR
VERSION:2.0
PRODID:-//RCLS+ - ECPv6.15.20//NONSGML v1.0//EN
CALSCALE:GREGORIAN
METHOD:PUBLISH
X-WR-CALNAME:RCLS+
X-ORIGINAL-URL:https://rclstn.org
X-WR-CALDESC:Events for RCLS+
REFRESH-INTERVAL;VALUE=DURATION:PT1H
X-Robots-Tag:noindex
X-PUBLISHED-TTL:PT1H
BEGIN:VTIMEZONE
TZID:America/Chicago
BEGIN:DAYLIGHT
TZOFFSETFROM:-0600
TZOFFSETTO:-0500
TZNAME:CDT
DTSTART:20260308T080000
END:DAYLIGHT
BEGIN:STANDARD
TZOFFSETFROM:-0500
TZOFFSETTO:-0600
TZNAME:CST
DTSTART:20261101T070000
END:STANDARD
BEGIN:DAYLIGHT
TZOFFSETFROM:-0600
TZOFFSETTO:-0500
TZNAME:CDT
DTSTART:20270314T080000
END:DAYLIGHT
BEGIN:STANDARD
TZOFFSETFROM:-0500
TZOFFSETTO:-0600
TZNAME:CST
DTSTART:20271107T070000
END:STANDARD
BEGIN:DAYLIGHT
TZOFFSETFROM:-0600
TZOFFSETTO:-0500
TZNAME:CDT
DTSTART:20280312T080000
END:DAYLIGHT
BEGIN:STANDARD
TZOFFSETFROM:-0500
TZOFFSETTO:-0600
TZNAME:CST
DTSTART:20281105T070000
END:STANDARD
BEGIN:DAYLIGHT
TZOFFSETFROM:-0600
TZOFFSETTO:-0500
TZNAME:CDT
DTSTART:20290311T080000
END:DAYLIGHT
BEGIN:STANDARD
TZOFFSETFROM:-0500
TZOFFSETTO:-0600
TZNAME:CST
DTSTART:20291104T070000
END:STANDARD
END:VTIMEZONE
BEGIN:VEVENT
DTSTART;TZID=America/Chicago:20270705T130000
DTEND;TZID=America/Chicago:20270705T150000
DTSTAMP:20260421T042833
CREATED:20250506T182139Z
LAST-MODIFIED:20260416T163933Z
UID:10012839-1814792400-1814799600@rclstn.org
SUMMARY:Tech Coach 1-on-1
DESCRIPTION:Do you or someone you know need help with technology questions or using the Library’s digital resources? The TEC can help with one-on-one assistance during a TECH Coaching session.  Coaches can help patrons explore technology and increase their digital literacy. \nPlease: \n\nBring your device\nRemember to bring your log-in/password information\nAnd do remember that NO device repair is offered through RCLS
URL:https://rclstn.org/event/tech-coach-1-on-1-2/2027-07-05/
CATEGORIES:Adult,Computer/Tech Classes
ATTACH;FMTTYPE=image/png:https://rclstn.org/wp-content/uploads/2025/01/TechCoach.png
END:VEVENT
BEGIN:VEVENT
DTSTART;TZID=America/Chicago:20270712T130000
DTEND;TZID=America/Chicago:20270712T150000
DTSTAMP:20260421T042833
CREATED:20250506T182139Z
LAST-MODIFIED:20260416T163933Z
UID:10012840-1815397200-1815404400@rclstn.org
SUMMARY:Tech Coach 1-on-1
DESCRIPTION:Do you or someone you know need help with technology questions or using the Library’s digital resources? The TEC can help with one-on-one assistance during a TECH Coaching session.  Coaches can help patrons explore technology and increase their digital literacy. \nPlease: \n\nBring your device\nRemember to bring your log-in/password information\nAnd do remember that NO device repair is offered through RCLS
URL:https://rclstn.org/event/tech-coach-1-on-1-2/2027-07-12/
CATEGORIES:Adult,Computer/Tech Classes
ATTACH;FMTTYPE=image/png:https://rclstn.org/wp-content/uploads/2025/01/TechCoach.png
END:VEVENT
BEGIN:VEVENT
DTSTART;TZID=America/Chicago:20270719T130000
DTEND;TZID=America/Chicago:20270719T150000
DTSTAMP:20260421T042833
CREATED:20250506T182139Z
LAST-MODIFIED:20260416T163933Z
UID:10012841-1816002000-1816009200@rclstn.org
SUMMARY:Tech Coach 1-on-1
DESCRIPTION:Do you or someone you know need help with technology questions or using the Library’s digital resources? The TEC can help with one-on-one assistance during a TECH Coaching session.  Coaches can help patrons explore technology and increase their digital literacy. \nPlease: \n\nBring your device\nRemember to bring your log-in/password information\nAnd do remember that NO device repair is offered through RCLS
URL:https://rclstn.org/event/tech-coach-1-on-1-2/2027-07-19/
CATEGORIES:Adult,Computer/Tech Classes
ATTACH;FMTTYPE=image/png:https://rclstn.org/wp-content/uploads/2025/01/TechCoach.png
END:VEVENT
BEGIN:VEVENT
DTSTART;TZID=America/Chicago:20270726T130000
DTEND;TZID=America/Chicago:20270726T150000
DTSTAMP:20260421T042833
CREATED:20250506T182139Z
LAST-MODIFIED:20260416T163933Z
UID:10012842-1816606800-1816614000@rclstn.org
SUMMARY:Tech Coach 1-on-1
DESCRIPTION:Do you or someone you know need help with technology questions or using the Library’s digital resources? The TEC can help with one-on-one assistance during a TECH Coaching session.  Coaches can help patrons explore technology and increase their digital literacy. \nPlease: \n\nBring your device\nRemember to bring your log-in/password information\nAnd do remember that NO device repair is offered through RCLS
URL:https://rclstn.org/event/tech-coach-1-on-1-2/2027-07-26/
CATEGORIES:Adult,Computer/Tech Classes
ATTACH;FMTTYPE=image/png:https://rclstn.org/wp-content/uploads/2025/01/TechCoach.png
END:VEVENT
BEGIN:VEVENT
DTSTART;TZID=America/Chicago:20270802T130000
DTEND;TZID=America/Chicago:20270802T150000
DTSTAMP:20260421T042833
CREATED:20250506T182139Z
LAST-MODIFIED:20260416T163933Z
UID:10012843-1817211600-1817218800@rclstn.org
SUMMARY:Tech Coach 1-on-1
DESCRIPTION:Do you or someone you know need help with technology questions or using the Library’s digital resources? The TEC can help with one-on-one assistance during a TECH Coaching session.  Coaches can help patrons explore technology and increase their digital literacy. \nPlease: \n\nBring your device\nRemember to bring your log-in/password information\nAnd do remember that NO device repair is offered through RCLS
URL:https://rclstn.org/event/tech-coach-1-on-1-2/2027-08-02/
CATEGORIES:Adult,Computer/Tech Classes
ATTACH;FMTTYPE=image/png:https://rclstn.org/wp-content/uploads/2025/01/TechCoach.png
END:VEVENT
BEGIN:VEVENT
DTSTART;TZID=America/Chicago:20270809T130000
DTEND;TZID=America/Chicago:20270809T150000
DTSTAMP:20260421T042833
CREATED:20250506T182139Z
LAST-MODIFIED:20260416T163933Z
UID:10012844-1817816400-1817823600@rclstn.org
SUMMARY:Tech Coach 1-on-1
DESCRIPTION:Do you or someone you know need help with technology questions or using the Library’s digital resources? The TEC can help with one-on-one assistance during a TECH Coaching session.  Coaches can help patrons explore technology and increase their digital literacy. \nPlease: \n\nBring your device\nRemember to bring your log-in/password information\nAnd do remember that NO device repair is offered through RCLS
URL:https://rclstn.org/event/tech-coach-1-on-1-2/2027-08-09/
CATEGORIES:Adult,Computer/Tech Classes
ATTACH;FMTTYPE=image/png:https://rclstn.org/wp-content/uploads/2025/01/TechCoach.png
END:VEVENT
BEGIN:VEVENT
DTSTART;TZID=America/Chicago:20270816T130000
DTEND;TZID=America/Chicago:20270816T150000
DTSTAMP:20260421T042833
CREATED:20250506T182139Z
LAST-MODIFIED:20260416T163933Z
UID:10012845-1818421200-1818428400@rclstn.org
SUMMARY:Tech Coach 1-on-1
DESCRIPTION:Do you or someone you know need help with technology questions or using the Library’s digital resources? The TEC can help with one-on-one assistance during a TECH Coaching session.  Coaches can help patrons explore technology and increase their digital literacy. \nPlease: \n\nBring your device\nRemember to bring your log-in/password information\nAnd do remember that NO device repair is offered through RCLS
URL:https://rclstn.org/event/tech-coach-1-on-1-2/2027-08-16/
CATEGORIES:Adult,Computer/Tech Classes
ATTACH;FMTTYPE=image/png:https://rclstn.org/wp-content/uploads/2025/01/TechCoach.png
END:VEVENT
BEGIN:VEVENT
DTSTART;TZID=America/Chicago:20270823T130000
DTEND;TZID=America/Chicago:20270823T150000
DTSTAMP:20260421T042834
CREATED:20250506T182139Z
LAST-MODIFIED:20260416T163933Z
UID:10012846-1819026000-1819033200@rclstn.org
SUMMARY:Tech Coach 1-on-1
DESCRIPTION:Do you or someone you know need help with technology questions or using the Library’s digital resources? The TEC can help with one-on-one assistance during a TECH Coaching session.  Coaches can help patrons explore technology and increase their digital literacy. \nPlease: \n\nBring your device\nRemember to bring your log-in/password information\nAnd do remember that NO device repair is offered through RCLS
URL:https://rclstn.org/event/tech-coach-1-on-1-2/2027-08-23/
CATEGORIES:Adult,Computer/Tech Classes
ATTACH;FMTTYPE=image/png:https://rclstn.org/wp-content/uploads/2025/01/TechCoach.png
END:VEVENT
BEGIN:VEVENT
DTSTART;TZID=America/Chicago:20270830T130000
DTEND;TZID=America/Chicago:20270830T150000
DTSTAMP:20260421T042834
CREATED:20250506T182139Z
LAST-MODIFIED:20260416T163933Z
UID:10012847-1819630800-1819638000@rclstn.org
SUMMARY:Tech Coach 1-on-1
DESCRIPTION:Do you or someone you know need help with technology questions or using the Library’s digital resources? The TEC can help with one-on-one assistance during a TECH Coaching session.  Coaches can help patrons explore technology and increase their digital literacy. \nPlease: \n\nBring your device\nRemember to bring your log-in/password information\nAnd do remember that NO device repair is offered through RCLS
URL:https://rclstn.org/event/tech-coach-1-on-1-2/2027-08-30/
CATEGORIES:Adult,Computer/Tech Classes
ATTACH;FMTTYPE=image/png:https://rclstn.org/wp-content/uploads/2025/01/TechCoach.png
END:VEVENT
BEGIN:VEVENT
DTSTART;TZID=America/Chicago:20270906T130000
DTEND;TZID=America/Chicago:20270906T150000
DTSTAMP:20260421T042834
CREATED:20250506T182139Z
LAST-MODIFIED:20260416T163933Z
UID:10012848-1820235600-1820242800@rclstn.org
SUMMARY:Tech Coach 1-on-1
DESCRIPTION:Do you or someone you know need help with technology questions or using the Library’s digital resources? The TEC can help with one-on-one assistance during a TECH Coaching session.  Coaches can help patrons explore technology and increase their digital literacy. \nPlease: \n\nBring your device\nRemember to bring your log-in/password information\nAnd do remember that NO device repair is offered through RCLS
URL:https://rclstn.org/event/tech-coach-1-on-1-2/2027-09-06/
CATEGORIES:Adult,Computer/Tech Classes
ATTACH;FMTTYPE=image/png:https://rclstn.org/wp-content/uploads/2025/01/TechCoach.png
END:VEVENT
BEGIN:VEVENT
DTSTART;TZID=America/Chicago:20270913T130000
DTEND;TZID=America/Chicago:20270913T150000
DTSTAMP:20260421T042834
CREATED:20250506T182139Z
LAST-MODIFIED:20260416T163933Z
UID:10012849-1820840400-1820847600@rclstn.org
SUMMARY:Tech Coach 1-on-1
DESCRIPTION:Do you or someone you know need help with technology questions or using the Library’s digital resources? The TEC can help with one-on-one assistance during a TECH Coaching session.  Coaches can help patrons explore technology and increase their digital literacy. \nPlease: \n\nBring your device\nRemember to bring your log-in/password information\nAnd do remember that NO device repair is offered through RCLS
URL:https://rclstn.org/event/tech-coach-1-on-1-2/2027-09-13/
CATEGORIES:Adult,Computer/Tech Classes
ATTACH;FMTTYPE=image/png:https://rclstn.org/wp-content/uploads/2025/01/TechCoach.png
END:VEVENT
BEGIN:VEVENT
DTSTART;TZID=America/Chicago:20270920T130000
DTEND;TZID=America/Chicago:20270920T150000
DTSTAMP:20260421T042834
CREATED:20250506T182139Z
LAST-MODIFIED:20260416T163933Z
UID:10012850-1821445200-1821452400@rclstn.org
SUMMARY:Tech Coach 1-on-1
DESCRIPTION:Do you or someone you know need help with technology questions or using the Library’s digital resources? The TEC can help with one-on-one assistance during a TECH Coaching session.  Coaches can help patrons explore technology and increase their digital literacy. \nPlease: \n\nBring your device\nRemember to bring your log-in/password information\nAnd do remember that NO device repair is offered through RCLS
URL:https://rclstn.org/event/tech-coach-1-on-1-2/2027-09-20/
CATEGORIES:Adult,Computer/Tech Classes
ATTACH;FMTTYPE=image/png:https://rclstn.org/wp-content/uploads/2025/01/TechCoach.png
END:VEVENT
BEGIN:VEVENT
DTSTART;TZID=America/Chicago:20270927T130000
DTEND;TZID=America/Chicago:20270927T150000
DTSTAMP:20260421T042834
CREATED:20250506T182139Z
LAST-MODIFIED:20260416T163933Z
UID:10012851-1822050000-1822057200@rclstn.org
SUMMARY:Tech Coach 1-on-1
DESCRIPTION:Do you or someone you know need help with technology questions or using the Library’s digital resources? The TEC can help with one-on-one assistance during a TECH Coaching session.  Coaches can help patrons explore technology and increase their digital literacy. \nPlease: \n\nBring your device\nRemember to bring your log-in/password information\nAnd do remember that NO device repair is offered through RCLS
URL:https://rclstn.org/event/tech-coach-1-on-1-2/2027-09-27/
CATEGORIES:Adult,Computer/Tech Classes
ATTACH;FMTTYPE=image/png:https://rclstn.org/wp-content/uploads/2025/01/TechCoach.png
END:VEVENT
BEGIN:VEVENT
DTSTART;TZID=America/Chicago:20271004T130000
DTEND;TZID=America/Chicago:20271004T150000
DTSTAMP:20260421T042834
CREATED:20250506T182139Z
LAST-MODIFIED:20260416T163933Z
UID:10012852-1822654800-1822662000@rclstn.org
SUMMARY:Tech Coach 1-on-1
DESCRIPTION:Do you or someone you know need help with technology questions or using the Library’s digital resources? The TEC can help with one-on-one assistance during a TECH Coaching session.  Coaches can help patrons explore technology and increase their digital literacy. \nPlease: \n\nBring your device\nRemember to bring your log-in/password information\nAnd do remember that NO device repair is offered through RCLS
URL:https://rclstn.org/event/tech-coach-1-on-1-2/2027-10-04/
CATEGORIES:Adult,Computer/Tech Classes
ATTACH;FMTTYPE=image/png:https://rclstn.org/wp-content/uploads/2025/01/TechCoach.png
END:VEVENT
BEGIN:VEVENT
DTSTART;TZID=America/Chicago:20271011T130000
DTEND;TZID=America/Chicago:20271011T150000
DTSTAMP:20260421T042834
CREATED:20250506T182139Z
LAST-MODIFIED:20260416T163933Z
UID:10012853-1823259600-1823266800@rclstn.org
SUMMARY:Tech Coach 1-on-1
DESCRIPTION:Do you or someone you know need help with technology questions or using the Library’s digital resources? The TEC can help with one-on-one assistance during a TECH Coaching session.  Coaches can help patrons explore technology and increase their digital literacy. \nPlease: \n\nBring your device\nRemember to bring your log-in/password information\nAnd do remember that NO device repair is offered through RCLS
URL:https://rclstn.org/event/tech-coach-1-on-1-2/2027-10-11/
CATEGORIES:Adult,Computer/Tech Classes
ATTACH;FMTTYPE=image/png:https://rclstn.org/wp-content/uploads/2025/01/TechCoach.png
END:VEVENT
BEGIN:VEVENT
DTSTART;TZID=America/Chicago:20271018T130000
DTEND;TZID=America/Chicago:20271018T150000
DTSTAMP:20260421T042834
CREATED:20250506T182139Z
LAST-MODIFIED:20260416T163933Z
UID:10012854-1823864400-1823871600@rclstn.org
SUMMARY:Tech Coach 1-on-1
DESCRIPTION:Do you or someone you know need help with technology questions or using the Library’s digital resources? The TEC can help with one-on-one assistance during a TECH Coaching session.  Coaches can help patrons explore technology and increase their digital literacy. \nPlease: \n\nBring your device\nRemember to bring your log-in/password information\nAnd do remember that NO device repair is offered through RCLS
URL:https://rclstn.org/event/tech-coach-1-on-1-2/2027-10-18/
CATEGORIES:Adult,Computer/Tech Classes
ATTACH;FMTTYPE=image/png:https://rclstn.org/wp-content/uploads/2025/01/TechCoach.png
END:VEVENT
BEGIN:VEVENT
DTSTART;TZID=America/Chicago:20271025T130000
DTEND;TZID=America/Chicago:20271025T150000
DTSTAMP:20260421T042834
CREATED:20250506T182139Z
LAST-MODIFIED:20260416T163933Z
UID:10012855-1824469200-1824476400@rclstn.org
SUMMARY:Tech Coach 1-on-1
DESCRIPTION:Do you or someone you know need help with technology questions or using the Library’s digital resources? The TEC can help with one-on-one assistance during a TECH Coaching session.  Coaches can help patrons explore technology and increase their digital literacy. \nPlease: \n\nBring your device\nRemember to bring your log-in/password information\nAnd do remember that NO device repair is offered through RCLS
URL:https://rclstn.org/event/tech-coach-1-on-1-2/2027-10-25/
CATEGORIES:Adult,Computer/Tech Classes
ATTACH;FMTTYPE=image/png:https://rclstn.org/wp-content/uploads/2025/01/TechCoach.png
END:VEVENT
BEGIN:VEVENT
DTSTART;TZID=America/Chicago:20271101T130000
DTEND;TZID=America/Chicago:20271101T150000
DTSTAMP:20260421T042834
CREATED:20250506T182139Z
LAST-MODIFIED:20260416T163933Z
UID:10012856-1825074000-1825081200@rclstn.org
SUMMARY:Tech Coach 1-on-1
DESCRIPTION:Do you or someone you know need help with technology questions or using the Library’s digital resources? The TEC can help with one-on-one assistance during a TECH Coaching session.  Coaches can help patrons explore technology and increase their digital literacy. \nPlease: \n\nBring your device\nRemember to bring your log-in/password information\nAnd do remember that NO device repair is offered through RCLS
URL:https://rclstn.org/event/tech-coach-1-on-1-2/2027-11-01/
CATEGORIES:Adult,Computer/Tech Classes
ATTACH;FMTTYPE=image/png:https://rclstn.org/wp-content/uploads/2025/01/TechCoach.png
END:VEVENT
BEGIN:VEVENT
DTSTART;TZID=America/Chicago:20271108T130000
DTEND;TZID=America/Chicago:20271108T150000
DTSTAMP:20260421T042834
CREATED:20250506T182139Z
LAST-MODIFIED:20260416T163933Z
UID:10012857-1825678800-1825686000@rclstn.org
SUMMARY:Tech Coach 1-on-1
DESCRIPTION:Do you or someone you know need help with technology questions or using the Library’s digital resources? The TEC can help with one-on-one assistance during a TECH Coaching session.  Coaches can help patrons explore technology and increase their digital literacy. \nPlease: \n\nBring your device\nRemember to bring your log-in/password information\nAnd do remember that NO device repair is offered through RCLS
URL:https://rclstn.org/event/tech-coach-1-on-1-2/2027-11-08/
CATEGORIES:Adult,Computer/Tech Classes
ATTACH;FMTTYPE=image/png:https://rclstn.org/wp-content/uploads/2025/01/TechCoach.png
END:VEVENT
BEGIN:VEVENT
DTSTART;TZID=America/Chicago:20271115T130000
DTEND;TZID=America/Chicago:20271115T150000
DTSTAMP:20260421T042834
CREATED:20250506T182139Z
LAST-MODIFIED:20260416T163933Z
UID:10012858-1826283600-1826290800@rclstn.org
SUMMARY:Tech Coach 1-on-1
DESCRIPTION:Do you or someone you know need help with technology questions or using the Library’s digital resources? The TEC can help with one-on-one assistance during a TECH Coaching session.  Coaches can help patrons explore technology and increase their digital literacy. \nPlease: \n\nBring your device\nRemember to bring your log-in/password information\nAnd do remember that NO device repair is offered through RCLS
URL:https://rclstn.org/event/tech-coach-1-on-1-2/2027-11-15/
CATEGORIES:Adult,Computer/Tech Classes
ATTACH;FMTTYPE=image/png:https://rclstn.org/wp-content/uploads/2025/01/TechCoach.png
END:VEVENT
BEGIN:VEVENT
DTSTART;TZID=America/Chicago:20271122T130000
DTEND;TZID=America/Chicago:20271122T150000
DTSTAMP:20260421T042834
CREATED:20250506T182139Z
LAST-MODIFIED:20260416T163933Z
UID:10012859-1826888400-1826895600@rclstn.org
SUMMARY:Tech Coach 1-on-1
DESCRIPTION:Do you or someone you know need help with technology questions or using the Library’s digital resources? The TEC can help with one-on-one assistance during a TECH Coaching session.  Coaches can help patrons explore technology and increase their digital literacy. \nPlease: \n\nBring your device\nRemember to bring your log-in/password information\nAnd do remember that NO device repair is offered through RCLS
URL:https://rclstn.org/event/tech-coach-1-on-1-2/2027-11-22/
CATEGORIES:Adult,Computer/Tech Classes
ATTACH;FMTTYPE=image/png:https://rclstn.org/wp-content/uploads/2025/01/TechCoach.png
END:VEVENT
BEGIN:VEVENT
DTSTART;TZID=America/Chicago:20271129T130000
DTEND;TZID=America/Chicago:20271129T150000
DTSTAMP:20260421T042834
CREATED:20250506T182139Z
LAST-MODIFIED:20260416T163933Z
UID:10012860-1827493200-1827500400@rclstn.org
SUMMARY:Tech Coach 1-on-1
DESCRIPTION:Do you or someone you know need help with technology questions or using the Library’s digital resources? The TEC can help with one-on-one assistance during a TECH Coaching session.  Coaches can help patrons explore technology and increase their digital literacy. \nPlease: \n\nBring your device\nRemember to bring your log-in/password information\nAnd do remember that NO device repair is offered through RCLS
URL:https://rclstn.org/event/tech-coach-1-on-1-2/2027-11-29/
CATEGORIES:Adult,Computer/Tech Classes
ATTACH;FMTTYPE=image/png:https://rclstn.org/wp-content/uploads/2025/01/TechCoach.png
END:VEVENT
BEGIN:VEVENT
DTSTART;TZID=America/Chicago:20271206T130000
DTEND;TZID=America/Chicago:20271206T150000
DTSTAMP:20260421T042834
CREATED:20250506T182139Z
LAST-MODIFIED:20260416T163933Z
UID:10012861-1828098000-1828105200@rclstn.org
SUMMARY:Tech Coach 1-on-1
DESCRIPTION:Do you or someone you know need help with technology questions or using the Library’s digital resources? The TEC can help with one-on-one assistance during a TECH Coaching session.  Coaches can help patrons explore technology and increase their digital literacy. \nPlease: \n\nBring your device\nRemember to bring your log-in/password information\nAnd do remember that NO device repair is offered through RCLS
URL:https://rclstn.org/event/tech-coach-1-on-1-2/2027-12-06/
CATEGORIES:Adult,Computer/Tech Classes
ATTACH;FMTTYPE=image/png:https://rclstn.org/wp-content/uploads/2025/01/TechCoach.png
END:VEVENT
BEGIN:VEVENT
DTSTART;TZID=America/Chicago:20271213T130000
DTEND;TZID=America/Chicago:20271213T150000
DTSTAMP:20260421T042834
CREATED:20250506T182139Z
LAST-MODIFIED:20260416T163933Z
UID:10012862-1828702800-1828710000@rclstn.org
SUMMARY:Tech Coach 1-on-1
DESCRIPTION:Do you or someone you know need help with technology questions or using the Library’s digital resources? The TEC can help with one-on-one assistance during a TECH Coaching session.  Coaches can help patrons explore technology and increase their digital literacy. \nPlease: \n\nBring your device\nRemember to bring your log-in/password information\nAnd do remember that NO device repair is offered through RCLS
URL:https://rclstn.org/event/tech-coach-1-on-1-2/2027-12-13/
CATEGORIES:Adult,Computer/Tech Classes
ATTACH;FMTTYPE=image/png:https://rclstn.org/wp-content/uploads/2025/01/TechCoach.png
END:VEVENT
BEGIN:VEVENT
DTSTART;TZID=America/Chicago:20271220T130000
DTEND;TZID=America/Chicago:20271220T150000
DTSTAMP:20260421T042834
CREATED:20250506T182139Z
LAST-MODIFIED:20260416T163933Z
UID:10012863-1829307600-1829314800@rclstn.org
SUMMARY:Tech Coach 1-on-1
DESCRIPTION:Do you or someone you know need help with technology questions or using the Library’s digital resources? The TEC can help with one-on-one assistance during a TECH Coaching session.  Coaches can help patrons explore technology and increase their digital literacy. \nPlease: \n\nBring your device\nRemember to bring your log-in/password information\nAnd do remember that NO device repair is offered through RCLS
URL:https://rclstn.org/event/tech-coach-1-on-1-2/2027-12-20/
CATEGORIES:Adult,Computer/Tech Classes
ATTACH;FMTTYPE=image/png:https://rclstn.org/wp-content/uploads/2025/01/TechCoach.png
END:VEVENT
BEGIN:VEVENT
DTSTART;TZID=America/Chicago:20271227T130000
DTEND;TZID=America/Chicago:20271227T150000
DTSTAMP:20260421T042834
CREATED:20250506T182139Z
LAST-MODIFIED:20260416T163933Z
UID:10012864-1829912400-1829919600@rclstn.org
SUMMARY:Tech Coach 1-on-1
DESCRIPTION:Do you or someone you know need help with technology questions or using the Library’s digital resources? The TEC can help with one-on-one assistance during a TECH Coaching session.  Coaches can help patrons explore technology and increase their digital literacy. \nPlease: \n\nBring your device\nRemember to bring your log-in/password information\nAnd do remember that NO device repair is offered through RCLS
URL:https://rclstn.org/event/tech-coach-1-on-1-2/2027-12-27/
CATEGORIES:Adult,Computer/Tech Classes
ATTACH;FMTTYPE=image/png:https://rclstn.org/wp-content/uploads/2025/01/TechCoach.png
END:VEVENT
BEGIN:VEVENT
DTSTART;TZID=America/Chicago:20280103T130000
DTEND;TZID=America/Chicago:20280103T150000
DTSTAMP:20260421T042834
CREATED:20250506T182139Z
LAST-MODIFIED:20260416T163933Z
UID:10012865-1830517200-1830524400@rclstn.org
SUMMARY:Tech Coach 1-on-1
DESCRIPTION:Do you or someone you know need help with technology questions or using the Library’s digital resources? The TEC can help with one-on-one assistance during a TECH Coaching session.  Coaches can help patrons explore technology and increase their digital literacy. \nPlease: \n\nBring your device\nRemember to bring your log-in/password information\nAnd do remember that NO device repair is offered through RCLS
URL:https://rclstn.org/event/tech-coach-1-on-1-2/2028-01-03/
CATEGORIES:Adult,Computer/Tech Classes
ATTACH;FMTTYPE=image/png:https://rclstn.org/wp-content/uploads/2025/01/TechCoach.png
END:VEVENT
BEGIN:VEVENT
DTSTART;TZID=America/Chicago:20280110T130000
DTEND;TZID=America/Chicago:20280110T150000
DTSTAMP:20260421T042834
CREATED:20250506T182139Z
LAST-MODIFIED:20260416T163933Z
UID:10012866-1831122000-1831129200@rclstn.org
SUMMARY:Tech Coach 1-on-1
DESCRIPTION:Do you or someone you know need help with technology questions or using the Library’s digital resources? The TEC can help with one-on-one assistance during a TECH Coaching session.  Coaches can help patrons explore technology and increase their digital literacy. \nPlease: \n\nBring your device\nRemember to bring your log-in/password information\nAnd do remember that NO device repair is offered through RCLS
URL:https://rclstn.org/event/tech-coach-1-on-1-2/2028-01-10/
CATEGORIES:Adult,Computer/Tech Classes
ATTACH;FMTTYPE=image/png:https://rclstn.org/wp-content/uploads/2025/01/TechCoach.png
END:VEVENT
BEGIN:VEVENT
DTSTART;TZID=America/Chicago:20280117T130000
DTEND;TZID=America/Chicago:20280117T150000
DTSTAMP:20260421T042834
CREATED:20250506T182139Z
LAST-MODIFIED:20260416T163933Z
UID:10012867-1831726800-1831734000@rclstn.org
SUMMARY:Tech Coach 1-on-1
DESCRIPTION:Do you or someone you know need help with technology questions or using the Library’s digital resources? The TEC can help with one-on-one assistance during a TECH Coaching session.  Coaches can help patrons explore technology and increase their digital literacy. \nPlease: \n\nBring your device\nRemember to bring your log-in/password information\nAnd do remember that NO device repair is offered through RCLS
URL:https://rclstn.org/event/tech-coach-1-on-1-2/2028-01-17/
CATEGORIES:Adult,Computer/Tech Classes
ATTACH;FMTTYPE=image/png:https://rclstn.org/wp-content/uploads/2025/01/TechCoach.png
END:VEVENT
BEGIN:VEVENT
DTSTART;TZID=America/Chicago:20280124T130000
DTEND;TZID=America/Chicago:20280124T150000
DTSTAMP:20260421T042834
CREATED:20250506T182139Z
LAST-MODIFIED:20260416T163933Z
UID:10012868-1832331600-1832338800@rclstn.org
SUMMARY:Tech Coach 1-on-1
DESCRIPTION:Do you or someone you know need help with technology questions or using the Library’s digital resources? The TEC can help with one-on-one assistance during a TECH Coaching session.  Coaches can help patrons explore technology and increase their digital literacy. \nPlease: \n\nBring your device\nRemember to bring your log-in/password information\nAnd do remember that NO device repair is offered through RCLS
URL:https://rclstn.org/event/tech-coach-1-on-1-2/2028-01-24/
CATEGORIES:Adult,Computer/Tech Classes
ATTACH;FMTTYPE=image/png:https://rclstn.org/wp-content/uploads/2025/01/TechCoach.png
END:VEVENT
END:VCALENDAR