BEGIN:VCALENDAR
VERSION:2.0
PRODID:-//RCLS+ - ECPv6.15.20//NONSGML v1.0//EN
CALSCALE:GREGORIAN
METHOD:PUBLISH
X-WR-CALNAME:RCLS+
X-ORIGINAL-URL:https://rclstn.org
X-WR-CALDESC:Events for RCLS+
REFRESH-INTERVAL;VALUE=DURATION:PT1H
X-Robots-Tag:noindex
X-PUBLISHED-TTL:PT1H
BEGIN:VTIMEZONE
TZID:America/Chicago
BEGIN:DAYLIGHT
TZOFFSETFROM:-0600
TZOFFSETTO:-0500
TZNAME:CDT
DTSTART:20250309T080000
END:DAYLIGHT
BEGIN:STANDARD
TZOFFSETFROM:-0500
TZOFFSETTO:-0600
TZNAME:CST
DTSTART:20251102T070000
END:STANDARD
BEGIN:DAYLIGHT
TZOFFSETFROM:-0600
TZOFFSETTO:-0500
TZNAME:CDT
DTSTART:20260308T080000
END:DAYLIGHT
BEGIN:STANDARD
TZOFFSETFROM:-0500
TZOFFSETTO:-0600
TZNAME:CST
DTSTART:20261101T070000
END:STANDARD
BEGIN:DAYLIGHT
TZOFFSETFROM:-0600
TZOFFSETTO:-0500
TZNAME:CDT
DTSTART:20270314T080000
END:DAYLIGHT
BEGIN:STANDARD
TZOFFSETFROM:-0500
TZOFFSETTO:-0600
TZNAME:CST
DTSTART:20271107T070000
END:STANDARD
BEGIN:DAYLIGHT
TZOFFSETFROM:-0600
TZOFFSETTO:-0500
TZNAME:CDT
DTSTART:20280312T080000
END:DAYLIGHT
BEGIN:STANDARD
TZOFFSETFROM:-0500
TZOFFSETTO:-0600
TZNAME:CST
DTSTART:20281105T070000
END:STANDARD
END:VTIMEZONE
BEGIN:VEVENT
DTSTART;TZID=America/Chicago:20260612T153000
DTEND;TZID=America/Chicago:20260612T163000
DTSTAMP:20260420T151028
CREATED:20251219T173729Z
LAST-MODIFIED:20251219T173807Z
UID:10022025-1781278200-1781281800@rclstn.org
SUMMARY:We're Board Too! Tween Board Game Club @ Linebaugh
DESCRIPTION:Are you board? So are we! (The tweens\, not the teens.) Kids aged 8-12 can join us every 2nd Friday of the month from 3:30-4:30pm in the 1st floor club room to play a different game; we’ve got a mix of timeless classics and new selections. Email Taylor at tdavis@rclstn.org for more information.
URL:https://rclstn.org/event/were-board-too-tween-board-game-club-linebaugh/2026-06-12/
LOCATION:Linebaugh Public Library\, 105 W Vine St\, Murfreesboro\, TN\, 37130\, United States
CATEGORIES:Club,Kids and Family,Linebaugh Public Library,Linebaugh Youth Services,Tween/Teen
ATTACH;FMTTYPE=image/png:https://rclstn.org/wp-content/uploads/2025/12/Tween-Board-Game-RCLS-Site.png
END:VEVENT
BEGIN:VEVENT
DTSTART;TZID=America/Chicago:20260619T153000
DTEND;TZID=America/Chicago:20260619T163000
DTSTAMP:20260420T151028
CREATED:20251219T185139Z
LAST-MODIFIED:20251219T185139Z
UID:10022064-1781883000-1781886600@rclstn.org
SUMMARY:We're Board! Teen Board Game Club @ Linebaugh
DESCRIPTION:We’re Board! Are you? Teens aged 13-18 can join us every 3rd Friday from 3:30-4:30pm in the 1st club room at Linebaugh Library to test out their strategic prowess with fun and challenging board and card games. Email Taylor at tdavis@rclstn.org for more information.
URL:https://rclstn.org/event/were-board-teen-board-game-club-linebaugh/2026-06-19/
LOCATION:Linebaugh Public Library\, 105 W Vine St\, Murfreesboro\, TN\, 37130\, United States
CATEGORIES:Club,Linebaugh Public Library,Linebaugh Youth Services,Teen
ATTACH;FMTTYPE=image/png:https://rclstn.org/wp-content/uploads/2025/12/Teen-Board-Game-Club-Jan-26-IGPJ.png
END:VEVENT
BEGIN:VEVENT
DTSTART;TZID=America/Chicago:20260710T153000
DTEND;TZID=America/Chicago:20260710T163000
DTSTAMP:20260420T151028
CREATED:20251219T173729Z
LAST-MODIFIED:20251219T173807Z
UID:10022026-1783697400-1783701000@rclstn.org
SUMMARY:We're Board Too! Tween Board Game Club @ Linebaugh
DESCRIPTION:Are you board? So are we! (The tweens\, not the teens.) Kids aged 8-12 can join us every 2nd Friday of the month from 3:30-4:30pm in the 1st floor club room to play a different game; we’ve got a mix of timeless classics and new selections. Email Taylor at tdavis@rclstn.org for more information.
URL:https://rclstn.org/event/were-board-too-tween-board-game-club-linebaugh/2026-07-10/
LOCATION:Linebaugh Public Library\, 105 W Vine St\, Murfreesboro\, TN\, 37130\, United States
CATEGORIES:Club,Kids and Family,Linebaugh Public Library,Linebaugh Youth Services,Tween/Teen
ATTACH;FMTTYPE=image/png:https://rclstn.org/wp-content/uploads/2025/12/Tween-Board-Game-RCLS-Site.png
END:VEVENT
BEGIN:VEVENT
DTSTART;TZID=America/Chicago:20260717T153000
DTEND;TZID=America/Chicago:20260717T163000
DTSTAMP:20260420T151029
CREATED:20251219T185139Z
LAST-MODIFIED:20251219T185139Z
UID:10022065-1784302200-1784305800@rclstn.org
SUMMARY:We're Board! Teen Board Game Club @ Linebaugh
DESCRIPTION:We’re Board! Are you? Teens aged 13-18 can join us every 3rd Friday from 3:30-4:30pm in the 1st club room at Linebaugh Library to test out their strategic prowess with fun and challenging board and card games. Email Taylor at tdavis@rclstn.org for more information.
URL:https://rclstn.org/event/were-board-teen-board-game-club-linebaugh/2026-07-17/
LOCATION:Linebaugh Public Library\, 105 W Vine St\, Murfreesboro\, TN\, 37130\, United States
CATEGORIES:Club,Linebaugh Public Library,Linebaugh Youth Services,Teen
ATTACH;FMTTYPE=image/png:https://rclstn.org/wp-content/uploads/2025/12/Teen-Board-Game-Club-Jan-26-IGPJ.png
END:VEVENT
BEGIN:VEVENT
DTSTART;TZID=America/Chicago:20260814T153000
DTEND;TZID=America/Chicago:20260814T163000
DTSTAMP:20260420T151029
CREATED:20251219T173729Z
LAST-MODIFIED:20251219T173807Z
UID:10022027-1786721400-1786725000@rclstn.org
SUMMARY:We're Board Too! Tween Board Game Club @ Linebaugh
DESCRIPTION:Are you board? So are we! (The tweens\, not the teens.) Kids aged 8-12 can join us every 2nd Friday of the month from 3:30-4:30pm in the 1st floor club room to play a different game; we’ve got a mix of timeless classics and new selections. Email Taylor at tdavis@rclstn.org for more information.
URL:https://rclstn.org/event/were-board-too-tween-board-game-club-linebaugh/2026-08-14/
LOCATION:Linebaugh Public Library\, 105 W Vine St\, Murfreesboro\, TN\, 37130\, United States
CATEGORIES:Club,Kids and Family,Linebaugh Public Library,Linebaugh Youth Services,Tween/Teen
ATTACH;FMTTYPE=image/png:https://rclstn.org/wp-content/uploads/2025/12/Tween-Board-Game-RCLS-Site.png
END:VEVENT
BEGIN:VEVENT
DTSTART;TZID=America/Chicago:20260821T153000
DTEND;TZID=America/Chicago:20260821T163000
DTSTAMP:20260420T151029
CREATED:20251219T185139Z
LAST-MODIFIED:20251219T185139Z
UID:10022066-1787326200-1787329800@rclstn.org
SUMMARY:We're Board! Teen Board Game Club @ Linebaugh
DESCRIPTION:We’re Board! Are you? Teens aged 13-18 can join us every 3rd Friday from 3:30-4:30pm in the 1st club room at Linebaugh Library to test out their strategic prowess with fun and challenging board and card games. Email Taylor at tdavis@rclstn.org for more information.
URL:https://rclstn.org/event/were-board-teen-board-game-club-linebaugh/2026-08-21/
LOCATION:Linebaugh Public Library\, 105 W Vine St\, Murfreesboro\, TN\, 37130\, United States
CATEGORIES:Club,Linebaugh Public Library,Linebaugh Youth Services,Teen
ATTACH;FMTTYPE=image/png:https://rclstn.org/wp-content/uploads/2025/12/Teen-Board-Game-Club-Jan-26-IGPJ.png
END:VEVENT
BEGIN:VEVENT
DTSTART;TZID=America/Chicago:20260911T153000
DTEND;TZID=America/Chicago:20260911T163000
DTSTAMP:20260420T151029
CREATED:20251219T173729Z
LAST-MODIFIED:20251219T173807Z
UID:10022028-1789140600-1789144200@rclstn.org
SUMMARY:We're Board Too! Tween Board Game Club @ Linebaugh
DESCRIPTION:Are you board? So are we! (The tweens\, not the teens.) Kids aged 8-12 can join us every 2nd Friday of the month from 3:30-4:30pm in the 1st floor club room to play a different game; we’ve got a mix of timeless classics and new selections. Email Taylor at tdavis@rclstn.org for more information.
URL:https://rclstn.org/event/were-board-too-tween-board-game-club-linebaugh/2026-09-11/
LOCATION:Linebaugh Public Library\, 105 W Vine St\, Murfreesboro\, TN\, 37130\, United States
CATEGORIES:Club,Kids and Family,Linebaugh Public Library,Linebaugh Youth Services,Tween/Teen
ATTACH;FMTTYPE=image/png:https://rclstn.org/wp-content/uploads/2025/12/Tween-Board-Game-RCLS-Site.png
END:VEVENT
BEGIN:VEVENT
DTSTART;TZID=America/Chicago:20260918T153000
DTEND;TZID=America/Chicago:20260918T163000
DTSTAMP:20260420T151029
CREATED:20251219T185139Z
LAST-MODIFIED:20251219T185139Z
UID:10022067-1789745400-1789749000@rclstn.org
SUMMARY:We're Board! Teen Board Game Club @ Linebaugh
DESCRIPTION:We’re Board! Are you? Teens aged 13-18 can join us every 3rd Friday from 3:30-4:30pm in the 1st club room at Linebaugh Library to test out their strategic prowess with fun and challenging board and card games. Email Taylor at tdavis@rclstn.org for more information.
URL:https://rclstn.org/event/were-board-teen-board-game-club-linebaugh/2026-09-18/
LOCATION:Linebaugh Public Library\, 105 W Vine St\, Murfreesboro\, TN\, 37130\, United States
CATEGORIES:Club,Linebaugh Public Library,Linebaugh Youth Services,Teen
ATTACH;FMTTYPE=image/png:https://rclstn.org/wp-content/uploads/2025/12/Teen-Board-Game-Club-Jan-26-IGPJ.png
END:VEVENT
BEGIN:VEVENT
DTSTART;TZID=America/Chicago:20261009T153000
DTEND;TZID=America/Chicago:20261009T163000
DTSTAMP:20260420T151029
CREATED:20251219T173729Z
LAST-MODIFIED:20251219T173807Z
UID:10022029-1791559800-1791563400@rclstn.org
SUMMARY:We're Board Too! Tween Board Game Club @ Linebaugh
DESCRIPTION:Are you board? So are we! (The tweens\, not the teens.) Kids aged 8-12 can join us every 2nd Friday of the month from 3:30-4:30pm in the 1st floor club room to play a different game; we’ve got a mix of timeless classics and new selections. Email Taylor at tdavis@rclstn.org for more information.
URL:https://rclstn.org/event/were-board-too-tween-board-game-club-linebaugh/2026-10-09/
LOCATION:Linebaugh Public Library\, 105 W Vine St\, Murfreesboro\, TN\, 37130\, United States
CATEGORIES:Club,Kids and Family,Linebaugh Public Library,Linebaugh Youth Services,Tween/Teen
ATTACH;FMTTYPE=image/png:https://rclstn.org/wp-content/uploads/2025/12/Tween-Board-Game-RCLS-Site.png
END:VEVENT
BEGIN:VEVENT
DTSTART;TZID=America/Chicago:20261016T153000
DTEND;TZID=America/Chicago:20261016T163000
DTSTAMP:20260420T151029
CREATED:20251219T185139Z
LAST-MODIFIED:20251219T185139Z
UID:10022068-1792164600-1792168200@rclstn.org
SUMMARY:We're Board! Teen Board Game Club @ Linebaugh
DESCRIPTION:We’re Board! Are you? Teens aged 13-18 can join us every 3rd Friday from 3:30-4:30pm in the 1st club room at Linebaugh Library to test out their strategic prowess with fun and challenging board and card games. Email Taylor at tdavis@rclstn.org for more information.
URL:https://rclstn.org/event/were-board-teen-board-game-club-linebaugh/2026-10-16/
LOCATION:Linebaugh Public Library\, 105 W Vine St\, Murfreesboro\, TN\, 37130\, United States
CATEGORIES:Club,Linebaugh Public Library,Linebaugh Youth Services,Teen
ATTACH;FMTTYPE=image/png:https://rclstn.org/wp-content/uploads/2025/12/Teen-Board-Game-Club-Jan-26-IGPJ.png
END:VEVENT
BEGIN:VEVENT
DTSTART;TZID=America/Chicago:20261113T153000
DTEND;TZID=America/Chicago:20261113T163000
DTSTAMP:20260420T151029
CREATED:20251219T173729Z
LAST-MODIFIED:20251219T173807Z
UID:10022030-1794583800-1794587400@rclstn.org
SUMMARY:We're Board Too! Tween Board Game Club @ Linebaugh
DESCRIPTION:Are you board? So are we! (The tweens\, not the teens.) Kids aged 8-12 can join us every 2nd Friday of the month from 3:30-4:30pm in the 1st floor club room to play a different game; we’ve got a mix of timeless classics and new selections. Email Taylor at tdavis@rclstn.org for more information.
URL:https://rclstn.org/event/were-board-too-tween-board-game-club-linebaugh/2026-11-13/
LOCATION:Linebaugh Public Library\, 105 W Vine St\, Murfreesboro\, TN\, 37130\, United States
CATEGORIES:Club,Kids and Family,Linebaugh Public Library,Linebaugh Youth Services,Tween/Teen
ATTACH;FMTTYPE=image/png:https://rclstn.org/wp-content/uploads/2025/12/Tween-Board-Game-RCLS-Site.png
END:VEVENT
BEGIN:VEVENT
DTSTART;TZID=America/Chicago:20261120T153000
DTEND;TZID=America/Chicago:20261120T163000
DTSTAMP:20260420T151029
CREATED:20251219T185139Z
LAST-MODIFIED:20251219T185139Z
UID:10022069-1795188600-1795192200@rclstn.org
SUMMARY:We're Board! Teen Board Game Club @ Linebaugh
DESCRIPTION:We’re Board! Are you? Teens aged 13-18 can join us every 3rd Friday from 3:30-4:30pm in the 1st club room at Linebaugh Library to test out their strategic prowess with fun and challenging board and card games. Email Taylor at tdavis@rclstn.org for more information.
URL:https://rclstn.org/event/were-board-teen-board-game-club-linebaugh/2026-11-20/
LOCATION:Linebaugh Public Library\, 105 W Vine St\, Murfreesboro\, TN\, 37130\, United States
CATEGORIES:Club,Linebaugh Public Library,Linebaugh Youth Services,Teen
ATTACH;FMTTYPE=image/png:https://rclstn.org/wp-content/uploads/2025/12/Teen-Board-Game-Club-Jan-26-IGPJ.png
END:VEVENT
BEGIN:VEVENT
DTSTART;TZID=America/Chicago:20261211T153000
DTEND;TZID=America/Chicago:20261211T163000
DTSTAMP:20260420T151029
CREATED:20251219T173729Z
LAST-MODIFIED:20251219T173807Z
UID:10022031-1797003000-1797006600@rclstn.org
SUMMARY:We're Board Too! Tween Board Game Club @ Linebaugh
DESCRIPTION:Are you board? So are we! (The tweens\, not the teens.) Kids aged 8-12 can join us every 2nd Friday of the month from 3:30-4:30pm in the 1st floor club room to play a different game; we’ve got a mix of timeless classics and new selections. Email Taylor at tdavis@rclstn.org for more information.
URL:https://rclstn.org/event/were-board-too-tween-board-game-club-linebaugh/2026-12-11/
LOCATION:Linebaugh Public Library\, 105 W Vine St\, Murfreesboro\, TN\, 37130\, United States
CATEGORIES:Club,Kids and Family,Linebaugh Public Library,Linebaugh Youth Services,Tween/Teen
ATTACH;FMTTYPE=image/png:https://rclstn.org/wp-content/uploads/2025/12/Tween-Board-Game-RCLS-Site.png
END:VEVENT
BEGIN:VEVENT
DTSTART;TZID=America/Chicago:20261218T153000
DTEND;TZID=America/Chicago:20261218T163000
DTSTAMP:20260420T151029
CREATED:20251219T185139Z
LAST-MODIFIED:20251219T185139Z
UID:10022070-1797607800-1797611400@rclstn.org
SUMMARY:We're Board! Teen Board Game Club @ Linebaugh
DESCRIPTION:We’re Board! Are you? Teens aged 13-18 can join us every 3rd Friday from 3:30-4:30pm in the 1st club room at Linebaugh Library to test out their strategic prowess with fun and challenging board and card games. Email Taylor at tdavis@rclstn.org for more information.
URL:https://rclstn.org/event/were-board-teen-board-game-club-linebaugh/2026-12-18/
LOCATION:Linebaugh Public Library\, 105 W Vine St\, Murfreesboro\, TN\, 37130\, United States
CATEGORIES:Club,Linebaugh Public Library,Linebaugh Youth Services,Teen
ATTACH;FMTTYPE=image/png:https://rclstn.org/wp-content/uploads/2025/12/Teen-Board-Game-Club-Jan-26-IGPJ.png
END:VEVENT
BEGIN:VEVENT
DTSTART;TZID=America/Chicago:20270108T153000
DTEND;TZID=America/Chicago:20270108T163000
DTSTAMP:20260420T151029
CREATED:20251219T173729Z
LAST-MODIFIED:20251219T173807Z
UID:10022032-1799422200-1799425800@rclstn.org
SUMMARY:We're Board Too! Tween Board Game Club @ Linebaugh
DESCRIPTION:Are you board? So are we! (The tweens\, not the teens.) Kids aged 8-12 can join us every 2nd Friday of the month from 3:30-4:30pm in the 1st floor club room to play a different game; we’ve got a mix of timeless classics and new selections. Email Taylor at tdavis@rclstn.org for more information.
URL:https://rclstn.org/event/were-board-too-tween-board-game-club-linebaugh/2027-01-08/
LOCATION:Linebaugh Public Library\, 105 W Vine St\, Murfreesboro\, TN\, 37130\, United States
CATEGORIES:Club,Kids and Family,Linebaugh Public Library,Linebaugh Youth Services,Tween/Teen
ATTACH;FMTTYPE=image/png:https://rclstn.org/wp-content/uploads/2025/12/Tween-Board-Game-RCLS-Site.png
END:VEVENT
BEGIN:VEVENT
DTSTART;TZID=America/Chicago:20270115T153000
DTEND;TZID=America/Chicago:20270115T163000
DTSTAMP:20260420T151029
CREATED:20251219T185139Z
LAST-MODIFIED:20251219T185139Z
UID:10022071-1800027000-1800030600@rclstn.org
SUMMARY:We're Board! Teen Board Game Club @ Linebaugh
DESCRIPTION:We’re Board! Are you? Teens aged 13-18 can join us every 3rd Friday from 3:30-4:30pm in the 1st club room at Linebaugh Library to test out their strategic prowess with fun and challenging board and card games. Email Taylor at tdavis@rclstn.org for more information.
URL:https://rclstn.org/event/were-board-teen-board-game-club-linebaugh/2027-01-15/
LOCATION:Linebaugh Public Library\, 105 W Vine St\, Murfreesboro\, TN\, 37130\, United States
CATEGORIES:Club,Linebaugh Public Library,Linebaugh Youth Services,Teen
ATTACH;FMTTYPE=image/png:https://rclstn.org/wp-content/uploads/2025/12/Teen-Board-Game-Club-Jan-26-IGPJ.png
END:VEVENT
END:VCALENDAR