BEGIN:VCALENDAR
VERSION:2.0
PRODID:-//RCLS+ - ECPv6.15.20//NONSGML v1.0//EN
CALSCALE:GREGORIAN
METHOD:PUBLISH
X-WR-CALNAME:RCLS+
X-ORIGINAL-URL:https://rclstn.org
X-WR-CALDESC:Events for RCLS+
REFRESH-INTERVAL;VALUE=DURATION:PT1H
X-Robots-Tag:noindex
X-PUBLISHED-TTL:PT1H
BEGIN:VTIMEZONE
TZID:America/Chicago
BEGIN:DAYLIGHT
TZOFFSETFROM:-0600
TZOFFSETTO:-0500
TZNAME:CDT
DTSTART:20250309T080000
END:DAYLIGHT
BEGIN:STANDARD
TZOFFSETFROM:-0500
TZOFFSETTO:-0600
TZNAME:CST
DTSTART:20251102T070000
END:STANDARD
BEGIN:DAYLIGHT
TZOFFSETFROM:-0600
TZOFFSETTO:-0500
TZNAME:CDT
DTSTART:20260308T080000
END:DAYLIGHT
BEGIN:STANDARD
TZOFFSETFROM:-0500
TZOFFSETTO:-0600
TZNAME:CST
DTSTART:20261101T070000
END:STANDARD
BEGIN:DAYLIGHT
TZOFFSETFROM:-0600
TZOFFSETTO:-0500
TZNAME:CDT
DTSTART:20270314T080000
END:DAYLIGHT
BEGIN:STANDARD
TZOFFSETFROM:-0500
TZOFFSETTO:-0600
TZNAME:CST
DTSTART:20271107T070000
END:STANDARD
END:VTIMEZONE
BEGIN:VEVENT
DTSTART;TZID=America/Chicago:20260602T100000
DTEND;TZID=America/Chicago:20260602T104500
DTSTAMP:20260421T192926
CREATED:20260421T160334Z
LAST-MODIFIED:20260421T160334Z
UID:10025527-1780394400-1780397100@rclstn.org
SUMMARY:All-Ages Storytime at Linebaugh
DESCRIPTION:For our “Unearth a Story” summer reading program\, we’re sharing stories about dinosaurs\, history\, and curiosity. All-Ages Storytimes are intended for children ages 2-8 and feature a mix of stories\, songs\, and puppet shows.
URL:https://rclstn.org/event/all-ages-storytime-at-linebaugh-3/2026-06-02/
LOCATION:Linebaugh Public Library\, 105 W Vine St\, Murfreesboro\, TN\, 37130\, United States
CATEGORIES:Kids and Family,Linebaugh Public Library,Linebaugh Youth Services,Story Time
END:VEVENT
BEGIN:VEVENT
DTSTART;TZID=America/Chicago:20260603T150000
DTEND;TZID=America/Chicago:20260603T154500
DTSTAMP:20260421T192926
CREATED:20260421T160334Z
LAST-MODIFIED:20260421T160334Z
UID:10025528-1780498800-1780501500@rclstn.org
SUMMARY:All-Ages Storytime at Linebaugh
DESCRIPTION:For our “Unearth a Story” summer reading program\, we’re sharing stories about dinosaurs\, history\, and curiosity. All-Ages Storytimes are intended for children ages 2-8 and feature a mix of stories\, songs\, and puppet shows.
URL:https://rclstn.org/event/all-ages-storytime-at-linebaugh-3/2026-06-03/
LOCATION:Linebaugh Public Library\, 105 W Vine St\, Murfreesboro\, TN\, 37130\, United States
CATEGORIES:Kids and Family,Linebaugh Public Library,Linebaugh Youth Services,Story Time
END:VEVENT
BEGIN:VEVENT
DTSTART;TZID=America/Chicago:20260609T100000
DTEND;TZID=America/Chicago:20260609T104500
DTSTAMP:20260421T192926
CREATED:20260421T160334Z
LAST-MODIFIED:20260421T160334Z
UID:10025529-1780999200-1781001900@rclstn.org
SUMMARY:All-Ages Storytime at Linebaugh
DESCRIPTION:For our “Unearth a Story” summer reading program\, we’re sharing stories about dinosaurs\, history\, and curiosity. All-Ages Storytimes are intended for children ages 2-8 and feature a mix of stories\, songs\, and puppet shows.
URL:https://rclstn.org/event/all-ages-storytime-at-linebaugh-3/2026-06-09/
LOCATION:Linebaugh Public Library\, 105 W Vine St\, Murfreesboro\, TN\, 37130\, United States
CATEGORIES:Kids and Family,Linebaugh Public Library,Linebaugh Youth Services,Story Time
END:VEVENT
BEGIN:VEVENT
DTSTART;TZID=America/Chicago:20260610T150000
DTEND;TZID=America/Chicago:20260610T154500
DTSTAMP:20260421T192926
CREATED:20260421T160334Z
LAST-MODIFIED:20260421T160334Z
UID:10025530-1781103600-1781106300@rclstn.org
SUMMARY:All-Ages Storytime at Linebaugh
DESCRIPTION:For our “Unearth a Story” summer reading program\, we’re sharing stories about dinosaurs\, history\, and curiosity. All-Ages Storytimes are intended for children ages 2-8 and feature a mix of stories\, songs\, and puppet shows.
URL:https://rclstn.org/event/all-ages-storytime-at-linebaugh-3/2026-06-10/
LOCATION:Linebaugh Public Library\, 105 W Vine St\, Murfreesboro\, TN\, 37130\, United States
CATEGORIES:Kids and Family,Linebaugh Public Library,Linebaugh Youth Services,Story Time
END:VEVENT
BEGIN:VEVENT
DTSTART;TZID=America/Chicago:20260616T100000
DTEND;TZID=America/Chicago:20260616T104500
DTSTAMP:20260421T192926
CREATED:20260421T160334Z
LAST-MODIFIED:20260421T160334Z
UID:10025531-1781604000-1781606700@rclstn.org
SUMMARY:All-Ages Storytime at Linebaugh
DESCRIPTION:For our “Unearth a Story” summer reading program\, we’re sharing stories about dinosaurs\, history\, and curiosity. All-Ages Storytimes are intended for children ages 2-8 and feature a mix of stories\, songs\, and puppet shows.
URL:https://rclstn.org/event/all-ages-storytime-at-linebaugh-3/2026-06-16/
LOCATION:Linebaugh Public Library\, 105 W Vine St\, Murfreesboro\, TN\, 37130\, United States
CATEGORIES:Kids and Family,Linebaugh Public Library,Linebaugh Youth Services,Story Time
END:VEVENT
BEGIN:VEVENT
DTSTART;TZID=America/Chicago:20260617T150000
DTEND;TZID=America/Chicago:20260617T154500
DTSTAMP:20260421T192926
CREATED:20260421T160334Z
LAST-MODIFIED:20260421T160334Z
UID:10025532-1781708400-1781711100@rclstn.org
SUMMARY:All-Ages Storytime at Linebaugh
DESCRIPTION:For our “Unearth a Story” summer reading program\, we’re sharing stories about dinosaurs\, history\, and curiosity. All-Ages Storytimes are intended for children ages 2-8 and feature a mix of stories\, songs\, and puppet shows.
URL:https://rclstn.org/event/all-ages-storytime-at-linebaugh-3/2026-06-17/
LOCATION:Linebaugh Public Library\, 105 W Vine St\, Murfreesboro\, TN\, 37130\, United States
CATEGORIES:Kids and Family,Linebaugh Public Library,Linebaugh Youth Services,Story Time
END:VEVENT
BEGIN:VEVENT
DTSTART;TZID=America/Chicago:20260623T100000
DTEND;TZID=America/Chicago:20260623T104500
DTSTAMP:20260421T192926
CREATED:20260421T160334Z
LAST-MODIFIED:20260421T160334Z
UID:10025533-1782208800-1782211500@rclstn.org
SUMMARY:All-Ages Storytime at Linebaugh
DESCRIPTION:For our “Unearth a Story” summer reading program\, we’re sharing stories about dinosaurs\, history\, and curiosity. All-Ages Storytimes are intended for children ages 2-8 and feature a mix of stories\, songs\, and puppet shows.
URL:https://rclstn.org/event/all-ages-storytime-at-linebaugh-3/2026-06-23/
LOCATION:Linebaugh Public Library\, 105 W Vine St\, Murfreesboro\, TN\, 37130\, United States
CATEGORIES:Kids and Family,Linebaugh Public Library,Linebaugh Youth Services,Story Time
END:VEVENT
BEGIN:VEVENT
DTSTART;TZID=America/Chicago:20260624T150000
DTEND;TZID=America/Chicago:20260624T154500
DTSTAMP:20260421T192927
CREATED:20260421T160334Z
LAST-MODIFIED:20260421T160334Z
UID:10025534-1782313200-1782315900@rclstn.org
SUMMARY:All-Ages Storytime at Linebaugh
DESCRIPTION:For our “Unearth a Story” summer reading program\, we’re sharing stories about dinosaurs\, history\, and curiosity. All-Ages Storytimes are intended for children ages 2-8 and feature a mix of stories\, songs\, and puppet shows.
URL:https://rclstn.org/event/all-ages-storytime-at-linebaugh-3/2026-06-24/
LOCATION:Linebaugh Public Library\, 105 W Vine St\, Murfreesboro\, TN\, 37130\, United States
CATEGORIES:Kids and Family,Linebaugh Public Library,Linebaugh Youth Services,Story Time
END:VEVENT
BEGIN:VEVENT
DTSTART;TZID=America/Chicago:20260630T100000
DTEND;TZID=America/Chicago:20260630T104500
DTSTAMP:20260421T192927
CREATED:20260421T160334Z
LAST-MODIFIED:20260421T160334Z
UID:10025535-1782813600-1782816300@rclstn.org
SUMMARY:All-Ages Storytime at Linebaugh
DESCRIPTION:For our “Unearth a Story” summer reading program\, we’re sharing stories about dinosaurs\, history\, and curiosity. All-Ages Storytimes are intended for children ages 2-8 and feature a mix of stories\, songs\, and puppet shows.
URL:https://rclstn.org/event/all-ages-storytime-at-linebaugh-3/2026-06-30/
LOCATION:Linebaugh Public Library\, 105 W Vine St\, Murfreesboro\, TN\, 37130\, United States
CATEGORIES:Kids and Family,Linebaugh Public Library,Linebaugh Youth Services,Story Time
END:VEVENT
BEGIN:VEVENT
DTSTART;TZID=America/Chicago:20260701T150000
DTEND;TZID=America/Chicago:20260701T154500
DTSTAMP:20260421T192927
CREATED:20260421T160334Z
LAST-MODIFIED:20260421T160334Z
UID:10025536-1782918000-1782920700@rclstn.org
SUMMARY:All-Ages Storytime at Linebaugh
DESCRIPTION:For our “Unearth a Story” summer reading program\, we’re sharing stories about dinosaurs\, history\, and curiosity. All-Ages Storytimes are intended for children ages 2-8 and feature a mix of stories\, songs\, and puppet shows.
URL:https://rclstn.org/event/all-ages-storytime-at-linebaugh-3/2026-07-01/
LOCATION:Linebaugh Public Library\, 105 W Vine St\, Murfreesboro\, TN\, 37130\, United States
CATEGORIES:Kids and Family,Linebaugh Public Library,Linebaugh Youth Services,Story Time
END:VEVENT
BEGIN:VEVENT
DTSTART;TZID=America/Chicago:20260707T100000
DTEND;TZID=America/Chicago:20260707T104500
DTSTAMP:20260421T192927
CREATED:20260421T160334Z
LAST-MODIFIED:20260421T160334Z
UID:10025537-1783418400-1783421100@rclstn.org
SUMMARY:All-Ages Storytime at Linebaugh
DESCRIPTION:For our “Unearth a Story” summer reading program\, we’re sharing stories about dinosaurs\, history\, and curiosity. All-Ages Storytimes are intended for children ages 2-8 and feature a mix of stories\, songs\, and puppet shows.
URL:https://rclstn.org/event/all-ages-storytime-at-linebaugh-3/2026-07-07/
LOCATION:Linebaugh Public Library\, 105 W Vine St\, Murfreesboro\, TN\, 37130\, United States
CATEGORIES:Kids and Family,Linebaugh Public Library,Linebaugh Youth Services,Story Time
END:VEVENT
BEGIN:VEVENT
DTSTART;TZID=America/Chicago:20260708T150000
DTEND;TZID=America/Chicago:20260708T154500
DTSTAMP:20260421T192927
CREATED:20260421T160334Z
LAST-MODIFIED:20260421T160334Z
UID:10025538-1783522800-1783525500@rclstn.org
SUMMARY:All-Ages Storytime at Linebaugh
DESCRIPTION:For our “Unearth a Story” summer reading program\, we’re sharing stories about dinosaurs\, history\, and curiosity. All-Ages Storytimes are intended for children ages 2-8 and feature a mix of stories\, songs\, and puppet shows.
URL:https://rclstn.org/event/all-ages-storytime-at-linebaugh-3/2026-07-08/
LOCATION:Linebaugh Public Library\, 105 W Vine St\, Murfreesboro\, TN\, 37130\, United States
CATEGORIES:Kids and Family,Linebaugh Public Library,Linebaugh Youth Services,Story Time
END:VEVENT
BEGIN:VEVENT
DTSTART;TZID=America/Chicago:20260714T100000
DTEND;TZID=America/Chicago:20260714T104500
DTSTAMP:20260421T192927
CREATED:20260421T160334Z
LAST-MODIFIED:20260421T160334Z
UID:10025539-1784023200-1784025900@rclstn.org
SUMMARY:All-Ages Storytime at Linebaugh
DESCRIPTION:For our “Unearth a Story” summer reading program\, we’re sharing stories about dinosaurs\, history\, and curiosity. All-Ages Storytimes are intended for children ages 2-8 and feature a mix of stories\, songs\, and puppet shows.
URL:https://rclstn.org/event/all-ages-storytime-at-linebaugh-3/2026-07-14/
LOCATION:Linebaugh Public Library\, 105 W Vine St\, Murfreesboro\, TN\, 37130\, United States
CATEGORIES:Kids and Family,Linebaugh Public Library,Linebaugh Youth Services,Story Time
END:VEVENT
END:VCALENDAR