BEGIN:VCALENDAR
VERSION:2.0
PRODID:-//RCLS+ - ECPv6.15.20//NONSGML v1.0//EN
CALSCALE:GREGORIAN
METHOD:PUBLISH
X-WR-CALNAME:RCLS+
X-ORIGINAL-URL:https://rclstn.org
X-WR-CALDESC:Events for RCLS+
REFRESH-INTERVAL;VALUE=DURATION:PT1H
X-Robots-Tag:noindex
X-PUBLISHED-TTL:PT1H
BEGIN:VTIMEZONE
TZID:America/Chicago
BEGIN:DAYLIGHT
TZOFFSETFROM:-0600
TZOFFSETTO:-0500
TZNAME:CDT
DTSTART:20240310T080000
END:DAYLIGHT
BEGIN:STANDARD
TZOFFSETFROM:-0500
TZOFFSETTO:-0600
TZNAME:CST
DTSTART:20241103T070000
END:STANDARD
BEGIN:DAYLIGHT
TZOFFSETFROM:-0600
TZOFFSETTO:-0500
TZNAME:CDT
DTSTART:20250309T080000
END:DAYLIGHT
BEGIN:STANDARD
TZOFFSETFROM:-0500
TZOFFSETTO:-0600
TZNAME:CST
DTSTART:20251102T070000
END:STANDARD
BEGIN:DAYLIGHT
TZOFFSETFROM:-0600
TZOFFSETTO:-0500
TZNAME:CDT
DTSTART:20260308T080000
END:DAYLIGHT
BEGIN:STANDARD
TZOFFSETFROM:-0500
TZOFFSETTO:-0600
TZNAME:CST
DTSTART:20261101T070000
END:STANDARD
END:VTIMEZONE
BEGIN:VEVENT
DTSTART;TZID=America/Chicago:20250902T160000
DTEND;TZID=America/Chicago:20250902T180000
DTSTAMP:20260423T000552
CREATED:20250108T201018Z
LAST-MODIFIED:20251003T141142Z
UID:10007500-1756828800-1756836000@rclstn.org
SUMMARY:HiSet (GED) Classes
DESCRIPTION:Orientations are held every Monday at 1:00 pm at the Tennessee College of Applied Technology (TCAT)\, 663 Ken Pilkerton Drive\, Smyrna\, TN 37167\nCall 931-237-6443 for information.
URL:https://rclstn.org/event/hiset-ged-classes-4/2025-09-02/
LOCATION:Technology Engagement Center\, 306 Minerva Drive\, Murfreesboro\, TN\, 37130\, United States
CATEGORIES:Class,Technology Engagement Center (TEC)
ATTACH;FMTTYPE=image/png:https://rclstn.org/wp-content/uploads/2024/03/updated-May2023.png
ORGANIZER;CN="Lee":MAILTO:hcurtis@rclstn.org
END:VEVENT
BEGIN:VEVENT
DTSTART;TZID=America/Chicago:20250902T160000
DTEND;TZID=America/Chicago:20250902T160000
DTSTAMP:20260423T000552
CREATED:20250802T175852Z
LAST-MODIFIED:20250806T001638Z
UID:10017000-1756828800-1756828800@rclstn.org
SUMMARY:Teen Creative Writing Club: Literary Elements
DESCRIPTION:Tuesday\, August 5th: Literary Elements – Introduction \nTuesday\, September 2nd: Literary Elements – Character \nTuesday\, October : Literary Elements – Dialogue \nTuesday\, November : Literary Elements – Setting \n\nTuesday\, December: Literary Elements – Plot \n\nCome share your writing with other creative teens & learn new skills to improve your technique! 1st Tuesday sessions are dedicated to a more focused look at creative writing and feature a presentation centered around certain aspects of the craft\, as well as take-home activities & in-session writing practice. \nThis fall\, we’ll be discussing different literary elements. All proficiencies welcome; ages 12-18 only. Teen Creative Writing Club meets every 1st and 3rd Tuesday of the month from 4-5:30pm in the 1st floor clubroom at Linebaugh. \n\n\nEmail Taylor at tdavis@rclstn.org for more information.
URL:https://rclstn.org/event/teen-creative-writing-club/2025-09-02/
LOCATION:Linebaugh Public Library\, 105 W Vine St\, Murfreesboro\, TN\, 37130\, United States
CATEGORIES:Club,Linebaugh Public Library,Linebaugh Youth Services,Teen,Writing Group
ATTACH;FMTTYPE=image/png:https://rclstn.org/wp-content/uploads/2025/08/Peachjar_Fall-25-Teen-CWC-rec.png
END:VEVENT
BEGIN:VEVENT
DTSTART;TZID=America/Chicago:20250902T143000
DTEND;TZID=America/Chicago:20250902T153000
DTSTAMP:20260423T000552
CREATED:20250819T193920Z
LAST-MODIFIED:20251003T141040Z
UID:10003754-1756823400-1756827000@rclstn.org
SUMMARY:Computer Basics
DESCRIPTION:Free computer classes @ the TEC! Come learn basic computer skills\, Windows 10\, Google Docs\, Microsoft Office\, Excel\, PowerPoint and more with self-paced modules and guided instruction. \nThis class\, which is taught by Workforce Essentials\, is for Adults. \nFor more information contact: mamaro@workforceessentials.com
URL:https://rclstn.org/event/computer-basics-2-2-2/2025-09-02/
LOCATION:Technology Engagement Center\, 306 Minerva Drive\, Murfreesboro\, TN\, 37130\, United States
CATEGORIES:Adult,Class,Computer/Tech Classes,Technology Engagement Center (TEC)
ATTACH;FMTTYPE=image/png:https://rclstn.org/wp-content/uploads/2024/12/for-TEC-Grafitti-sign.png
END:VEVENT
BEGIN:VEVENT
DTSTART;TZID=America/Chicago:20250902T130000
DTEND;TZID=America/Chicago:20250902T140000
DTSTAMP:20260423T000552
CREATED:20250812T192015Z
LAST-MODIFIED:20251029T163013Z
UID:10018106-1756818000-1756821600@rclstn.org
SUMMARY:READing with Lucas at MGL Library
DESCRIPTION:Join us for READing with Lucas every Tuesday at 1pm at MGL Library! Lucas loves pets and belly rubs- and having a story read to him! Sign up by calling or visiting the library. All ages are welcome! \nMGL Library is proud to participate in the Reading Education Assistance Dogs (R.E.A.D) READing Paws Program. This program is dedicated to improving the reading skills of children using registered therapy teams as literacy mentors. \nMGL Library is located inside of Patterson Park Community Center.
URL:https://rclstn.org/event/reading-with-lucas-at-mgl-library/2025-09-02/
LOCATION:MGL\, 521 Dr. Martin Luther King Blvd\, Murfreesboro\, TN\, 37130\, United States
CATEGORIES:Book Group,MGL Youth Services,Myrtle-Glanton Lord (MGL) Library,Story Time
ATTACH;FMTTYPE=image/png:https://rclstn.org/wp-content/uploads/2025/08/MGL_Read-with-Lucas_SEP-2025.png
END:VEVENT
BEGIN:VEVENT
DTSTART;TZID=America/Chicago:20250902T113000
DTEND;TZID=America/Chicago:20250902T120000
DTSTAMP:20260423T000552
CREATED:20250812T172105Z
LAST-MODIFIED:20251223T163129Z
UID:10017932-1756812600-1756814400@rclstn.org
SUMMARY:Tiny TEC
DESCRIPTION:Join us for our Tiny TEC program\, specially designed for children aged 2-4! Each week\, we will dive into colorful picture books and participate in fun\, hands-on science activities inspired by the stories. From exploring textures to simple experiments\, this program nurtures curiosity\, sparks imagination\, and encourages early literacy and scientific thinking. Come discover\, learn\, and play with us—where every page turn is a new adventure! \nTiny TEC is held every Tuesday at 11:30 am and is free and open to the public.
URL:https://rclstn.org/event/tiny-tec/2025-09-02/
LOCATION:Technology Engagement Center\, 306 Minerva Drive\, Murfreesboro\, TN\, 37130\, United States
CATEGORIES:Kids and Family,TEC Youth Services,Technology Engagement Center (TEC)
ATTACH;FMTTYPE=image/png:https://rclstn.org/wp-content/uploads/2025/08/TEC_Recurring-Events-Flyers-1-1.png
ORGANIZER;CN="Lee":MAILTO:hcurtis@rclstn.org
END:VEVENT
BEGIN:VEVENT
DTSTART;TZID=America/Chicago:20250902T100000
DTEND;TZID=America/Chicago:20250902T120000
DTSTAMP:20260423T000552
CREATED:20250108T200921Z
LAST-MODIFIED:20251003T140838Z
UID:10005401-1756807200-1756814400@rclstn.org
SUMMARY:HiSet (GED) Class
DESCRIPTION:Orientations are held every Monday at 1:00 pm at the Tennessee College of Applied Technology (TCAT)\, 663 Ken Pilkerton Drive\, Smyrna\, TN 37167\nCall 931-237-6443 for information.
URL:https://rclstn.org/event/hiset-ged-class-2/2025-09-02/
LOCATION:Technology Engagement Center\, 306 Minerva Drive\, Murfreesboro\, TN\, 37130\, United States
CATEGORIES:Adult,Class,Technology Engagement Center (TEC)
ATTACH;FMTTYPE=image/png:https://rclstn.org/wp-content/uploads/2024/03/updated-May2023.png
ORGANIZER;CN="Lee":MAILTO:hcurtis@rclstn.org
END:VEVENT
BEGIN:VEVENT
DTSTART;TZID=America/Chicago:20250902T100000
DTEND;TZID=America/Chicago:20250902T104500
DTSTAMP:20260423T000552
CREATED:20251105T161605Z
LAST-MODIFIED:20251105T170044Z
UID:10021215-1756807200-1756809900@rclstn.org
SUMMARY:All-Ages Storytime at Linebaugh
DESCRIPTION:This year’s All-Ages Storytime theme is “A is for All!” with a focus on Fry’s sight words list. Every Tuesday and Wednesday at 10 am we’ll have storytimes full of engaging stories\, silly songs\, a puppet show\, and a craft!
URL:https://rclstn.org/event/all-ages-storytime-at-linebaugh-2/2025-09-02/
LOCATION:Linebaugh Public Library\, 105 W Vine St\, Murfreesboro\, TN\, 37130\, United States
END:VEVENT
BEGIN:VEVENT
DTSTART;TZID=America/Chicago:20250901T130000
DTEND;TZID=America/Chicago:20250901T150000
DTSTAMP:20260423T000552
CREATED:20250506T182139Z
LAST-MODIFIED:20260416T163933Z
UID:10024800-1756731600-1756738800@rclstn.org
SUMMARY:Tech Coach 1-on-1
DESCRIPTION:Do you or someone you know need help with technology questions or using the Library’s digital resources? The TEC can help with one-on-one assistance during a TECH Coaching session.  Coaches can help patrons explore technology and increase their digital literacy. \nPlease: \n\nBring your device\nRemember to bring your log-in/password information\nAnd do remember that NO device repair is offered through RCLS
URL:https://rclstn.org/event/tech-coach-1-on-1-2/2025-09-01/
LOCATION:TN
CATEGORIES:Adult,Computer/Tech Classes
ATTACH;FMTTYPE=image/png:https://rclstn.org/wp-content/uploads/2025/01/TechCoach.png
END:VEVENT
BEGIN:VEVENT
DTSTART;VALUE=DATE:20250901
DTEND;VALUE=DATE:20250902
DTSTAMP:20260423T000552
CREATED:20250726T213808Z
LAST-MODIFIED:20250726T213808Z
UID:10016671-1756684800-1756771199@rclstn.org
SUMMARY:CLOSED for Labor Day
DESCRIPTION:All branches of RCLS will be CLOSED on Monday\, September 1st for Labor Day
URL:https://rclstn.org/event/closed-for-labor-day/
LOCATION:TN
END:VEVENT
BEGIN:VEVENT
DTSTART;TZID=America/Chicago:20250830T100000
DTEND;TZID=America/Chicago:20250830T150000
DTSTAMP:20260423T000552
CREATED:20250806T225531Z
LAST-MODIFIED:20250807T195744Z
UID:10017026-1756548000-1756566000@rclstn.org
SUMMARY:Bookmobile at the Hummingbird Festival
DESCRIPTION:The Bookmobile will be hanging out at Barfield Crescent Park’s Wilderness Station for the Hummingbird Festival!
URL:https://rclstn.org/event/bookmobile-at-the-hummingbird-festival/
LOCATION:Barfield Crescent Park\, 697 Veterans Pkwy\, Murfreesboro\, TN\, 37128\, United States
CATEGORIES:Bookmobile
ATTACH;FMTTYPE=image/png:https://rclstn.org/wp-content/uploads/2025/08/August-Events-2025-11.png
END:VEVENT
BEGIN:VEVENT
DTSTART;TZID=America/Chicago:20250829T130000
DTEND;TZID=America/Chicago:20250829T140000
DTSTAMP:20260423T000552
CREATED:20250717T184458Z
LAST-MODIFIED:20260417T174953Z
UID:10016315-1756472400-1756476000@rclstn.org
SUMMARY:Chair Yoga at Smyrna Library
DESCRIPTION:Chair Yoga is an exercise and stretch class designed to be done with the support of a chair. It’s an ideal exercise for those who don’t want to get on the floor or who can benefit from a chair to support their balance. It’s typically practiced by older adults or people recovering from injuries. Try it out for free at Smyrna Public Library!
URL:https://rclstn.org/event/chair-yoga-at-smyrna-library-2/2025-08-29/
LOCATION:Smyrna Public Library\, 400 Enon Springs Rd W\, Smyrna\, TN\, 37167\, United States
CATEGORIES:Adult,Class,Kids and Family,Smyrna Public Libary,Teen,Teen/Adult,Tween/Teen
ATTACH;FMTTYPE=image/png:https://rclstn.org/wp-content/uploads/2025/07/All-Ages-Chair-Yoga-Fridays-1.png
END:VEVENT
BEGIN:VEVENT
DTSTART;TZID=America/Chicago:20250829T100000
DTEND;TZID=America/Chicago:20250829T120000
DTSTAMP:20260423T000552
CREATED:20250725T193757Z
LAST-MODIFIED:20250725T202512Z
UID:10016647-1756461600-1756468800@rclstn.org
SUMMARY:One on One Tech Help at Linebaugh Public Library
DESCRIPTION:Need some one on one help with your phone or computer? Need to make a resume? Come to One on One Tech Help! Free and open to the public\, no reservation required.
URL:https://rclstn.org/event/one-on-one-tech-help-at-linebaugh-public-library/2025-08-29/
LOCATION:Linebaugh Public Library\, 105 W Vine St\, Murfreesboro\, TN\, 37130\, United States
CATEGORIES:Computer/Tech Classes,Linebaugh Public Library
ATTACH;FMTTYPE=image/png:https://rclstn.org/wp-content/uploads/2025/07/2025-august-computer-classes.png
ORGANIZER;CN="Trey":MAILTO:tgwinn@rclstn.org
END:VEVENT
BEGIN:VEVENT
DTSTART;TZID=America/Chicago:20250828T160000
DTEND;TZID=America/Chicago:20250828T180000
DTSTAMP:20260423T000552
CREATED:20250108T195541Z
LAST-MODIFIED:20251003T142222Z
UID:10007769-1756396800-1756404000@rclstn.org
SUMMARY:HiSet (GED) Classes
DESCRIPTION:Orientations are held every Monday at 1:00 pm at the Tennessee College of Applied Technology (TCAT)\, 663 Ken Pilkerton Drive\, Smyrna\, TN 37167\nCall 931-237-6443 for information.
URL:https://rclstn.org/event/hiset-ged-classes-3-2/2025-08-28/
LOCATION:Technology Engagement Center\, 306 Minerva Drive\, Murfreesboro\, TN\, 37130\, United States
CATEGORIES:Class,Technology Engagement Center (TEC)
ATTACH;FMTTYPE=image/png:https://rclstn.org/wp-content/uploads/2024/03/updated-May2023-1.png
ORGANIZER;CN="Lee":MAILTO:hcurtis@rclstn.org
END:VEVENT
BEGIN:VEVENT
DTSTART;TZID=America/Chicago:20250828T150000
DTEND;TZID=America/Chicago:20250828T160000
DTSTAMP:20260423T000552
CREATED:20250725T195303Z
LAST-MODIFIED:20250725T201959Z
UID:10016664-1756393200-1756396800@rclstn.org
SUMMARY:Canva Basics at Technology Engagement Center
DESCRIPTION:Need to make a flyer? Materials for a class? Printable designs for scrapbooking? Canva can do it! Come learn the basics of this powerful design web-based platform.
URL:https://rclstn.org/event/canva-basics-at-technology-engagement-center/
LOCATION:Technology Engagement Center\, 306 Minerva Drive\, Murfreesboro\, TN\, 37130\, United States
CATEGORIES:Computer/Tech Classes,Technology Engagement Center (TEC)
ATTACH;FMTTYPE=image/png:https://rclstn.org/wp-content/uploads/2025/07/2025-august-computer-classes-1.png
ORGANIZER;CN="Trey":MAILTO:tgwinn@rclstn.org
END:VEVENT
BEGIN:VEVENT
DTSTART;TZID=America/Chicago:20250828T130000
DTEND;TZID=America/Chicago:20250828T150000
DTSTAMP:20260423T000552
CREATED:20250311T131535Z
LAST-MODIFIED:20250314T161056Z
UID:10014420-1756386000-1756393200@rclstn.org
SUMMARY:Linda Suzo Smith Genealogy Group
DESCRIPTION:Interested in genealogy? Want to have someone to talk to about genealogy related topics? Join us for our monthly genealogy group meeting\, where we talk all things genealogy! \nThe Linda Suzo Smith Genealogy Group meets the fourth Thursday every month from 1PM to 3PM at the Historical Research Center\, which is located inside the Rutherford County Archives. \n 
URL:https://rclstn.org/event/linda-suzo-smith-genealogy-group/2025-08-28/
LOCATION:Historical Research Center\, 435 Rice St\, Murfreesboro\, TN\, 37130\, United States
CATEGORIES:Club,Historical Research Center (HRC)
ATTACH;FMTTYPE=image/png:https://rclstn.org/wp-content/uploads/2025/03/unnamed.png
ORGANIZER;CN="Kayla":MAILTO:hrc@rclstn.org
END:VEVENT
BEGIN:VEVENT
DTSTART;TZID=America/Chicago:20250828T100000
DTEND;TZID=America/Chicago:20250828T120000
DTSTAMP:20260423T000552
CREATED:20250108T195921Z
LAST-MODIFIED:20251003T142136Z
UID:10005922-1756375200-1756382400@rclstn.org
SUMMARY:HiSet (GED) Classes
DESCRIPTION:Orientations are held every Monday at 1:00 pm at the Tennessee College of Applied Technology (TCAT)\, 663 Ken Pilkerton Drive\, Smyrna\, TN 37167\nCall 931-237-6443 for information.
URL:https://rclstn.org/event/hiset-ged-classes-2-2/2025-08-28/
LOCATION:Technology Engagement Center\, 306 Minerva Drive\, Murfreesboro\, TN\, 37130\, United States
CATEGORIES:Class,Technology Engagement Center (TEC)
ATTACH;FMTTYPE=image/png:https://rclstn.org/wp-content/uploads/2024/03/updated-May2023.png
ORGANIZER;CN="Lee":MAILTO:hcurtis@rclstn.org
END:VEVENT
BEGIN:VEVENT
DTSTART;TZID=America/Chicago:20250828T100000
DTEND;TZID=America/Chicago:20250828T100000
DTSTAMP:20260423T000552
CREATED:20250717T185023Z
LAST-MODIFIED:20260414T182315Z
UID:10016346-1756375200-1756375200@rclstn.org
SUMMARY:Baby Time at Smyrna Public Library
DESCRIPTION:Join us for Baby Time at Smyrna Public Library on Thursdays at 10:00 am. Baby Time is a story time adventure designed for caregivers and babies aged 0-24 months. Snuggle up for a gentle story\, interactive rhymes\, singing and sensory play in a supportive environment that fosters early literacy and bonding. Programs close 10 minutes after start time.
URL:https://rclstn.org/event/baby-time-at-smyrna-public-library-2-2/2025-08-28/
LOCATION:Smyrna Public Library\, 400 Enon Springs Rd W\, Smyrna\, TN\, 37167\, United States
CATEGORIES:Kids and Family,Smyrna Public Libary,Smyrna Youth Services,Story Time
ATTACH;FMTTYPE=image/jpeg:https://rclstn.org/wp-content/uploads/2024/08/smy_baby-time-whale-4.jpg
ORGANIZER;CN="Smyrna Youth Services":MAILTO:smyrnays@rclstn.org
END:VEVENT
BEGIN:VEVENT
DTSTART;TZID=America/Chicago:20250827T180000
DTEND;TZID=America/Chicago:20250827T190000
DTSTAMP:20260423T000552
CREATED:20250114T174248Z
LAST-MODIFIED:20251011T174250Z
UID:10013079-1756317600-1756321200@rclstn.org
SUMMARY:Murfreesboro Writer's Group
DESCRIPTION:The Murfreesboro Writers Group is a group of local writers who seek to improve their work through mutual critique. The group meets every Wednesday at 6:00 p.m. in the 2nd floor Meeting Room at Linebaugh Library. Anyone interested in writing is welcome to visit to see if you’d like to join the group. You might hear science fiction\, poetry\, alternate reality\, memoir\, fantasy\, mystery\, literary fiction\, or more.
URL:https://rclstn.org/event/murfreesboro-writers-group/2025-08-27/
LOCATION:Linebaugh Public Library\, 105 W Vine St\, Murfreesboro\, TN\, 37130\, United States
ATTACH;FMTTYPE=image/png:https://rclstn.org/wp-content/uploads/2025/01/Screenshot-2025-01-14-at-11.41.28 AM.png
END:VEVENT
BEGIN:VEVENT
DTSTART;TZID=America/Chicago:20250827T180000
DTEND;TZID=America/Chicago:20250827T190000
DTSTAMP:20260423T000552
CREATED:20241118T221447Z
LAST-MODIFIED:20251002T215415Z
UID:10000635-1756317600-1756321200@rclstn.org
SUMMARY:SciFi/Fantasy Book Group
DESCRIPTION:The Riverworlders: A SciFi/Fantasy Book Group meets on the 4th Wednesday of each month at 6:00 pm. This group meets in the Linebaugh Meeting Room on the 2nd floor. Click here to see the list of their monthly book choices for the year.
URL:https://rclstn.org/event/scifi-fantasy-book-group-2/2025-08-27/
LOCATION:TN
ATTACH;FMTTYPE=image/jpeg:https://rclstn.org/wp-content/uploads/2023/12/Book-Club.jpg
END:VEVENT
BEGIN:VEVENT
DTSTART;TZID=America/Chicago:20250827T173000
DTEND;TZID=America/Chicago:20250827T193000
DTSTAMP:20260423T000552
CREATED:20240307T172953Z
LAST-MODIFIED:20251003T142323Z
UID:10004613-1756315800-1756323000@rclstn.org
SUMMARY:ESL Course
DESCRIPTION:Join us at the TEC for ESL classes every Monday and Wednesday from 5:30-7:30 pm. \nTo sign up please fill out this form. \nOnce you have completed the form\, someone will contact you with more details. \n 
URL:https://rclstn.org/event/esl-course/2025-08-27/
LOCATION:Technology Engagement Center\, 306 Minerva Drive\, Murfreesboro\, TN\, 37130\, United States
CATEGORIES:Adult,Class,Technology Engagement Center (TEC)
ATTACH;FMTTYPE=image/png:https://rclstn.org/wp-content/uploads/2024/03/TECRCAEd-ESL-socmed.png
END:VEVENT
BEGIN:VEVENT
DTSTART;TZID=America/Chicago:20250827T173000
DTEND;TZID=America/Chicago:20250827T190000
DTSTAMP:20260423T000552
CREATED:20250801T163950Z
LAST-MODIFIED:20250801T163950Z
UID:10016867-1756315800-1756321200@rclstn.org
SUMMARY:Books & Brews book club
DESCRIPTION:BOOKS & BREWS IN THE ‘BOROWednesday\, August 27th at 5:30 pmat Tailgate Brewery in Murfreesboro \n210 Stones River Mall Blvd\, Murfreesboro\, TNThis book club meets off-site at local joints to share in the joy of reading. Join them this month as they discuss Assistant to the Villain by Hannah Nicole Maehrer.
URL:https://rclstn.org/event/books-brews-book-club/
LOCATION:TN
CATEGORIES:Adult,Book Group,off-site
ATTACH;FMTTYPE=image/png:https://rclstn.org/wp-content/uploads/2025/08/AUG-BB.png
END:VEVENT
BEGIN:VEVENT
DTSTART;TZID=America/Chicago:20250827T160000
DTEND;TZID=America/Chicago:20250827T164500
DTSTAMP:20260423T000552
CREATED:20250313T000917Z
LAST-MODIFIED:20250923T204016Z
UID:10019938-1756310400-1756313100@rclstn.org
SUMMARY:Teen and Preteen Yoga at Smyrna Library
DESCRIPTION:Join us for a 45 minute yoga class for teens.  We’ll breathe\, stretch\, and exercise. You’ll come away more relaxed and ready to face the rest of your week! Wear comfortable clothes and feel free to bring your own mat or borrow one of ours. Namaste!
URL:https://rclstn.org/event/teen-and-preteen-yoga-at-smyrna-library/2025-08-27/
LOCATION:TN
CATEGORIES:Smyrna Public Libary,Smyrna Youth Services,Tween/Teen
ATTACH;FMTTYPE=image/png:https://rclstn.org/wp-content/uploads/2025/03/TEEN-YOGA.png
ORGANIZER;CN="Smyrna Youth Services":MAILTO:smyrnays@rclstn.org
END:VEVENT
BEGIN:VEVENT
DTSTART;TZID=America/Chicago:20250827T140000
DTEND;TZID=America/Chicago:20250827T150000
DTSTAMP:20260423T000552
CREATED:20250725T194621Z
LAST-MODIFIED:20250725T202252Z
UID:10016658-1756303200-1756306800@rclstn.org
SUMMARY:One on One Tech Help at Smyrna Public Library
DESCRIPTION:Need some one on one help with your phone or computer? Need to make a resume? Come to One on One Tech Help! Free and open to the public\, no reservation required.
URL:https://rclstn.org/event/one-on-one-tech-help-at-smyrna-public-library-4/2025-08-27/
LOCATION:Smyrna Public Library\, 400 Enon Springs Rd W\, Smyrna\, TN\, 37167\, United States
CATEGORIES:Computer/Tech Classes,Smyrna Public Libary
ATTACH;FMTTYPE=image/png:https://rclstn.org/wp-content/uploads/2025/07/2025-august-computer-classes.png
ORGANIZER;CN="Trey":MAILTO:tgwinn@rclstn.org
END:VEVENT
BEGIN:VEVENT
DTSTART;TZID=America/Chicago:20250826T180000
DTEND;TZID=America/Chicago:20250826T200000
DTSTAMP:20260423T000553
CREATED:20240326T175654Z
LAST-MODIFIED:20251002T215113Z
UID:10006596-1756231200-1756238400@rclstn.org
SUMMARY:Yarn Love Murfreesboro
DESCRIPTION:Yarn Love Murfreesboro is a casual group of yarn enthusiasts who love to knit and crochet. Meetings are held on the 2nd and 4th Tuesday of each month in the 2nd-floor conference room. All levels of experience are welcome from beginners to experts. Come out and talk shop\, bring your current works in progress\, stitch a project for charity\, or just learn! We’ll be glad to give pointers to anyone who wants to get involved. Just bring your yarn\, hooks\, or needles\, and we’ll get you started. Stuck on a pattern? Maybe we can help you! We also hold yarn swaps from time to time\, so feel free to participate and find something new to try.
URL:https://rclstn.org/event/yarn-love-murfreesboro-2/2025-08-26/
LOCATION:Linebaugh Public Library\, 105 W Vine St\, Murfreesboro\, TN\, 37130\, United States
ATTACH;FMTTYPE=image/jpeg:https://rclstn.org/wp-content/uploads/2024/03/Yarn-Love-1.jpg
END:VEVENT
BEGIN:VEVENT
DTSTART;TZID=America/Chicago:20250826T160000
DTEND;TZID=America/Chicago:20250826T180000
DTSTAMP:20260423T000553
CREATED:20250108T201018Z
LAST-MODIFIED:20251003T141142Z
UID:10007499-1756224000-1756231200@rclstn.org
SUMMARY:HiSet (GED) Classes
DESCRIPTION:Orientations are held every Monday at 1:00 pm at the Tennessee College of Applied Technology (TCAT)\, 663 Ken Pilkerton Drive\, Smyrna\, TN 37167\nCall 931-237-6443 for information.
URL:https://rclstn.org/event/hiset-ged-classes-4/2025-08-26/
LOCATION:Technology Engagement Center\, 306 Minerva Drive\, Murfreesboro\, TN\, 37130\, United States
CATEGORIES:Class,Technology Engagement Center (TEC)
ATTACH;FMTTYPE=image/png:https://rclstn.org/wp-content/uploads/2024/03/updated-May2023.png
ORGANIZER;CN="Lee":MAILTO:hcurtis@rclstn.org
END:VEVENT
BEGIN:VEVENT
DTSTART;TZID=America/Chicago:20250826T153000
DTEND;TZID=America/Chicago:20250826T163000
DTSTAMP:20260423T000553
CREATED:20250715T163023Z
LAST-MODIFIED:20250715T163821Z
UID:10016301-1756222200-1756225800@rclstn.org
SUMMARY:PBS's Book Drop STEAM Club
DESCRIPTION:Join us at the TEC for a hands-on STEAM program based upon PBS’s new series Book Drop! This afterschool STEAM Club will have 4 sessions where students and their caregivers will learn problem-solving skills through hands on activities and STEAM stories. This program is intended for students aged 4-8 years and registration is required at the link below. Please be prepared to attend all four sessions.
URL:https://rclstn.org/event/pbss-book-drop-steam-club/2025-08-26/
LOCATION:Technology Engagement Center\, 306 Minerva Drive\, Murfreesboro\, TN\, 37130\, United States
CATEGORIES:Kids and Family,STEM,TEC Youth Services,Technology Engagement Center (TEC)
ATTACH;FMTTYPE=image/png:https://rclstn.org/wp-content/uploads/2025/07/August-Events-2025.png
ORGANIZER;CN="Lee":MAILTO:hcurtis@rclstn.org
END:VEVENT
BEGIN:VEVENT
DTSTART;TZID=America/Chicago:20250826T143000
DTEND;TZID=America/Chicago:20250826T153000
DTSTAMP:20260423T000553
CREATED:20250819T193920Z
LAST-MODIFIED:20251003T141040Z
UID:10003753-1756218600-1756222200@rclstn.org
SUMMARY:Computer Basics
DESCRIPTION:Free computer classes @ the TEC! Come learn basic computer skills\, Windows 10\, Google Docs\, Microsoft Office\, Excel\, PowerPoint and more with self-paced modules and guided instruction. \nThis class\, which is taught by Workforce Essentials\, is for Adults. \nFor more information contact: mamaro@workforceessentials.com
URL:https://rclstn.org/event/computer-basics-2-2-2/2025-08-26/
LOCATION:Technology Engagement Center\, 306 Minerva Drive\, Murfreesboro\, TN\, 37130\, United States
CATEGORIES:Adult,Class,Computer/Tech Classes,Technology Engagement Center (TEC)
ATTACH;FMTTYPE=image/png:https://rclstn.org/wp-content/uploads/2024/12/for-TEC-Grafitti-sign.png
END:VEVENT
BEGIN:VEVENT
DTSTART;TZID=America/Chicago:20250826T100000
DTEND;TZID=America/Chicago:20250826T120000
DTSTAMP:20260423T000553
CREATED:20250108T200921Z
LAST-MODIFIED:20251003T140838Z
UID:10005400-1756202400-1756209600@rclstn.org
SUMMARY:HiSet (GED) Class
DESCRIPTION:Orientations are held every Monday at 1:00 pm at the Tennessee College of Applied Technology (TCAT)\, 663 Ken Pilkerton Drive\, Smyrna\, TN 37167\nCall 931-237-6443 for information.
URL:https://rclstn.org/event/hiset-ged-class-2/2025-08-26/
LOCATION:Technology Engagement Center\, 306 Minerva Drive\, Murfreesboro\, TN\, 37130\, United States
CATEGORIES:Adult,Class,Technology Engagement Center (TEC)
ATTACH;FMTTYPE=image/png:https://rclstn.org/wp-content/uploads/2024/03/updated-May2023.png
ORGANIZER;CN="Lee":MAILTO:hcurtis@rclstn.org
END:VEVENT
BEGIN:VEVENT
DTSTART;TZID=America/Chicago:20250826T100000
DTEND;TZID=America/Chicago:20250826T110000
DTSTAMP:20260423T000553
CREATED:20231218T213917Z
LAST-MODIFIED:20241114T175738Z
UID:10000276-1756202400-1756206000@rclstn.org
SUMMARY:Tuesday Morning Book Group
DESCRIPTION:The Tuesday Morning Book Group meets on the 4th Tuesday of each month at 10:00 a.m. and reads a mixture of literary fiction\, non-fiction\, and classics. \nThis group meets in the Linebaugh Conference Room on the 2nd floor. Click here to see the list of their monthly book choices for the year. There is no meeting in December. \n 
URL:https://rclstn.org/event/tuesday-morning-book-group/2025-08-26/
LOCATION:Linebaugh Public Library\, 105 W Vine St\, Murfreesboro\, TN\, 37130\, United States
CATEGORIES:Book Group,Linebaugh Public Library
ATTACH;FMTTYPE=image/jpeg:https://rclstn.org/wp-content/uploads/2023/12/Book-Club.jpg
END:VEVENT
BEGIN:VEVENT
DTSTART;TZID=America/Chicago:20250825T173000
DTEND;TZID=America/Chicago:20250825T193000
DTSTAMP:20260423T000553
CREATED:20240307T172953Z
LAST-MODIFIED:20251003T142323Z
UID:10004612-1756143000-1756150200@rclstn.org
SUMMARY:ESL Course
DESCRIPTION:Join us at the TEC for ESL classes every Monday and Wednesday from 5:30-7:30 pm. \nTo sign up please fill out this form. \nOnce you have completed the form\, someone will contact you with more details. \n 
URL:https://rclstn.org/event/esl-course/2025-08-25/
LOCATION:Technology Engagement Center\, 306 Minerva Drive\, Murfreesboro\, TN\, 37130\, United States
CATEGORIES:Adult,Class,Technology Engagement Center (TEC)
ATTACH;FMTTYPE=image/png:https://rclstn.org/wp-content/uploads/2024/03/TECRCAEd-ESL-socmed.png
END:VEVENT
END:VCALENDAR