BEGIN:VCALENDAR
VERSION:2.0
PRODID:-//RCLS+ - ECPv6.15.20//NONSGML v1.0//EN
CALSCALE:GREGORIAN
METHOD:PUBLISH
X-WR-CALNAME:RCLS+
X-ORIGINAL-URL:https://rclstn.org
X-WR-CALDESC:Events for RCLS+
REFRESH-INTERVAL;VALUE=DURATION:PT1H
X-Robots-Tag:noindex
X-PUBLISHED-TTL:PT1H
BEGIN:VTIMEZONE
TZID:America/Chicago
BEGIN:DAYLIGHT
TZOFFSETFROM:-0600
TZOFFSETTO:-0500
TZNAME:CDT
DTSTART:20250309T080000
END:DAYLIGHT
BEGIN:STANDARD
TZOFFSETFROM:-0500
TZOFFSETTO:-0600
TZNAME:CST
DTSTART:20251102T070000
END:STANDARD
BEGIN:DAYLIGHT
TZOFFSETFROM:-0600
TZOFFSETTO:-0500
TZNAME:CDT
DTSTART:20260308T080000
END:DAYLIGHT
BEGIN:STANDARD
TZOFFSETFROM:-0500
TZOFFSETTO:-0600
TZNAME:CST
DTSTART:20261101T070000
END:STANDARD
BEGIN:DAYLIGHT
TZOFFSETFROM:-0600
TZOFFSETTO:-0500
TZNAME:CDT
DTSTART:20270314T080000
END:DAYLIGHT
BEGIN:STANDARD
TZOFFSETFROM:-0500
TZOFFSETTO:-0600
TZNAME:CST
DTSTART:20271107T070000
END:STANDARD
END:VTIMEZONE
BEGIN:VEVENT
DTSTART;TZID=America/Chicago:20260615T090000
DTEND;TZID=America/Chicago:20260615T164500
DTSTAMP:20260423T030629
CREATED:20260421T155426Z
LAST-MODIFIED:20260421T164007Z
UID:10025522-1781514000-1781541900@rclstn.org
SUMMARY:Dewey Win Day at Linebaugh
DESCRIPTION:Everyone’s favorite prize wheel is back! Spin the wheel\, check out a nonfiction book from the section you land on\, and win cool prizes!
URL:https://rclstn.org/event/dewey-win-day-at-linebaugh-2/2026-06-15/
LOCATION:Linebaugh Public Library\, 105 W Vine St\, Murfreesboro\, TN\, 37130\, United States
CATEGORIES:Kids and Family,Linebaugh Public Library,Linebaugh Youth Services
ATTACH;FMTTYPE=image/png:https://rclstn.org/wp-content/uploads/2026/04/DWD-SRP-2026.png
END:VEVENT
BEGIN:VEVENT
DTSTART;TZID=America/Chicago:20260615T110000
DTEND;TZID=America/Chicago:20260615T120000
DTSTAMP:20260423T030629
CREATED:20260421T161750Z
LAST-MODIFIED:20260421T161750Z
UID:10025561-1781521200-1781524800@rclstn.org
SUMMARY:Lunch at Linebaugh
DESCRIPTION:Linebaugh Public Library is a summer feeding site again this summer. Children age 18 and younger may receive a free lunch every weekday from 11 am – 12 pm. Children must be present in line and eat the provided lunch while at the library.
URL:https://rclstn.org/event/lunch-at-linebaugh-2/2026-06-15/
LOCATION:Linebaugh Public Library\, 105 W Vine St\, Murfreesboro\, TN\, 37130\, United States
CATEGORIES:Kids and Family,Linebaugh Public Library,Linebaugh Youth Services
ATTACH;FMTTYPE=image/png:https://rclstn.org/wp-content/uploads/2026/04/Lunch-@-LIN-2026.png
END:VEVENT
BEGIN:VEVENT
DTSTART;TZID=America/Chicago:20260615T153000
DTEND;TZID=America/Chicago:20260615T170000
DTSTAMP:20260423T030629
CREATED:20251229T171722Z
LAST-MODIFIED:20251229T171722Z
UID:10007086-1781537400-1781542800@rclstn.org
SUMMARY:READing Paws at Linebaugh
DESCRIPTION:Do you have a child who is a struggling or new reader? Does your child love to read? Does your child love dogs? We have the perfect opportunity for you here at Linebaugh! Call 615-893-4131 ext. 114 to register to read to a trained Reading Education Assistance Dog! The dogs love to listen to children read while being petted and cuddled! Stevie and Paris will be here on Mondays from 3:30-5 pm. 
URL:https://rclstn.org/event/reading-paws-at-linebaugh-2-2-3-2-2-2/2026-06-15/
LOCATION:Linebaugh Public Library\, 105 W Vine St\, Murfreesboro\, TN\, 37130\, United States
CATEGORIES:Linebaugh Youth Services
ATTACH;FMTTYPE=image/png:https://rclstn.org/wp-content/uploads/2025/07/READing-Paws-Mon-rec.png
END:VEVENT
BEGIN:VEVENT
DTSTART;TZID=America/Chicago:20260616T100000
DTEND;TZID=America/Chicago:20260616T104500
DTSTAMP:20260423T030629
CREATED:20260421T160334Z
LAST-MODIFIED:20260421T160334Z
UID:10025531-1781604000-1781606700@rclstn.org
SUMMARY:All-Ages Storytime at Linebaugh
DESCRIPTION:For our “Unearth a Story” summer reading program\, we’re sharing stories about dinosaurs\, history\, and curiosity. All-Ages Storytimes are intended for children ages 2-8 and feature a mix of stories\, songs\, and puppet shows.
URL:https://rclstn.org/event/all-ages-storytime-at-linebaugh-3/2026-06-16/
LOCATION:Linebaugh Public Library\, 105 W Vine St\, Murfreesboro\, TN\, 37130\, United States
CATEGORIES:Kids and Family,Linebaugh Public Library,Linebaugh Youth Services,Story Time
END:VEVENT
BEGIN:VEVENT
DTSTART;TZID=America/Chicago:20260616T110000
DTEND;TZID=America/Chicago:20260616T120000
DTSTAMP:20260423T030629
CREATED:20260421T161750Z
LAST-MODIFIED:20260421T161750Z
UID:10025562-1781607600-1781611200@rclstn.org
SUMMARY:Lunch at Linebaugh
DESCRIPTION:Linebaugh Public Library is a summer feeding site again this summer. Children age 18 and younger may receive a free lunch every weekday from 11 am – 12 pm. Children must be present in line and eat the provided lunch while at the library.
URL:https://rclstn.org/event/lunch-at-linebaugh-2/2026-06-16/
LOCATION:Linebaugh Public Library\, 105 W Vine St\, Murfreesboro\, TN\, 37130\, United States
CATEGORIES:Kids and Family,Linebaugh Public Library,Linebaugh Youth Services
ATTACH;FMTTYPE=image/png:https://rclstn.org/wp-content/uploads/2026/04/Lunch-@-LIN-2026.png
END:VEVENT
BEGIN:VEVENT
DTSTART;TZID=America/Chicago:20260616T160000
DTEND;TZID=America/Chicago:20260616T173000
DTSTAMP:20260423T030629
CREATED:20251219T181910Z
LAST-MODIFIED:20251219T181910Z
UID:10022051-1781625600-1781631000@rclstn.org
SUMMARY:Teen Creative Writing Club @ Linebaugh Library
DESCRIPTION:Join us every 3rd Tuesday from 4-5:30pm in the 1st floor club room at Linebaugh Public Library for our Teen Creative Writing Club (ages 13-18)! \nTeen writers of all proficiencies are invited to join us to share their work & learn ways to improve their craft! Bring up to 4 minutes of original writing (stories\, poetry\, scripts\, creative non-fiction\, etc.) & get feedback from your peers. Email Taylor at tdavis@rclstn.org for more information.
URL:https://rclstn.org/event/teen-creative-writing-club-linebaugh-library/2026-06-16/
LOCATION:Linebaugh Public Library\, 105 W Vine St\, Murfreesboro\, TN\, 37130\, United States
CATEGORIES:Club,Linebaugh Public Library,Linebaugh Youth Services,Teen,Writing Group
ATTACH;FMTTYPE=image/png:https://rclstn.org/wp-content/uploads/2025/12/Teen-Creative-Writing-Club-IGPJ-1.png
END:VEVENT
BEGIN:VEVENT
DTSTART;TZID=America/Chicago:20260616T173000
DTEND;TZID=America/Chicago:20260616T183000
DTSTAMP:20260423T030629
CREATED:20231219T161241Z
LAST-MODIFIED:20241118T220842Z
UID:10000463-1781631000-1781634600@rclstn.org
SUMMARY:Art for Inner Exploration
DESCRIPTION:Curious about how art affects our emotions? Join us for a free\, artist-led workshop on the 3rd Tuesday of each month in the 2nd floor Conference Room at Linebaugh Public Library. Artist CatieBeth Thomas has been volunteering as an art therapist\, creating her own painted and fiber art works and teaching art since 2013. She is a native Tennesseean who believes everyone should have access to community spaces where they can express themselves. Participants will explore color theory and their emotions\, gratitude\, and self love. These art classes will be from 5:30 – 6:30 pm\, are for adults and teens\, and all materials are provided. Feel free to bring your own supplies\, paper or notebooks if you prefer. \nFor more information\, visit www.catiebeththomas.com. \n  \n 
URL:https://rclstn.org/event/art-for-inner-exploration/2026-06-16/
LOCATION:TN
CATEGORIES:Class,Linebaugh Public Library
ATTACH;FMTTYPE=image/jpeg:https://rclstn.org/wp-content/uploads/2023/12/Art-for-Inner-Exploration.jpg
END:VEVENT
BEGIN:VEVENT
DTSTART;TZID=America/Chicago:20260617T110000
DTEND;TZID=America/Chicago:20260617T120000
DTSTAMP:20260423T030629
CREATED:20260421T161750Z
LAST-MODIFIED:20260421T161750Z
UID:10025563-1781694000-1781697600@rclstn.org
SUMMARY:Lunch at Linebaugh
DESCRIPTION:Linebaugh Public Library is a summer feeding site again this summer. Children age 18 and younger may receive a free lunch every weekday from 11 am – 12 pm. Children must be present in line and eat the provided lunch while at the library.
URL:https://rclstn.org/event/lunch-at-linebaugh-2/2026-06-17/
LOCATION:Linebaugh Public Library\, 105 W Vine St\, Murfreesboro\, TN\, 37130\, United States
CATEGORIES:Kids and Family,Linebaugh Public Library,Linebaugh Youth Services
ATTACH;FMTTYPE=image/png:https://rclstn.org/wp-content/uploads/2026/04/Lunch-@-LIN-2026.png
END:VEVENT
BEGIN:VEVENT
DTSTART;TZID=America/Chicago:20260617T150000
DTEND;TZID=America/Chicago:20260617T154500
DTSTAMP:20260423T030629
CREATED:20260421T160334Z
LAST-MODIFIED:20260421T160334Z
UID:10025532-1781708400-1781711100@rclstn.org
SUMMARY:All-Ages Storytime at Linebaugh
DESCRIPTION:For our “Unearth a Story” summer reading program\, we’re sharing stories about dinosaurs\, history\, and curiosity. All-Ages Storytimes are intended for children ages 2-8 and feature a mix of stories\, songs\, and puppet shows.
URL:https://rclstn.org/event/all-ages-storytime-at-linebaugh-3/2026-06-17/
LOCATION:Linebaugh Public Library\, 105 W Vine St\, Murfreesboro\, TN\, 37130\, United States
CATEGORIES:Kids and Family,Linebaugh Public Library,Linebaugh Youth Services,Story Time
END:VEVENT
BEGIN:VEVENT
DTSTART;TZID=America/Chicago:20260617T180000
DTEND;TZID=America/Chicago:20260617T190000
DTSTAMP:20260423T030629
CREATED:20250114T174248Z
LAST-MODIFIED:20251011T174250Z
UID:10013121-1781719200-1781722800@rclstn.org
SUMMARY:Murfreesboro Writer's Group
DESCRIPTION:The Murfreesboro Writers Group is a group of local writers who seek to improve their work through mutual critique. The group meets every Wednesday at 6:00 p.m. in the 2nd floor Meeting Room at Linebaugh Library. Anyone interested in writing is welcome to visit to see if you’d like to join the group. You might hear science fiction\, poetry\, alternate reality\, memoir\, fantasy\, mystery\, literary fiction\, or more.
URL:https://rclstn.org/event/murfreesboro-writers-group/2026-06-17/
LOCATION:Linebaugh Public Library\, 105 W Vine St\, Murfreesboro\, TN\, 37130\, United States
ATTACH;FMTTYPE=image/png:https://rclstn.org/wp-content/uploads/2025/01/Screenshot-2025-01-14-at-11.41.28 AM.png
END:VEVENT
BEGIN:VEVENT
DTSTART;TZID=America/Chicago:20260618T103000
DTEND;TZID=America/Chicago:20260618T110000
DTSTAMP:20260423T030630
CREATED:20260421T160715Z
LAST-MODIFIED:20260421T160715Z
UID:10025542-1781778600-1781780400@rclstn.org
SUMMARY:Itty Bitty Storytime at Linebaugh
DESCRIPTION:For our “Unearth a Story” summer reading program\, we’re sharing stories about dinosaurs\, history\, and curiosity. Itty Bitty Storytimes are intended for children ages 0-23 months and feature a mix of stories\, scarf songs\, fingerplays\, and lap bounces.
URL:https://rclstn.org/event/itty-bitty-storytime-at-linebaugh-2/2026-06-18/
LOCATION:Linebaugh Public Library\, 105 W Vine St\, Murfreesboro\, TN\, 37130\, United States
CATEGORIES:Kids and Family,Linebaugh Public Library,Linebaugh Youth Services,Story Time
END:VEVENT
BEGIN:VEVENT
DTSTART;TZID=America/Chicago:20260618T110000
DTEND;TZID=America/Chicago:20260618T120000
DTSTAMP:20260423T030630
CREATED:20260421T161750Z
LAST-MODIFIED:20260421T161750Z
UID:10025564-1781780400-1781784000@rclstn.org
SUMMARY:Lunch at Linebaugh
DESCRIPTION:Linebaugh Public Library is a summer feeding site again this summer. Children age 18 and younger may receive a free lunch every weekday from 11 am – 12 pm. Children must be present in line and eat the provided lunch while at the library.
URL:https://rclstn.org/event/lunch-at-linebaugh-2/2026-06-18/
LOCATION:Linebaugh Public Library\, 105 W Vine St\, Murfreesboro\, TN\, 37130\, United States
CATEGORIES:Kids and Family,Linebaugh Public Library,Linebaugh Youth Services
ATTACH;FMTTYPE=image/png:https://rclstn.org/wp-content/uploads/2026/04/Lunch-@-LIN-2026.png
END:VEVENT
BEGIN:VEVENT
DTSTART;TZID=America/Chicago:20260618T130000
DTEND;TZID=America/Chicago:20260618T153000
DTSTAMP:20260423T030630
CREATED:20260421T162336Z
LAST-MODIFIED:20260421T162336Z
UID:10025590-1781787600-1781796600@rclstn.org
SUMMARY:Curiosity Club at Linebaugh
DESCRIPTION:The Curiosity Club is a new play club for preschool through early elementary grades. Every Thursday afternoon we’ll set up the children’s section with toys\, games\, art supplies\, and books on a topic kids might be curious about\, and let their imaginations soar! For our “Unearth a Story” summer reading program\, most weeks will feature sensory bins\, simple art projects\, and guided Lego builds all about dinosaurs! \nThe one rule for Curiosity Club is there are NO SCREENS allowed\, so please help us keep the section screen-free during this program.
URL:https://rclstn.org/event/curiosity-club-at-linebaugh/2026-06-18/
LOCATION:Linebaugh Public Library\, 105 W Vine St\, Murfreesboro\, TN\, 37130\, United States
CATEGORIES:Arts and Crafts,Family,Kids and Family,Linebaugh Public Library,Linebaugh Youth Services,STEAM
ATTACH;FMTTYPE=image/png:https://rclstn.org/wp-content/uploads/2026/04/Curiosity-Club-SRP-2026.png
END:VEVENT
BEGIN:VEVENT
DTSTART;TZID=America/Chicago:20260618T180000
DTEND;TZID=America/Chicago:20260618T183000
DTSTAMP:20260423T030630
CREATED:20260421T161245Z
LAST-MODIFIED:20260421T161245Z
UID:10025548-1781805600-1781807400@rclstn.org
SUMMARY:Pajama Storytime at Linebaugh
DESCRIPTION:For our “Unearth a Story” summer reading program\, we’re sharing stories about dinosaurs\, history\, and curiosity. Pajama Storytimes are intended for kids of all ages with stories\, songs\, and an opportunity to relax in your PJs!
URL:https://rclstn.org/event/pajama-storytime-at-linebaugh-2/2026-06-18/
LOCATION:Linebaugh Public Library\, 105 W Vine St\, Murfreesboro\, TN\, 37130\, United States
CATEGORIES:Kids and Family,Linebaugh Public Library,Linebaugh Youth Services,Story Time
ATTACH;FMTTYPE=image/png:https://rclstn.org/wp-content/uploads/2026/04/PJ-ST-SRP-2026.png
END:VEVENT
BEGIN:VEVENT
DTSTART;TZID=America/Chicago:20260619T153000
DTEND;TZID=America/Chicago:20260619T163000
DTSTAMP:20260423T030630
CREATED:20251219T185139Z
LAST-MODIFIED:20251219T185139Z
UID:10022064-1781883000-1781886600@rclstn.org
SUMMARY:We're Board! Teen Board Game Club @ Linebaugh
DESCRIPTION:We’re Board! Are you? Teens aged 13-18 can join us every 3rd Friday from 3:30-4:30pm in the 1st club room at Linebaugh Library to test out their strategic prowess with fun and challenging board and card games. Email Taylor at tdavis@rclstn.org for more information.
URL:https://rclstn.org/event/were-board-teen-board-game-club-linebaugh/2026-06-19/
LOCATION:Linebaugh Public Library\, 105 W Vine St\, Murfreesboro\, TN\, 37130\, United States
CATEGORIES:Club,Linebaugh Public Library,Linebaugh Youth Services,Teen
ATTACH;FMTTYPE=image/png:https://rclstn.org/wp-content/uploads/2025/12/Teen-Board-Game-Club-Jan-26-IGPJ.png
END:VEVENT
BEGIN:VEVENT
DTSTART;TZID=America/Chicago:20260620T100000
DTEND;TZID=America/Chicago:20260620T110000
DTSTAMP:20260423T030630
CREATED:20260321T153216Z
LAST-MODIFIED:20260321T153218Z
UID:10000757-1781949600-1781953200@rclstn.org
SUMMARY:Lego\, Jr Club at Linebaugh
DESCRIPTION:Build and create with the Linebaugh Lego Club on the 3rd Saturday of every month at 10 am.
URL:https://rclstn.org/event/lego-jr-club-at-linebaugh-3-2-2/2026-06-20/
LOCATION:Linebaugh Public Library\, 105 W Vine St\, Murfreesboro\, TN\, 37130\, United States
CATEGORIES:Club,Kids and Family,Linebaugh Youth Services
ATTACH;FMTTYPE=image/png:https://rclstn.org/wp-content/uploads/2024/12/Lego-Club-rec.png
END:VEVENT
BEGIN:VEVENT
DTSTART;TZID=America/Chicago:20260620T130000
DTEND;TZID=America/Chicago:20260620T163000
DTSTAMP:20260423T030630
CREATED:20250927T152411Z
LAST-MODIFIED:20250927T152411Z
UID:10020044-1781960400-1781973000@rclstn.org
SUMMARY:Dungeons & Dragons@Linebaugh
DESCRIPTION:Join us on the 3rd Saturday of each month for Dungeons & Dragons with Henry! Game time is 1 p.m. on the 2nd floor of Linebaugh Library at 105 W. Vine Street in Murfreesboro. Space is limited so please register at hrfaust@comcast.net. Pencils\, paper\, and dice will be provided. All you need to bring is your imagination! \nOct 18: 2nd floor Meeting Room @1 p.m. \nNov 15: 2nd floor Meeting Room @ 1 p.m. \nDec 20: 2nd floor Conference Room @ 1 p.m. \nJan 17: 2nd floor Meeting Room @ 1 p.m. \nFeb 21: 2nd floor Meeting Room @ 1 p.m. \nMar 21: 2nd floor Meeting Room @ 1 p.m. \n 
URL:https://rclstn.org/event/dungeons-dragonslinebaugh/2026-06-20/
LOCATION:TN
CATEGORIES:Adult,Linebaugh Public Library
ATTACH;FMTTYPE=image/png:https://rclstn.org/wp-content/uploads/2025/09/DD-flyer.png
ORGANIZER;CN="Dave":MAILTO:doflaherty@rclstn.org
END:VEVENT
BEGIN:VEVENT
DTSTART;TZID=America/Chicago:20260620T140000
DTEND;TZID=America/Chicago:20260620T153000
DTSTAMP:20260423T030630
CREATED:20251219T190449Z
LAST-MODIFIED:20251219T190449Z
UID:10022090-1781964000-1781969400@rclstn.org
SUMMARY:Teen Gaming Club @ Linebaugh
DESCRIPTION:This club meets every 3rd Saturday from 2-3:30pm in the 1st floor club room at Linebaugh Public Library. \nCalling all gamers! Teens aged 13-18 can bring their devices or play a variety of games on our in-house Switch system. Meet other teens who love video games & level up with us in this chill social club.
URL:https://rclstn.org/event/teen-gaming-club-linebaugh/2026-06-20/
LOCATION:Linebaugh Public Library\, 105 W Vine St\, Murfreesboro\, TN\, 37130\, United States
CATEGORIES:Club,Linebaugh Public Library,Linebaugh Youth Services,STEAM,STEM,Teen
ATTACH;FMTTYPE=image/png:https://rclstn.org/wp-content/uploads/2025/12/Teen-Gaming-Club-IGPJ-1.png
END:VEVENT
BEGIN:VEVENT
DTSTART;TZID=America/Chicago:20260622T090000
DTEND;TZID=America/Chicago:20260622T164500
DTSTAMP:20260423T030630
CREATED:20260421T155426Z
LAST-MODIFIED:20260421T164007Z
UID:10025523-1782118800-1782146700@rclstn.org
SUMMARY:Dewey Win Day at Linebaugh
DESCRIPTION:Everyone’s favorite prize wheel is back! Spin the wheel\, check out a nonfiction book from the section you land on\, and win cool prizes!
URL:https://rclstn.org/event/dewey-win-day-at-linebaugh-2/2026-06-22/
LOCATION:Linebaugh Public Library\, 105 W Vine St\, Murfreesboro\, TN\, 37130\, United States
CATEGORIES:Kids and Family,Linebaugh Public Library,Linebaugh Youth Services
ATTACH;FMTTYPE=image/png:https://rclstn.org/wp-content/uploads/2026/04/DWD-SRP-2026.png
END:VEVENT
BEGIN:VEVENT
DTSTART;TZID=America/Chicago:20260622T110000
DTEND;TZID=America/Chicago:20260622T120000
DTSTAMP:20260423T030630
CREATED:20260421T161750Z
LAST-MODIFIED:20260421T161750Z
UID:10025565-1782126000-1782129600@rclstn.org
SUMMARY:Lunch at Linebaugh
DESCRIPTION:Linebaugh Public Library is a summer feeding site again this summer. Children age 18 and younger may receive a free lunch every weekday from 11 am – 12 pm. Children must be present in line and eat the provided lunch while at the library.
URL:https://rclstn.org/event/lunch-at-linebaugh-2/2026-06-22/
LOCATION:Linebaugh Public Library\, 105 W Vine St\, Murfreesboro\, TN\, 37130\, United States
CATEGORIES:Kids and Family,Linebaugh Public Library,Linebaugh Youth Services
ATTACH;FMTTYPE=image/png:https://rclstn.org/wp-content/uploads/2026/04/Lunch-@-LIN-2026.png
END:VEVENT
BEGIN:VEVENT
DTSTART;TZID=America/Chicago:20260623T100000
DTEND;TZID=America/Chicago:20260623T104500
DTSTAMP:20260423T030630
CREATED:20260421T160334Z
LAST-MODIFIED:20260421T160334Z
UID:10025533-1782208800-1782211500@rclstn.org
SUMMARY:All-Ages Storytime at Linebaugh
DESCRIPTION:For our “Unearth a Story” summer reading program\, we’re sharing stories about dinosaurs\, history\, and curiosity. All-Ages Storytimes are intended for children ages 2-8 and feature a mix of stories\, songs\, and puppet shows.
URL:https://rclstn.org/event/all-ages-storytime-at-linebaugh-3/2026-06-23/
LOCATION:Linebaugh Public Library\, 105 W Vine St\, Murfreesboro\, TN\, 37130\, United States
CATEGORIES:Kids and Family,Linebaugh Public Library,Linebaugh Youth Services,Story Time
END:VEVENT
BEGIN:VEVENT
DTSTART;TZID=America/Chicago:20260623T100000
DTEND;TZID=America/Chicago:20260623T110000
DTSTAMP:20260423T030630
CREATED:20231218T213917Z
LAST-MODIFIED:20241114T175738Z
UID:10000286-1782208800-1782212400@rclstn.org
SUMMARY:Tuesday Morning Book Group
DESCRIPTION:The Tuesday Morning Book Group meets on the 4th Tuesday of each month at 10:00 a.m. and reads a mixture of literary fiction\, non-fiction\, and classics. \nThis group meets in the Linebaugh Conference Room on the 2nd floor. Click here to see the list of their monthly book choices for the year. There is no meeting in December. \n 
URL:https://rclstn.org/event/tuesday-morning-book-group/2026-06-23/
LOCATION:Linebaugh Public Library\, 105 W Vine St\, Murfreesboro\, TN\, 37130\, United States
CATEGORIES:Book Group,Linebaugh Public Library
ATTACH;FMTTYPE=image/jpeg:https://rclstn.org/wp-content/uploads/2023/12/Book-Club.jpg
END:VEVENT
BEGIN:VEVENT
DTSTART;TZID=America/Chicago:20260623T110000
DTEND;TZID=America/Chicago:20260623T120000
DTSTAMP:20260423T030630
CREATED:20260421T161750Z
LAST-MODIFIED:20260421T161750Z
UID:10025566-1782212400-1782216000@rclstn.org
SUMMARY:Lunch at Linebaugh
DESCRIPTION:Linebaugh Public Library is a summer feeding site again this summer. Children age 18 and younger may receive a free lunch every weekday from 11 am – 12 pm. Children must be present in line and eat the provided lunch while at the library.
URL:https://rclstn.org/event/lunch-at-linebaugh-2/2026-06-23/
LOCATION:Linebaugh Public Library\, 105 W Vine St\, Murfreesboro\, TN\, 37130\, United States
CATEGORIES:Kids and Family,Linebaugh Public Library,Linebaugh Youth Services
ATTACH;FMTTYPE=image/png:https://rclstn.org/wp-content/uploads/2026/04/Lunch-@-LIN-2026.png
END:VEVENT
BEGIN:VEVENT
DTSTART;TZID=America/Chicago:20260624T110000
DTEND;TZID=America/Chicago:20260624T120000
DTSTAMP:20260423T030630
CREATED:20260421T161750Z
LAST-MODIFIED:20260421T161750Z
UID:10025567-1782298800-1782302400@rclstn.org
SUMMARY:Lunch at Linebaugh
DESCRIPTION:Linebaugh Public Library is a summer feeding site again this summer. Children age 18 and younger may receive a free lunch every weekday from 11 am – 12 pm. Children must be present in line and eat the provided lunch while at the library.
URL:https://rclstn.org/event/lunch-at-linebaugh-2/2026-06-24/
LOCATION:Linebaugh Public Library\, 105 W Vine St\, Murfreesboro\, TN\, 37130\, United States
CATEGORIES:Kids and Family,Linebaugh Public Library,Linebaugh Youth Services
ATTACH;FMTTYPE=image/png:https://rclstn.org/wp-content/uploads/2026/04/Lunch-@-LIN-2026.png
END:VEVENT
BEGIN:VEVENT
DTSTART;TZID=America/Chicago:20260624T150000
DTEND;TZID=America/Chicago:20260624T154500
DTSTAMP:20260423T030630
CREATED:20260421T160334Z
LAST-MODIFIED:20260421T160334Z
UID:10025534-1782313200-1782315900@rclstn.org
SUMMARY:All-Ages Storytime at Linebaugh
DESCRIPTION:For our “Unearth a Story” summer reading program\, we’re sharing stories about dinosaurs\, history\, and curiosity. All-Ages Storytimes are intended for children ages 2-8 and feature a mix of stories\, songs\, and puppet shows.
URL:https://rclstn.org/event/all-ages-storytime-at-linebaugh-3/2026-06-24/
LOCATION:Linebaugh Public Library\, 105 W Vine St\, Murfreesboro\, TN\, 37130\, United States
CATEGORIES:Kids and Family,Linebaugh Public Library,Linebaugh Youth Services,Story Time
END:VEVENT
BEGIN:VEVENT
DTSTART;TZID=America/Chicago:20260624T180000
DTEND;TZID=America/Chicago:20260624T190000
DTSTAMP:20260423T030630
CREATED:20241118T221447Z
LAST-MODIFIED:20251002T215415Z
UID:10000645-1782324000-1782327600@rclstn.org
SUMMARY:SciFi/Fantasy Book Group
DESCRIPTION:The Riverworlders: A SciFi/Fantasy Book Group meets on the 4th Wednesday of each month at 6:00 pm. This group meets in the Linebaugh Meeting Room on the 2nd floor. Click here to see the list of their monthly book choices for the year.
URL:https://rclstn.org/event/scifi-fantasy-book-group-2/2026-06-24/
LOCATION:TN
ATTACH;FMTTYPE=image/jpeg:https://rclstn.org/wp-content/uploads/2023/12/Book-Club.jpg
END:VEVENT
BEGIN:VEVENT
DTSTART;TZID=America/Chicago:20260624T180000
DTEND;TZID=America/Chicago:20260624T190000
DTSTAMP:20260423T030630
CREATED:20250114T174248Z
LAST-MODIFIED:20251011T174250Z
UID:10013122-1782324000-1782327600@rclstn.org
SUMMARY:Murfreesboro Writer's Group
DESCRIPTION:The Murfreesboro Writers Group is a group of local writers who seek to improve their work through mutual critique. The group meets every Wednesday at 6:00 p.m. in the 2nd floor Meeting Room at Linebaugh Library. Anyone interested in writing is welcome to visit to see if you’d like to join the group. You might hear science fiction\, poetry\, alternate reality\, memoir\, fantasy\, mystery\, literary fiction\, or more.
URL:https://rclstn.org/event/murfreesboro-writers-group/2026-06-24/
LOCATION:Linebaugh Public Library\, 105 W Vine St\, Murfreesboro\, TN\, 37130\, United States
ATTACH;FMTTYPE=image/png:https://rclstn.org/wp-content/uploads/2025/01/Screenshot-2025-01-14-at-11.41.28 AM.png
END:VEVENT
BEGIN:VEVENT
DTSTART;TZID=America/Chicago:20260625T103000
DTEND;TZID=America/Chicago:20260625T110000
DTSTAMP:20260423T030630
CREATED:20260421T160715Z
LAST-MODIFIED:20260421T160715Z
UID:10025543-1782383400-1782385200@rclstn.org
SUMMARY:Itty Bitty Storytime at Linebaugh
DESCRIPTION:For our “Unearth a Story” summer reading program\, we’re sharing stories about dinosaurs\, history\, and curiosity. Itty Bitty Storytimes are intended for children ages 0-23 months and feature a mix of stories\, scarf songs\, fingerplays\, and lap bounces.
URL:https://rclstn.org/event/itty-bitty-storytime-at-linebaugh-2/2026-06-25/
LOCATION:Linebaugh Public Library\, 105 W Vine St\, Murfreesboro\, TN\, 37130\, United States
CATEGORIES:Kids and Family,Linebaugh Public Library,Linebaugh Youth Services,Story Time
END:VEVENT
BEGIN:VEVENT
DTSTART;TZID=America/Chicago:20260625T110000
DTEND;TZID=America/Chicago:20260625T120000
DTSTAMP:20260423T030630
CREATED:20260421T161750Z
LAST-MODIFIED:20260421T161750Z
UID:10025568-1782385200-1782388800@rclstn.org
SUMMARY:Lunch at Linebaugh
DESCRIPTION:Linebaugh Public Library is a summer feeding site again this summer. Children age 18 and younger may receive a free lunch every weekday from 11 am – 12 pm. Children must be present in line and eat the provided lunch while at the library.
URL:https://rclstn.org/event/lunch-at-linebaugh-2/2026-06-25/
LOCATION:Linebaugh Public Library\, 105 W Vine St\, Murfreesboro\, TN\, 37130\, United States
CATEGORIES:Kids and Family,Linebaugh Public Library,Linebaugh Youth Services
ATTACH;FMTTYPE=image/png:https://rclstn.org/wp-content/uploads/2026/04/Lunch-@-LIN-2026.png
END:VEVENT
BEGIN:VEVENT
DTSTART;TZID=America/Chicago:20260625T130000
DTEND;TZID=America/Chicago:20260625T153000
DTSTAMP:20260423T030630
CREATED:20260421T162336Z
LAST-MODIFIED:20260421T162336Z
UID:10025591-1782392400-1782401400@rclstn.org
SUMMARY:Curiosity Club at Linebaugh
DESCRIPTION:The Curiosity Club is a new play club for preschool through early elementary grades. Every Thursday afternoon we’ll set up the children’s section with toys\, games\, art supplies\, and books on a topic kids might be curious about\, and let their imaginations soar! For our “Unearth a Story” summer reading program\, most weeks will feature sensory bins\, simple art projects\, and guided Lego builds all about dinosaurs! \nThe one rule for Curiosity Club is there are NO SCREENS allowed\, so please help us keep the section screen-free during this program.
URL:https://rclstn.org/event/curiosity-club-at-linebaugh/2026-06-25/
LOCATION:Linebaugh Public Library\, 105 W Vine St\, Murfreesboro\, TN\, 37130\, United States
CATEGORIES:Arts and Crafts,Family,Kids and Family,Linebaugh Public Library,Linebaugh Youth Services,STEAM
ATTACH;FMTTYPE=image/png:https://rclstn.org/wp-content/uploads/2026/04/Curiosity-Club-SRP-2026.png
END:VEVENT
END:VCALENDAR