BEGIN:VCALENDAR
VERSION:2.0
PRODID:-//RCLS+ - ECPv6.15.20//NONSGML v1.0//EN
CALSCALE:GREGORIAN
METHOD:PUBLISH
X-ORIGINAL-URL:https://rclstn.org
X-WR-CALDESC:Events for RCLS+
REFRESH-INTERVAL;VALUE=DURATION:PT1H
X-Robots-Tag:noindex
X-PUBLISHED-TTL:PT1H
BEGIN:VTIMEZONE
TZID:America/Chicago
BEGIN:DAYLIGHT
TZOFFSETFROM:-0600
TZOFFSETTO:-0500
TZNAME:CDT
DTSTART:20250309T080000
END:DAYLIGHT
BEGIN:STANDARD
TZOFFSETFROM:-0500
TZOFFSETTO:-0600
TZNAME:CST
DTSTART:20251102T070000
END:STANDARD
BEGIN:DAYLIGHT
TZOFFSETFROM:-0600
TZOFFSETTO:-0500
TZNAME:CDT
DTSTART:20260308T080000
END:DAYLIGHT
BEGIN:STANDARD
TZOFFSETFROM:-0500
TZOFFSETTO:-0600
TZNAME:CST
DTSTART:20261101T070000
END:STANDARD
BEGIN:DAYLIGHT
TZOFFSETFROM:-0600
TZOFFSETTO:-0500
TZNAME:CDT
DTSTART:20270314T080000
END:DAYLIGHT
BEGIN:STANDARD
TZOFFSETFROM:-0500
TZOFFSETTO:-0600
TZNAME:CST
DTSTART:20271107T070000
END:STANDARD
END:VTIMEZONE
BEGIN:VEVENT
DTSTART;TZID=America/Chicago:20260330T100000
DTEND;TZID=America/Chicago:20260330T110000
DTSTAMP:20260420T150856
CREATED:20260213T145453Z
LAST-MODIFIED:20260319T194315Z
UID:10024449-1774864800-1774868400@rclstn.org
SUMMARY:MLT Presents: How I Became a Pirate at Smyrna Public Library
DESCRIPTION:Join us at the Smyrna Public Library for the Murfreesboro Little Theater’s performance of “How I became a Pirate” @ 10am. \n**Program closes 10 minutes after starting**
URL:https://rclstn.org/event/murfeesboro-little-theater-presents-how-i-became-pirate/
LOCATION:Smyrna Public Library\, 400 Enon Springs Rd W\, Smyrna\, TN\, 37167\, United States
CATEGORIES:Kids and Family,Smyrna Public Libary,Smyrna Youth Services
ATTACH;FMTTYPE=image/png:https://rclstn.org/wp-content/uploads/2026/02/Spring-break-2026-3.png
END:VEVENT
BEGIN:VEVENT
DTSTART;TZID=America/Chicago:20260330T100000
DTEND;TZID=America/Chicago:20260330T110000
DTSTAMP:20260420T150856
CREATED:20260217T160824Z
LAST-MODIFIED:20260406T165903Z
UID:10022532-1774864800-1774868400@rclstn.org
SUMMARY:Storybook Stompers at MGL Library
DESCRIPTION:Join us for Storybook Stompers at MGL Library! Every Monday and Tuesday at 10am\, be ready to get moving\, shake out your sillies\, and listen to a story! \nMGL Library is located inside of Patterson Park Community Center.
URL:https://rclstn.org/event/storybook-stompers-at-mgl-library-2-2-2/2026-03-30/
LOCATION:MGL\, 521 Dr. Martin Luther King Blvd\, Murfreesboro\, TN\, 37130\, United States
CATEGORIES:Kids and Family,MGL Youth Services,Myrtle-Glanton Lord (MGL) Library,Story Time
ATTACH;FMTTYPE=image/png:https://rclstn.org/wp-content/uploads/2025/12/mgl_Storybook-Stompers_2026-1.png
END:VEVENT
BEGIN:VEVENT
DTSTART;TZID=America/Chicago:20260330T130000
DTEND;TZID=America/Chicago:20260330T150000
DTSTAMP:20260420T150856
CREATED:20250506T182139Z
LAST-MODIFIED:20260416T163933Z
UID:10012773-1774875600-1774882800@rclstn.org
SUMMARY:Tech Coach 1-on-1
DESCRIPTION:Do you or someone you know need help with technology questions or using the Library’s digital resources? The TEC can help with one-on-one assistance during a TECH Coaching session.  Coaches can help patrons explore technology and increase their digital literacy. \nPlease: \n\nBring your device\nRemember to bring your log-in/password information\nAnd do remember that NO device repair is offered through RCLS
URL:https://rclstn.org/event/tech-coach-1-on-1-2/2026-03-30/
LOCATION:TN
CATEGORIES:Adult,Computer/Tech Classes
ATTACH;FMTTYPE=image/png:https://rclstn.org/wp-content/uploads/2025/01/TechCoach.png
END:VEVENT
BEGIN:VEVENT
DTSTART;TZID=America/Chicago:20260330T140000
DTEND;TZID=America/Chicago:20260330T160000
DTSTAMP:20260420T150856
CREATED:20250916T190113Z
LAST-MODIFIED:20250916T190113Z
UID:10019809-1774879200-1774886400@rclstn.org
SUMMARY:Curiosity Club
DESCRIPTION:The Curiosity Club is a new play club for preschool through early elementary grades. Every Monday afternoon we’ll set up the children’s section with toys\, games\, art supplies\, and books on a topic kids might be curious about\, and let their imaginations soar!  \nThe one rule for Curiosity Club is there are NO SCREENS allowed\, so please help us keep the section screen-free during this program.
URL:https://rclstn.org/event/curiosity-club/2026-03-30/
LOCATION:Linebaugh Public Library\, 105 W Vine St\, Murfreesboro\, TN\, 37130\, United States
CATEGORIES:Club,Kids and Family,Linebaugh Youth Services
ATTACH;FMTTYPE=image/png:https://rclstn.org/wp-content/uploads/2025/09/Curiosity-Club-Web.png
END:VEVENT
BEGIN:VEVENT
DTSTART;TZID=America/Chicago:20260330T170000
DTEND;TZID=America/Chicago:20260330T180000
DTSTAMP:20260420T150856
CREATED:20260320T180922Z
LAST-MODIFIED:20260320T180922Z
UID:10025278-1774890000-1774893600@rclstn.org
SUMMARY:RCLS Board Special Called Meeting
DESCRIPTION:
URL:https://rclstn.org/event/rcls-board-special-called-meeting/
LOCATION:Rutherford County Courthouse
END:VEVENT
BEGIN:VEVENT
DTSTART;TZID=America/Chicago:20260331T100000
DTEND;TZID=America/Chicago:20260331T103000
DTSTAMP:20260420T150856
CREATED:20260213T150949Z
LAST-MODIFIED:20260319T194458Z
UID:10024450-1774951200-1774953000@rclstn.org
SUMMARY:Kids Yoga at Smyrna Public Library
DESCRIPTION:Join us at the Smyrna Public Library for our Kids Yoga program @ 10am! Mats will be provided or bring your own! \n  \n**Program closes 10 minutes after start**
URL:https://rclstn.org/event/kids-yoga/
LOCATION:Smyrna Public Library\, 400 Enon Springs Rd W\, Smyrna\, TN\, 37167\, United States
CATEGORIES:Smyrna Public Libary,Smyrna Youth Services
ATTACH;FMTTYPE=image/png:https://rclstn.org/wp-content/uploads/2026/02/Spring-break-2026-3.png
END:VEVENT
BEGIN:VEVENT
DTSTART;TZID=America/Chicago:20260331T100000
DTEND;TZID=America/Chicago:20260331T104500
DTSTAMP:20260420T150856
CREATED:20251229T171358Z
LAST-MODIFIED:20251229T171453Z
UID:10021259-1774951200-1774953900@rclstn.org
SUMMARY:All-Ages Storytime at Linebaugh
DESCRIPTION:This year’s All-Ages Storytime theme is “A is for All!” with a focus on Fry’s sight words list. Every Tuesday and Wednesday at 10 am we’ll have storytimes full of engaging stories\, silly songs\, a puppet show\, and a craft!
URL:https://rclstn.org/event/all-ages-storytime-at-linebaugh-2-5/2026-03-31/
LOCATION:Linebaugh Public Library\, 105 W Vine St\, Murfreesboro\, TN\, 37130\, United States
ATTACH;FMTTYPE=image/png:https://rclstn.org/wp-content/uploads/2025/08/Fall-25-ST.png
END:VEVENT
BEGIN:VEVENT
DTSTART;TZID=America/Chicago:20260331T100000
DTEND;TZID=America/Chicago:20260331T110000
DTSTAMP:20260420T150856
CREATED:20260217T160824Z
LAST-MODIFIED:20260406T165903Z
UID:10022533-1774951200-1774954800@rclstn.org
SUMMARY:Storybook Stompers at MGL Library
DESCRIPTION:Join us for Storybook Stompers at MGL Library! Every Monday and Tuesday at 10am\, be ready to get moving\, shake out your sillies\, and listen to a story! \nMGL Library is located inside of Patterson Park Community Center.
URL:https://rclstn.org/event/storybook-stompers-at-mgl-library-2-2-2/2026-03-31/
LOCATION:MGL\, 521 Dr. Martin Luther King Blvd\, Murfreesboro\, TN\, 37130\, United States
CATEGORIES:Kids and Family,MGL Youth Services,Myrtle-Glanton Lord (MGL) Library,Story Time
ATTACH;FMTTYPE=image/png:https://rclstn.org/wp-content/uploads/2025/12/mgl_Storybook-Stompers_2026-1.png
END:VEVENT
BEGIN:VEVENT
DTSTART;TZID=America/Chicago:20260331T140000
DTEND;TZID=America/Chicago:20260331T153000
DTSTAMP:20260420T150856
CREATED:20251022T155217Z
LAST-MODIFIED:20251216T214119Z
UID:10020861-1774965600-1774971000@rclstn.org
SUMMARY:Computer Basics
DESCRIPTION:Free computer classes @ the TEC! Come learn basic computer skills\, Windows 10\, Google Docs\, Microsoft Office\, Excel\, PowerPoint and more with self-paced modules and guided instruction. \nThis class\, which is taught by Workforce Essentials\, is for Adults. \nFor more information contact: mamaro@workforceessentials.com
URL:https://rclstn.org/event/computer-basics-2-2-2-2/2026-03-31/
LOCATION:Technology Engagement Center\, 306 Minerva Drive\, Murfreesboro\, TN\, 37130\, United States
CATEGORIES:Adult,Class,Computer/Tech Classes,Technology Engagement Center (TEC)
ATTACH;FMTTYPE=image/png:https://rclstn.org/wp-content/uploads/2025/10/for-TEC-Grafitti-sign.png
END:VEVENT
BEGIN:VEVENT
DTSTART;TZID=America/Chicago:20260331T144500
DTEND;TZID=America/Chicago:20260331T154500
DTSTAMP:20260420T150856
CREATED:20251230T225928Z
LAST-MODIFIED:20251230T225929Z
UID:10022442-1774968300-1774971900@rclstn.org
SUMMARY:READing with Lucas at MGL Library
DESCRIPTION:Join us for READing with Lucas every Tuesday at 1pm at MGL Library! Lucas loves pets and belly rubs- and having a story read to him! Sign up by calling or visiting the library. All ages are welcome! \nMGL Library is proud to participate in the Reading Education Assistance Dogs (R.E.A.D) READing Paws Program. This program is dedicated to improving the reading skills of children using registered therapy teams as literacy mentors. \nMGL Library is located inside of Patterson Park Community Center.
URL:https://rclstn.org/event/reading-with-lucas-at-mgl-library-2/2026-03-31/
LOCATION:MGL\, 521 Dr. Martin Luther King Blvd\, Murfreesboro\, TN\, 37130\, United States
CATEGORIES:Book Group,MGL Youth Services,Myrtle-Glanton Lord (MGL) Library,Story Time
ATTACH;FMTTYPE=image/png:https://rclstn.org/wp-content/uploads/2025/08/MGL_Read-with-Lucas_2026.png
END:VEVENT
BEGIN:VEVENT
DTSTART;TZID=America/Chicago:20260401T100000
DTEND;TZID=America/Chicago:20260401T103000
DTSTAMP:20260420T150856
CREATED:20260213T152200Z
LAST-MODIFIED:20260319T194536Z
UID:10024451-1775037600-1775039400@rclstn.org
SUMMARY:Book Bingo at Smyrna Public Library
DESCRIPTION:Join us at the Smyrna Public Library for Book Bingo @ 10am!
URL:https://rclstn.org/event/book-bingo/
LOCATION:Smyrna Public Library\, 400 Enon Springs Rd W\, Smyrna\, TN\, 37167\, United States
CATEGORIES:Smyrna Public Libary
ATTACH;FMTTYPE=image/png:https://rclstn.org/wp-content/uploads/2026/02/Spring-break-2026-3.png
END:VEVENT
BEGIN:VEVENT
DTSTART;TZID=America/Chicago:20260401T100000
DTEND;TZID=America/Chicago:20260401T104500
DTSTAMP:20260420T150856
CREATED:20251229T171358Z
LAST-MODIFIED:20251229T171453Z
UID:10021260-1775037600-1775040300@rclstn.org
SUMMARY:All-Ages Storytime at Linebaugh
DESCRIPTION:This year’s All-Ages Storytime theme is “A is for All!” with a focus on Fry’s sight words list. Every Tuesday and Wednesday at 10 am we’ll have storytimes full of engaging stories\, silly songs\, a puppet show\, and a craft!
URL:https://rclstn.org/event/all-ages-storytime-at-linebaugh-2-5/2026-04-01/
LOCATION:Linebaugh Public Library\, 105 W Vine St\, Murfreesboro\, TN\, 37130\, United States
ATTACH;FMTTYPE=image/png:https://rclstn.org/wp-content/uploads/2025/08/Fall-25-ST.png
END:VEVENT
BEGIN:VEVENT
DTSTART;TZID=America/Chicago:20260401T150000
DTEND;TZID=America/Chicago:20260401T152500
DTSTAMP:20260420T150856
CREATED:20251231T002828Z
LAST-MODIFIED:20251231T002830Z
UID:10011070-1775055600-1775057100@rclstn.org
SUMMARY:STEAM Lab at MGL Library
DESCRIPTION:Enjoy hands on activities to engage your curiosity and creativity that spans science\, technology\, engineering\, art\, and math! All ages are welcome.
URL:https://rclstn.org/event/s-t-e-a-m-lab-38-2-2-2/2026-04-01/
LOCATION:MGL\, 521 Dr. Martin Luther King Blvd\, Murfreesboro\, TN\, 37130\, United States
CATEGORIES:Kids and Family,MGL Youth Services,Myrtle-Glanton Lord (MGL) Library,STEM
ATTACH;FMTTYPE=image/png:https://rclstn.org/wp-content/uploads/2025/07/MGL_January-STEAM_Social.png
ORGANIZER;CN="Maddie":MAILTO:mhicks@rclstn.org
END:VEVENT
BEGIN:VEVENT
DTSTART;TZID=America/Chicago:20260401T160000
DTEND;TZID=America/Chicago:20260401T170000
DTSTAMP:20260420T150856
CREATED:20260328T182442Z
LAST-MODIFIED:20260328T182444Z
UID:10022036-1775059200-1775062800@rclstn.org
SUMMARY:Young Artists of Linebaugh Library (YALL Club) -- Tween Art Club
DESCRIPTION:Kids aged 8-12 can join us on the 1st Wednesday of every month from 4-5pm in the 1st floor club room at Linebaugh Library to learn a new art or crafting technique! Supplies & space are limited; register online here. Contact Taylor at tdavis@rclstn.org for more information. \nApril: Retro Bead Critters
URL:https://rclstn.org/event/young-artists-of-linebaugh-library-yall-club-tween-art-club-3/
LOCATION:Linebaugh Public Library\, 105 W Vine St\, Murfreesboro\, TN\, 37130\, United States
CATEGORIES:Arts and Crafts,Class,Club,Kids and Family,Linebaugh Public Library,Linebaugh Youth Services,Tween/Teen
ATTACH;FMTTYPE=image/png:https://rclstn.org/wp-content/uploads/2025/12/YALL-Club-Site-2.png
END:VEVENT
BEGIN:VEVENT
DTSTART;TZID=America/Chicago:20260401T173000
DTEND;TZID=America/Chicago:20260401T193000
DTSTAMP:20260420T150856
CREATED:20251230T233848Z
LAST-MODIFIED:20260319T211030Z
UID:10025268-1775064600-1775071800@rclstn.org
SUMMARY:Adult D&D at Smyrna Library
DESCRIPTION:“An adventure where every player is a thief\, the land is wild and names have power” \nSmyrna Library is relaunching our Adult D&D program with our new DM\, Wolfe! Space is limited so please reach out by email Wmacready@rclstn.org to reserve a seat! Sessions will be held on the second and fourth Wednesday of each month.
URL:https://rclstn.org/event/adult-dd-at-smyrna-2/2026-04-01/
LOCATION:TN
CATEGORIES:Adult,Smyrna Public Libary
ATTACH;FMTTYPE=image/png:https://rclstn.org/wp-content/uploads/2025/08/Copy-of-Adult-DD-Sept.-2025.png
END:VEVENT
BEGIN:VEVENT
DTSTART;TZID=America/Chicago:20260401T173000
DTEND;TZID=America/Chicago:20260401T200000
DTSTAMP:20260420T150856
CREATED:20260323T215520Z
LAST-MODIFIED:20260323T215520Z
UID:10025318-1775064600-1775073600@rclstn.org
SUMMARY:Movie Night at Linebaugh
DESCRIPTION:Join us for a showing of The Great Gatsby at Linebaugh Library! Movie rated PG-13. Anyone under 18 must be accompanied by an adult.
URL:https://rclstn.org/event/movie-night-at-linebaugh/
LOCATION:TN
CATEGORIES:Adult,Linebaugh Public Library,Movie
ATTACH;FMTTYPE=image/png:https://rclstn.org/wp-content/uploads/2026/03/The-Great-Gatsby-Website.png
END:VEVENT
BEGIN:VEVENT
DTSTART;TZID=America/Chicago:20260401T180000
DTEND;TZID=America/Chicago:20260401T190000
DTSTAMP:20260420T150856
CREATED:20250114T174248Z
LAST-MODIFIED:20251011T174250Z
UID:10013110-1775066400-1775070000@rclstn.org
SUMMARY:Murfreesboro Writer's Group
DESCRIPTION:The Murfreesboro Writers Group is a group of local writers who seek to improve their work through mutual critique. The group meets every Wednesday at 6:00 p.m. in the 2nd floor Meeting Room at Linebaugh Library. Anyone interested in writing is welcome to visit to see if you’d like to join the group. You might hear science fiction\, poetry\, alternate reality\, memoir\, fantasy\, mystery\, literary fiction\, or more.
URL:https://rclstn.org/event/murfreesboro-writers-group/2026-04-01/
LOCATION:Linebaugh Public Library\, 105 W Vine St\, Murfreesboro\, TN\, 37130\, United States
ATTACH;FMTTYPE=image/png:https://rclstn.org/wp-content/uploads/2025/01/Screenshot-2025-01-14-at-11.41.28 AM.png
END:VEVENT
BEGIN:VEVENT
DTSTART;VALUE=DATE:20260402
DTEND;VALUE=DATE:20260403
DTSTAMP:20260420T150856
CREATED:20251126T175500Z
LAST-MODIFIED:20251126T180242Z
UID:10021637-1775088000-1775174399@rclstn.org
SUMMARY:Spice Club @Linebaugh Library
DESCRIPTION:Each month we will spotlight a specific spice or herb\, learning its history\, origins\, and uses. Packets with spice samples\, recipes\, and more will be available at the front desk while supplies last. \n  \n 
URL:https://rclstn.org/event/spice-club-linebaugh-library/2026-04-02/
LOCATION:Linebaugh Public Library\, 105 W Vine St\, Murfreesboro\, TN\, 37130\, United States
ATTACH;FMTTYPE=image/png:https://rclstn.org/wp-content/uploads/2025/11/LIN-Spice-Club-45-2.png
END:VEVENT
BEGIN:VEVENT
DTSTART;TZID=America/Chicago:20260402T100000
DTEND;TZID=America/Chicago:20260402T103000
DTSTAMP:20260420T150856
CREATED:20250820T144232Z
LAST-MODIFIED:20250820T144232Z
UID:10018347-1775124000-1775125800@rclstn.org
SUMMARY:Itty Bitty Storytime
DESCRIPTION:Thursday Itty Bitty Storytimes are for our littlest patrons (aged 0-23 months) and feature fingerplays\, lap bounces\, and board book stories in a shorter format. We keep the same songs and fingerplays for a month at a time\, so you can learn them and use them at home with your family!
URL:https://rclstn.org/event/itty-bitty-storytime-2/2026-04-02/
LOCATION:Linebaugh Public Library\, 105 W Vine St\, Murfreesboro\, TN\, 37130\, United States
CATEGORIES:Kids and Family,Linebaugh Youth Services,Story Time
ATTACH;FMTTYPE=image/png:https://rclstn.org/wp-content/uploads/2025/08/Fall-25-Itty-Bitty.png
END:VEVENT
BEGIN:VEVENT
DTSTART;TZID=America/Chicago:20260402T100000
DTEND;TZID=America/Chicago:20260402T110000
DTSTAMP:20260420T150856
CREATED:20260213T152628Z
LAST-MODIFIED:20260319T194634Z
UID:10024452-1775124000-1775127600@rclstn.org
SUMMARY:Outdoor Murfreesboro Live Bird Demonstration at Smyrna Public Library
DESCRIPTION:Join us at the Smyrna Public Library to see a Live Bird Demonstration presented by Outdoor Murfreesboro @ 10am. Birds of prey will be present to strut their stuff! Please make sure the children you bring can be quiet while the birds are in the room.
URL:https://rclstn.org/event/outdoor-murfreesboro-live-bird-demonstration/
LOCATION:Smyrna Public Library\, 400 Enon Springs Rd W\, Smyrna\, TN\, 37167\, United States
CATEGORIES:Smyrna Public Libary,Smyrna Youth Services
ATTACH;FMTTYPE=image/png:https://rclstn.org/wp-content/uploads/2026/02/Spring-break-2026.png
END:VEVENT
BEGIN:VEVENT
DTSTART;TZID=America/Chicago:20260402T130000
DTEND;TZID=America/Chicago:20260402T140000
DTSTAMP:20260420T150856
CREATED:20231218T211238Z
LAST-MODIFIED:20251002T215515Z
UID:10000520-1775134800-1775138400@rclstn.org
SUMMARY:Afternoon Book Group
DESCRIPTION:The Afternoon Book Group meets on the 1st Thursday of each month at 1 p.m. The Afternoon Book Club reads a mixture of light and serious novels and nonfiction and enjoys outings several times a year. \nClick here to see the schedule for their monthly reads. \nThis group meets in the Linebaugh Conference Room on the 2nd floor. \n  \n 
URL:https://rclstn.org/event/afternoon-book-group/2026-04-02/
LOCATION:Linebaugh Public Library\, 105 W Vine St\, Murfreesboro\, TN\, 37130\, United States
CATEGORIES:Book Group,Linebaugh Public Library
ATTACH;FMTTYPE=image/jpeg:https://rclstn.org/wp-content/uploads/2023/12/Book-Club.jpg
END:VEVENT
BEGIN:VEVENT
DTSTART;TZID=America/Chicago:20260402T160000
DTEND;TZID=America/Chicago:20260402T164500
DTSTAMP:20260420T150856
CREATED:20250821T161845Z
LAST-MODIFIED:20250821T162222Z
UID:10018428-1775145600-1775148300@rclstn.org
SUMMARY:Girls Who Code Club
DESCRIPTION:Girls Who Code club is for 3rd – 5th graders interested in coding\, technology\, and design. Offered every Thursday 4-4:45 pm at Linebaugh Public Library\, we’ll learn about the basics of computer logic\, pioneers in tech fields\, and how AI works. \nGirls Who Code: \n\nis FREE\ndoes not require a device\ndoes not require any prior coding knowledge\nis not only for girls!
URL:https://rclstn.org/event/girls-who-code-club-2/2026-04-02/
LOCATION:Linebaugh Public Library\, 105 W Vine St\, Murfreesboro\, TN\, 37130\, United States
CATEGORIES:Club,Kids and Family,Linebaugh Youth Services,STEAM,STEM,Tween/Teen
ATTACH;FMTTYPE=image/png:https://rclstn.org/wp-content/uploads/2025/08/Fall-25-GWC-rec-2.png
END:VEVENT
BEGIN:VEVENT
DTSTART;TZID=America/Chicago:20260402T160000
DTEND;TZID=America/Chicago:20260402T180000
DTSTAMP:20260420T150856
CREATED:20260115T205441Z
LAST-MODIFIED:20260115T205441Z
UID:10023386-1775145600-1775152800@rclstn.org
SUMMARY:Teen D&D at Smyrna Library
DESCRIPTION:Join us for Teen Dungeons & Dragons! \nRecommended Age is 13-17 \nWe are playing 5th edition game in a classic fantasy setting. Help save the realm from a group of insidious tyrants! \nThis is an ongoing campaign but new players may join the group. \nCharacter sheets and dice are provided upon request. We meet every first and third Thursday of the month from 4pm-6pm. \nThe session is currently at capacity but we may have slots open up or begin a second table. Please email TLOVE@RCLSTN.ORG to be added to the waitlist!
URL:https://rclstn.org/event/teen-dd-at-smyrna-library-2/2026-04-02/
LOCATION:TN
CATEGORIES:Club,Smyrna Public Libary,Smyrna Youth Services,Teen
ATTACH;FMTTYPE=image/png:https://rclstn.org/wp-content/uploads/2026/01/TEEN-DND-1.png
END:VEVENT
BEGIN:VEVENT
DTSTART;TZID=America/Chicago:20260402T180000
DTEND;TZID=America/Chicago:20260402T193000
DTSTAMP:20260420T150856
CREATED:20260312T180121Z
LAST-MODIFIED:20260416T010345Z
UID:10024937-1775152800-1775158200@rclstn.org
SUMMARY:Microsoft Word 101 at Smyrna
DESCRIPTION:This is an ongoing course that will teach patrons the basics of using Microsoft Word. \nCourse begins  March 26th. Sessions will be held every Thursday from 6pm to 7:30pm \nRegistration is required. Seating is limited. \nClick the link to register: Microsoft Word 101 Course \n 
URL:https://rclstn.org/event/microsoft-word-101/2026-04-02/
LOCATION:Smyrna Public Library\, 400 Enon Springs Rd W\, Smyrna\, TN\, 37167\, United States
CATEGORIES:Adult,Class,Computer/Tech Classes
ATTACH;FMTTYPE=image/png:https://rclstn.org/wp-content/uploads/2026/03/word101_2.png
END:VEVENT
BEGIN:VEVENT
DTSTART;TZID=America/Chicago:20260403T100000
DTEND;TZID=America/Chicago:20260403T103000
DTSTAMP:20260420T150856
CREATED:20260227T175108Z
LAST-MODIFIED:20260227T175108Z
UID:10015457-1775210400-1775212200@rclstn.org
SUMMARY:Storytime at MGL Library
DESCRIPTION:Join us for stories\, songs\, and a craft every Friday morning at 10 am in MGL’s STEAM Room! All ages are welcome. \n  \nMarch storytimes: \nMar 6: Read Across America \nMar 13: St. Patrick’s Day \nMar 20: Farming \nMar 27: Springtime \n  \nMGL Library is located inside of Patterson Park Community Center.
URL:https://rclstn.org/event/mgl-storytime-4-2-2-2-2-2-2/2026-04-03/
LOCATION:MGL\, 521 Dr. Martin Luther King Blvd\, Murfreesboro\, TN\, 37130\, United States
CATEGORIES:Kids and Family,MGL Youth Services,Myrtle-Glanton Lord (MGL) Library,Story Time
ATTACH;FMTTYPE=image/png:https://rclstn.org/wp-content/uploads/2025/12/MGL_Storytimes_MAR-26.png
ORGANIZER;CN="Maddie":MAILTO:mhicks@rclstn.org
END:VEVENT
BEGIN:VEVENT
DTSTART;TZID=America/Chicago:20260403T100000
DTEND;TZID=America/Chicago:20260403T110000
DTSTAMP:20260420T150856
CREATED:20260213T152850Z
LAST-MODIFIED:20260319T194643Z
UID:10024453-1775210400-1775214000@rclstn.org
SUMMARY:Family Movie at Smyrna Public Library
DESCRIPTION:Join us at the Smyrna Public Library for a family viewing of Zootopia 2! Movie starts @ 10am!
URL:https://rclstn.org/event/family-movie/
LOCATION:Smyrna Public Library\, 400 Enon Springs Rd W\, Smyrna\, TN\, 37167\, United States
CATEGORIES:Smyrna Public Libary
ATTACH;FMTTYPE=image/png:https://rclstn.org/wp-content/uploads/2026/02/Spring-break-2026-3.png
END:VEVENT
BEGIN:VEVENT
DTSTART;TZID=America/Chicago:20260403T130000
DTEND;TZID=America/Chicago:20260403T140000
DTSTAMP:20260420T150856
CREATED:20250717T184458Z
LAST-MODIFIED:20260417T174953Z
UID:10024404-1775221200-1775224800@rclstn.org
SUMMARY:Chair Yoga at Smyrna Library
DESCRIPTION:Chair Yoga is an exercise and stretch class designed to be done with the support of a chair. It’s an ideal exercise for those who don’t want to get on the floor or who can benefit from a chair to support their balance. It’s typically practiced by older adults or people recovering from injuries. Try it out for free at Smyrna Public Library!
URL:https://rclstn.org/event/chair-yoga-at-smyrna-library-2/2026-04-03/
LOCATION:Smyrna Public Library\, 400 Enon Springs Rd W\, Smyrna\, TN\, 37167\, United States
CATEGORIES:Adult,Class,Kids and Family,Smyrna Public Libary,Teen,Teen/Adult,Tween/Teen
ATTACH;FMTTYPE=image/png:https://rclstn.org/wp-content/uploads/2025/07/All-Ages-Chair-Yoga-Fridays-1.png
END:VEVENT
BEGIN:VEVENT
DTSTART;TZID=America/Chicago:20260403T150000
DTEND;TZID=America/Chicago:20260403T170000
DTSTAMP:20260420T150856
CREATED:20250812T171304Z
LAST-MODIFIED:20250812T171326Z
UID:10017900-1775228400-1775235600@rclstn.org
SUMMARY:LEGO Jr. Club at the TEC
DESCRIPTION:Join us at the Technology Engagement Center for a fun-filled afternoon of creativity and construction! Our Lego Club offers a chance to build\, play\, and unleash your imagination. Every month\, will bring an exciting new building challenge where you can showcase your skills. Don’t miss out on the fun—bring your friends and your best building ideas! \nThe LEGO Club at the TEC meets two times per month. The first Friday of the month is for builders 5-8 years old and the third Friday of the month is for builders 9+ years old. Each session meets at 3:00pm. \nThis program is free and open to the public.
URL:https://rclstn.org/event/lego-jr-club-at-the-tec/2026-04-03/
LOCATION:Technology Engagement Center\, 306 Minerva Drive\, Murfreesboro\, TN\, 37130\, United States
CATEGORIES:Club,Kids and Family,TEC Youth Services,Technology Engagement Center (TEC)
ATTACH;FMTTYPE=image/png:https://rclstn.org/wp-content/uploads/2025/08/TEC_Recurring-Events-Flyers.png
ORGANIZER;CN="Lee":MAILTO:hcurtis@rclstn.org
END:VEVENT
BEGIN:VEVENT
DTSTART;TZID=America/Chicago:20260404T080000
DTEND;TZID=America/Chicago:20260404T170000
DTSTAMP:20260420T150856
CREATED:20260323T202905Z
LAST-MODIFIED:20260323T202905Z
UID:10025316-1775289600-1775322000@rclstn.org
SUMMARY:CLOSED for Easter
DESCRIPTION:All branches CLOSED for Easter
URL:https://rclstn.org/event/closed-for-easter/2026-04-04/
LOCATION:TN
END:VEVENT
BEGIN:VEVENT
DTSTART;TZID=America/Chicago:20260405T080000
DTEND;TZID=America/Chicago:20260405T180000
DTSTAMP:20260420T150856
CREATED:20260323T202905Z
LAST-MODIFIED:20260323T202905Z
UID:10025317-1775376000-1775412000@rclstn.org
SUMMARY:CLOSED for Easter
DESCRIPTION:All branches CLOSED for Easter
URL:https://rclstn.org/event/closed-for-easter/2026-04-05/
LOCATION:TN
END:VEVENT
END:VCALENDAR