BEGIN:VCALENDAR
VERSION:2.0
PRODID:-//RCLS+ - ECPv6.15.20//NONSGML v1.0//EN
CALSCALE:GREGORIAN
METHOD:PUBLISH
X-ORIGINAL-URL:https://rclstn.org
X-WR-CALDESC:Events for RCLS+
REFRESH-INTERVAL;VALUE=DURATION:PT1H
X-Robots-Tag:noindex
X-PUBLISHED-TTL:PT1H
BEGIN:VTIMEZONE
TZID:America/Chicago
BEGIN:DAYLIGHT
TZOFFSETFROM:-0600
TZOFFSETTO:-0500
TZNAME:CDT
DTSTART:20250309T080000
END:DAYLIGHT
BEGIN:STANDARD
TZOFFSETFROM:-0500
TZOFFSETTO:-0600
TZNAME:CST
DTSTART:20251102T070000
END:STANDARD
BEGIN:DAYLIGHT
TZOFFSETFROM:-0600
TZOFFSETTO:-0500
TZNAME:CDT
DTSTART:20260308T080000
END:DAYLIGHT
BEGIN:STANDARD
TZOFFSETFROM:-0500
TZOFFSETTO:-0600
TZNAME:CST
DTSTART:20261101T070000
END:STANDARD
BEGIN:DAYLIGHT
TZOFFSETFROM:-0600
TZOFFSETTO:-0500
TZNAME:CDT
DTSTART:20270314T080000
END:DAYLIGHT
BEGIN:STANDARD
TZOFFSETFROM:-0500
TZOFFSETTO:-0600
TZNAME:CST
DTSTART:20271107T070000
END:STANDARD
END:VTIMEZONE
BEGIN:VEVENT
DTSTART;VALUE=DATE:20260125
DTEND;VALUE=DATE:20260315
DTSTAMP:20260422T065453
CREATED:20251231T193639Z
LAST-MODIFIED:20260115T185821Z
UID:10022648-1769299200-1773532799@rclstn.org
SUMMARY:Smyrna Winter Reading Program: Reading is SNOW Much Fun!
DESCRIPTION:This year\, Reading is SNOW much fun with the Walter King Hoover Winter Reading Challenge! This program is designed to encourage life-long reading habits. Registration for the Reading Program goes live on 1/25/2026\, and you can begin submitting your reviews from February 1 to March 14. \n  \nAll participants who submit 6 reviews will receive a Winter Reading Completion Prize\, as well as 1 Grand Prize entry. For 1 additional entry into the Grand Prize drawing\, read an additional 5 titles.  The Grand Prize Reader will receive a gift card awarded by the Friends of Smyrna Library in addition to the entries into the grand prize drawing. There are also prizes for the Silver & Bronze Readers. Read six books in six consecutive weeks\, and log your reading progress. Each book is worth 100 points; when you earn 600 points\, you’ll receive a completion certificate you can print and share! Participants can register through ReadSquared by selecting the Program Title or emailing smyrnareadingprogram@rclstn.org. You can also pick up a review worksheet at the library and turn in your 6 hand-written reviews by 3/14/2026.
URL:https://rclstn.org/event/smyrna-winter-reading-program-reading-is-snow-much-fun/
LOCATION:Smyrna Public Library\, 400 Enon Springs Rd W\, Smyrna\, TN\, 37167\, United States
CATEGORIES:Family,Teen,Teen/Adult,Tween/Teen
ATTACH;FMTTYPE=image/png:https://rclstn.org/wp-content/uploads/2025/12/2026WRP-Socials.png
END:VEVENT
BEGIN:VEVENT
DTSTART;TZID=America/Chicago:20260219T160000
DTEND;TZID=America/Chicago:20260219T180000
DTSTAMP:20260422T065453
CREATED:20260115T205159Z
LAST-MODIFIED:20260115T205357Z
UID:10023205-1771516800-1771524000@rclstn.org
SUMMARY:Teen D&D at Smyrna Library
DESCRIPTION:Join us for Teen Dungeons & Dragons! \nRecommended Age is 13-17 \nWe are playing 5th edition game in a classic fantasy setting. Help save the realm from a group of insidious tyrants! \nThis is an ongoing campaign but new players may join the group. \nCharacter sheets and dice are provided upon request. We meet every first and third Thursday of the month from 4pm-6pm. \nThe session is currently at capacity but we may have slots open up or begin a second table. Please email TLOVE@RCLSTN.ORG to be added to the waitlist!
URL:https://rclstn.org/event/teen-dd-at-smyrna-library/2026-02-19/
LOCATION:TN
CATEGORIES:Club,Smyrna Public Libary,Smyrna Youth Services,Teen
ATTACH;FMTTYPE=image/png:https://rclstn.org/wp-content/uploads/2026/01/TEEN-DND-1.png
END:VEVENT
END:VCALENDAR