BEGIN:VCALENDAR
VERSION:2.0
PRODID:-//RCLS+ - ECPv6.15.20//NONSGML v1.0//EN
CALSCALE:GREGORIAN
METHOD:PUBLISH
X-WR-CALNAME:RCLS+
X-ORIGINAL-URL:https://rclstn.org
X-WR-CALDESC:Events for RCLS+
REFRESH-INTERVAL;VALUE=DURATION:PT1H
X-Robots-Tag:noindex
X-PUBLISHED-TTL:PT1H
BEGIN:VTIMEZONE
TZID:America/Chicago
BEGIN:DAYLIGHT
TZOFFSETFROM:-0600
TZOFFSETTO:-0500
TZNAME:CDT
DTSTART:20250309T080000
END:DAYLIGHT
BEGIN:STANDARD
TZOFFSETFROM:-0500
TZOFFSETTO:-0600
TZNAME:CST
DTSTART:20251102T070000
END:STANDARD
BEGIN:DAYLIGHT
TZOFFSETFROM:-0600
TZOFFSETTO:-0500
TZNAME:CDT
DTSTART:20260308T080000
END:DAYLIGHT
BEGIN:STANDARD
TZOFFSETFROM:-0500
TZOFFSETTO:-0600
TZNAME:CST
DTSTART:20261101T070000
END:STANDARD
BEGIN:DAYLIGHT
TZOFFSETFROM:-0600
TZOFFSETTO:-0500
TZNAME:CDT
DTSTART:20270314T080000
END:DAYLIGHT
BEGIN:STANDARD
TZOFFSETFROM:-0500
TZOFFSETTO:-0600
TZNAME:CST
DTSTART:20271107T070000
END:STANDARD
END:VTIMEZONE
BEGIN:VEVENT
DTSTART;VALUE=DATE:20260125
DTEND;VALUE=DATE:20260315
DTSTAMP:20260422T001051
CREATED:20251231T193639Z
LAST-MODIFIED:20260115T185821Z
UID:10022648-1769299200-1773532799@rclstn.org
SUMMARY:Smyrna Winter Reading Program: Reading is SNOW Much Fun!
DESCRIPTION:This year\, Reading is SNOW much fun with the Walter King Hoover Winter Reading Challenge! This program is designed to encourage life-long reading habits. Registration for the Reading Program goes live on 1/25/2026\, and you can begin submitting your reviews from February 1 to March 14. \n  \nAll participants who submit 6 reviews will receive a Winter Reading Completion Prize\, as well as 1 Grand Prize entry. For 1 additional entry into the Grand Prize drawing\, read an additional 5 titles.  The Grand Prize Reader will receive a gift card awarded by the Friends of Smyrna Library in addition to the entries into the grand prize drawing. There are also prizes for the Silver & Bronze Readers. Read six books in six consecutive weeks\, and log your reading progress. Each book is worth 100 points; when you earn 600 points\, you’ll receive a completion certificate you can print and share! Participants can register through ReadSquared by selecting the Program Title or emailing smyrnareadingprogram@rclstn.org. You can also pick up a review worksheet at the library and turn in your 6 hand-written reviews by 3/14/2026.
URL:https://rclstn.org/event/smyrna-winter-reading-program-reading-is-snow-much-fun/
LOCATION:Smyrna Public Library\, 400 Enon Springs Rd W\, Smyrna\, TN\, 37167\, United States
CATEGORIES:Family,Teen,Teen/Adult,Tween/Teen
ATTACH;FMTTYPE=image/png:https://rclstn.org/wp-content/uploads/2025/12/2026WRP-Socials.png
END:VEVENT
BEGIN:VEVENT
DTSTART;TZID=America/Chicago:20260213T130000
DTEND;TZID=America/Chicago:20260213T140000
DTSTAMP:20260422T001051
CREATED:20250717T184458Z
LAST-MODIFIED:20260417T174953Z
UID:10016339-1770987600-1770991200@rclstn.org
SUMMARY:Chair Yoga at Smyrna Library
DESCRIPTION:Chair Yoga is an exercise and stretch class designed to be done with the support of a chair. It’s an ideal exercise for those who don’t want to get on the floor or who can benefit from a chair to support their balance. It’s typically practiced by older adults or people recovering from injuries. Try it out for free at Smyrna Public Library!
URL:https://rclstn.org/event/chair-yoga-at-smyrna-library-2/2026-02-13/
LOCATION:Smyrna Public Library\, 400 Enon Springs Rd W\, Smyrna\, TN\, 37167\, United States
CATEGORIES:Adult,Class,Kids and Family,Smyrna Public Libary,Teen,Teen/Adult,Tween/Teen
ATTACH;FMTTYPE=image/png:https://rclstn.org/wp-content/uploads/2025/07/All-Ages-Chair-Yoga-Fridays-1.png
END:VEVENT
BEGIN:VEVENT
DTSTART;TZID=America/Chicago:20260213T140000
DTEND;TZID=America/Chicago:20260213T150000
DTSTAMP:20260422T001051
CREATED:20251230T211910Z
LAST-MODIFIED:20260409T173432Z
UID:10022927-1770991200-1770994800@rclstn.org
SUMMARY:Phone Photography 101 at Smyrna
DESCRIPTION:New Year\, New Skill! Unlock the full potential of your smartphone to capture stunning photographs through expert guidance on camera settings\, composition techniques\, and editing strategies. Become a master photographer and join us at Smyrna Public Library for Phone Photography 101. This is an all-ages event; however\, any child under the age of 13 must have a parent present and some knowledge of smartphones in order to attend.
URL:https://rclstn.org/event/phone-photography-101-at-smyrna/2026-02-13/
LOCATION:Smyrna Public Library\, 400 Enon Springs Rd W\, Smyrna\, TN\, 37167\, United States
CATEGORIES:Adult,Class,Smyrna Public Libary,Teen,Teen/Adult,Tween/Teen
ATTACH;FMTTYPE=image/png:https://rclstn.org/wp-content/uploads/2025/12/SMY_Photography101-1.png
END:VEVENT
END:VCALENDAR