BEGIN:VCALENDAR
VERSION:2.0
PRODID:-//RCLS+ - ECPv6.15.20//NONSGML v1.0//EN
CALSCALE:GREGORIAN
METHOD:PUBLISH
X-ORIGINAL-URL:https://rclstn.org
X-WR-CALDESC:Events for RCLS+
REFRESH-INTERVAL;VALUE=DURATION:PT1H
X-Robots-Tag:noindex
X-PUBLISHED-TTL:PT1H
BEGIN:VTIMEZONE
TZID:America/Chicago
BEGIN:DAYLIGHT
TZOFFSETFROM:-0600
TZOFFSETTO:-0500
TZNAME:CDT
DTSTART:20250309T080000
END:DAYLIGHT
BEGIN:STANDARD
TZOFFSETFROM:-0500
TZOFFSETTO:-0600
TZNAME:CST
DTSTART:20251102T070000
END:STANDARD
BEGIN:DAYLIGHT
TZOFFSETFROM:-0600
TZOFFSETTO:-0500
TZNAME:CDT
DTSTART:20260308T080000
END:DAYLIGHT
BEGIN:STANDARD
TZOFFSETFROM:-0500
TZOFFSETTO:-0600
TZNAME:CST
DTSTART:20261101T070000
END:STANDARD
BEGIN:DAYLIGHT
TZOFFSETFROM:-0600
TZOFFSETTO:-0500
TZNAME:CDT
DTSTART:20270314T080000
END:DAYLIGHT
BEGIN:STANDARD
TZOFFSETFROM:-0500
TZOFFSETTO:-0600
TZNAME:CST
DTSTART:20271107T070000
END:STANDARD
END:VTIMEZONE
BEGIN:VEVENT
DTSTART;TZID=America/Chicago:20260112T163000
DTEND;TZID=America/Chicago:20260112T193000
DTSTAMP:20260424T104722
CREATED:20251231T191514Z
LAST-MODIFIED:20251231T191514Z
UID:10022647-1768235400-1768246200@rclstn.org
SUMMARY:Teen Gamer Block Party at Smyrna
DESCRIPTION:Join us for our first Teen Gamer Block Party at Smyrna Public Library on January 12th from 4:30-7:30 PM. This event is for Ages 13-17 only. Drop in Gaming for 3 Hours on Xbox One\, Nintendo Switch\, PlayStation 5 & 3 Gaming Computers. This event is first-come\, first-served\, and will be divided into 30-minute sessions. You may bring your own game; only games E & T are allowed. Games are available at the library to check out for the event. 
URL:https://rclstn.org/event/teen-gamer-block-party-at-smyrna/
LOCATION:Smyrna Public Library\, 400 Enon Springs Rd W\, Smyrna\, TN\, 37167\, United States
CATEGORIES:Smyrna Public Libary,Teen
ATTACH;FMTTYPE=image/png:https://rclstn.org/wp-content/uploads/2025/12/SMY-Gamer-Block-Party.png
END:VEVENT
END:VCALENDAR