BEGIN:VCALENDAR
VERSION:2.0
PRODID:-//RCLS+ - ECPv6.15.20//NONSGML v1.0//EN
CALSCALE:GREGORIAN
METHOD:PUBLISH
X-ORIGINAL-URL:https://rclstn.org
X-WR-CALDESC:Events for RCLS+
REFRESH-INTERVAL;VALUE=DURATION:PT1H
X-Robots-Tag:noindex
X-PUBLISHED-TTL:PT1H
BEGIN:VTIMEZONE
TZID:America/Chicago
BEGIN:DAYLIGHT
TZOFFSETFROM:-0600
TZOFFSETTO:-0500
TZNAME:CDT
DTSTART:20250309T080000
END:DAYLIGHT
BEGIN:STANDARD
TZOFFSETFROM:-0500
TZOFFSETTO:-0600
TZNAME:CST
DTSTART:20251102T070000
END:STANDARD
BEGIN:DAYLIGHT
TZOFFSETFROM:-0600
TZOFFSETTO:-0500
TZNAME:CDT
DTSTART:20260308T080000
END:DAYLIGHT
BEGIN:STANDARD
TZOFFSETFROM:-0500
TZOFFSETTO:-0600
TZNAME:CST
DTSTART:20261101T070000
END:STANDARD
BEGIN:DAYLIGHT
TZOFFSETFROM:-0600
TZOFFSETTO:-0500
TZNAME:CDT
DTSTART:20270314T080000
END:DAYLIGHT
BEGIN:STANDARD
TZOFFSETFROM:-0500
TZOFFSETTO:-0600
TZNAME:CST
DTSTART:20271107T070000
END:STANDARD
END:VTIMEZONE
BEGIN:VEVENT
DTSTART;VALUE=DATE:20260125
DTEND;VALUE=DATE:20260315
DTSTAMP:20260421T194916
CREATED:20251231T193639Z
LAST-MODIFIED:20260115T185821Z
UID:10022648-1769299200-1773532799@rclstn.org
SUMMARY:Smyrna Winter Reading Program: Reading is SNOW Much Fun!
DESCRIPTION:This year\, Reading is SNOW much fun with the Walter King Hoover Winter Reading Challenge! This program is designed to encourage life-long reading habits. Registration for the Reading Program goes live on 1/25/2026\, and you can begin submitting your reviews from February 1 to March 14. \n  \nAll participants who submit 6 reviews will receive a Winter Reading Completion Prize\, as well as 1 Grand Prize entry. For 1 additional entry into the Grand Prize drawing\, read an additional 5 titles.  The Grand Prize Reader will receive a gift card awarded by the Friends of Smyrna Library in addition to the entries into the grand prize drawing. There are also prizes for the Silver & Bronze Readers. Read six books in six consecutive weeks\, and log your reading progress. Each book is worth 100 points; when you earn 600 points\, you’ll receive a completion certificate you can print and share! Participants can register through ReadSquared by selecting the Program Title or emailing smyrnareadingprogram@rclstn.org. You can also pick up a review worksheet at the library and turn in your 6 hand-written reviews by 3/14/2026.
URL:https://rclstn.org/event/smyrna-winter-reading-program-reading-is-snow-much-fun/
LOCATION:Smyrna Public Library\, 400 Enon Springs Rd W\, Smyrna\, TN\, 37167\, United States
CATEGORIES:Family,Teen,Teen/Adult,Tween/Teen
ATTACH;FMTTYPE=image/png:https://rclstn.org/wp-content/uploads/2025/12/2026WRP-Socials.png
END:VEVENT
BEGIN:VEVENT
DTSTART;TZID=America/Chicago:20260201T130000
DTEND;TZID=America/Chicago:20260201T150000
DTSTAMP:20260421T194916
CREATED:20260117T220101Z
LAST-MODIFIED:20260117T220144Z
UID:10023649-1769950800-1769958000@rclstn.org
SUMMARY:TEC Farm Tote Maker Event
DESCRIPTION:Need a fun DIY gift idea? Are you a frequent shopper of the farmer’s market? Join us at the TEC and learn how to make a multi-purpose tote from an upcycled feed bag! This event is for ages 16 and up. \nAll materials supplied Must register\, limited space.\nRegister here
URL:https://rclstn.org/event/tec-farm-tote-maker-event/
LOCATION:Technology Engagement Center\, 306 Minerva Drive\, Murfreesboro\, TN\, 37130\, United States
CATEGORIES:Adult,Arts and Crafts,Technology Engagement Center (TEC),Teen,Teen/Adult
ATTACH;FMTTYPE=image/png:https://rclstn.org/wp-content/uploads/2026/01/February-Events-2026-Amanda-2.png
ORGANIZER;CN="Kathleen":MAILTO:info-tec@rclstn.org
END:VEVENT
BEGIN:VEVENT
DTSTART;TZID=America/Chicago:20260203T160000
DTEND;TZID=America/Chicago:20260203T173000
DTSTAMP:20260421T194916
CREATED:20260116T161953Z
LAST-MODIFIED:20260116T162954Z
UID:10023522-1770134400-1770139800@rclstn.org
SUMMARY:Teen BYOCC @ Linebaugh Public Library
DESCRIPTION:Come get your craft on with us every 1st Tuesday here at Linebaugh at our teen BYOCC–Bring Your Own Craft Club! We meet in the 1st floor clubroom from 4-5:30pm and welcome crafters of all proficiencies and mediums. Whether you’re a visual artist\, a jewelry maker\, a fabric artist\, or are making something totally new\, we want you to come hang out & meet other teen crafters for a chill social. \nAges 13-18 welcome. Contact Taylor at tdavis@rclstn.org for more information.
URL:https://rclstn.org/event/teen-byocc-linebaugh-public-library/2026-02-03/
LOCATION:Linebaugh Public Library\, 105 W Vine St\, Murfreesboro\, TN\, 37130\, United States
CATEGORIES:Arts and Crafts,Club,Linebaugh Public Library,Linebaugh Youth Services,Teen
ATTACH;FMTTYPE=application/pdf:https://rclstn.org/wp-content/uploads/2026/01/Teen-BYOCC-Flyer-.pdf
END:VEVENT
BEGIN:VEVENT
DTSTART;TZID=America/Chicago:20260205T160000
DTEND;TZID=America/Chicago:20260205T180000
DTSTAMP:20260421T194916
CREATED:20260115T205441Z
LAST-MODIFIED:20260115T205441Z
UID:10023384-1770307200-1770314400@rclstn.org
SUMMARY:Teen D&D at Smyrna Library
DESCRIPTION:Join us for Teen Dungeons & Dragons! \nRecommended Age is 13-17 \nWe are playing 5th edition game in a classic fantasy setting. Help save the realm from a group of insidious tyrants! \nThis is an ongoing campaign but new players may join the group. \nCharacter sheets and dice are provided upon request. We meet every first and third Thursday of the month from 4pm-6pm. \nThe session is currently at capacity but we may have slots open up or begin a second table. Please email TLOVE@RCLSTN.ORG to be added to the waitlist!
URL:https://rclstn.org/event/teen-dd-at-smyrna-library-2/2026-02-05/
LOCATION:TN
CATEGORIES:Club,Smyrna Public Libary,Smyrna Youth Services,Teen
ATTACH;FMTTYPE=image/png:https://rclstn.org/wp-content/uploads/2026/01/TEEN-DND-1.png
END:VEVENT
BEGIN:VEVENT
DTSTART;TZID=America/Chicago:20260206T100000
DTEND;TZID=America/Chicago:20260206T110000
DTSTAMP:20260421T194916
CREATED:20260115T184932Z
LAST-MODIFIED:20260115T184932Z
UID:10023199-1770372000-1770375600@rclstn.org
SUMMARY:Take Your Child to the Library (SNOW) Day at Smyrna
DESCRIPTION:Join us for a Winter Reading Program celebration with a huge outdoor Snow Party! Come play in the snow\, get some treats\, and meet community resource partners like the Smyrna Outdoor Adventure Center and Starbucks. This event is to get you registered and reading for the Reading is Snow Much Fun! With the Walter King Hoover Memorial Winter Reading Program. This is an all-ages event; children 12 and under must be accompanied by a parent or legal guardian.
URL:https://rclstn.org/event/take-your-child-to-the-library-snow-day-at-smyrna/
LOCATION:Smyrna Public Library\, 400 Enon Springs Rd W\, Smyrna\, TN\, 37167\, United States
CATEGORIES:Adult,Kids and Family,Smyrna Public Libary,Teen,Teen/Adult,Tween/Teen
ATTACH;FMTTYPE=image/png:https://rclstn.org/wp-content/uploads/2026/01/Come-Chill-at-the-Smyrna-Library.png
END:VEVENT
BEGIN:VEVENT
DTSTART;TZID=America/Chicago:20260207T140000
DTEND;TZID=America/Chicago:20260207T160000
DTSTAMP:20260421T194916
CREATED:20260115T155933Z
LAST-MODIFIED:20260115T155933Z
UID:10022913-1770472800-1770480000@rclstn.org
SUMMARY:Movie Matinee at Smyrna
DESCRIPTION:Come join us at the Smyrna Library for a showing of 2025’s live action Lilo & Stitch! \nA lonely Hawaiian girl befriends a runaway alien\, helping to mend her fragmented family. \nBring your favorite movie snacks! \nThis film is rated PG for action\, peril and thematic elements.
URL:https://rclstn.org/event/movie-matinee-at-smyrna-11/
LOCATION:TN
CATEGORIES:Adult,Kids and Family,Movie,Smyrna Public Libary,Teen,Teen/Adult,Tween/Teen
ATTACH;FMTTYPE=image/png:https://rclstn.org/wp-content/uploads/2026/01/LILO_STITCH_2025_poster-plain.png
END:VEVENT
BEGIN:VEVENT
DTSTART;TZID=America/Chicago:20260207T143000
DTEND;TZID=America/Chicago:20260207T163000
DTSTAMP:20260421T194916
CREATED:20260116T163438Z
LAST-MODIFIED:20260116T173949Z
UID:10023582-1770474600-1770481800@rclstn.org
SUMMARY:Teen Advisory Board (TAB) @ Linebaugh
DESCRIPTION:TAB meets every 1st Saturday of the month from 2:30-4:30pm in the 1st floor club room at Linebaugh Public Library! \n2026 Meeting Changes/Cancellations: \n\nFeb. 7th– delayed to 3:30-4:30pm due to Bluey Day\nApr. 4th– CANCELLED due to Easter holiday\nMay 2nd– delayed to 3:30-4:30pm due to Free Comic Book Day\nJuly 4th– CANCELLED due to Independence Day holiday\nSept. 5th– CANCELLED due to Labor Day holiday\n\nTeen Advisory Board (or TAB) is a great way for teens aged 13-18 to get involved in their community\, make their voices heard\, and earn service hours! Think of it like a “student council” for the local library. We plan events (like the ones on this page!)\, curate a monthly book display\, collaborate on outreach/marketing/social media initiatives\, and more! \nTAB looks awesome on a resume & each meeting counts for 2 volunteer hours\, plus you get exclusive volunteering opportunities for our biggest events! That means if you attend every TAB meeting and take advantage of the bonus events\, you can earn up to 24 extra volunteer hours per year! If you’d like to join/more information\, check out this form: Teen Advisory Board (TAB) Application (25-26). Contact Taylor at tdavis@rclstn.org with any questions.
URL:https://rclstn.org/event/teen-advisory-board-tab-linebaugh-2/2026-02-07/
LOCATION:Linebaugh Public Library\, 105 W Vine St\, Murfreesboro\, TN\, 37130\, United States
CATEGORIES:Club,Linebaugh Public Library,Linebaugh Youth Services,Teen
ATTACH;FMTTYPE=image/png:https://rclstn.org/wp-content/uploads/2025/12/TAB-26-IGPJ.png
END:VEVENT
BEGIN:VEVENT
DTSTART;TZID=America/Chicago:20260212T143000
DTEND;TZID=America/Chicago:20260212T153000
DTSTAMP:20260421T194916
CREATED:20250805T215151Z
LAST-MODIFIED:20260205T183717Z
UID:10016999-1770906600-1770910200@rclstn.org
SUMMARY:Homeschool Chef Academy at Smyrna Library
DESCRIPTION:Hey homeschool parents\, bring your kids ages 8+ to experience this fun food focused program! Your students will learn an age appropriate recipe that pairs tastiness with health and affordability. Don’t miss it!
URL:https://rclstn.org/event/homeschool-chef-academy-at-smyrna-library/
LOCATION:Smyrna Public Library\, 400 Enon Springs Rd W\, Smyrna\, TN\, 37167\, United States
CATEGORIES:Kids and Family,Smyrna Youth Services,Teen,Tween/Teen
ATTACH;FMTTYPE=image/png:https://rclstn.org/wp-content/uploads/2025/08/Heading-Instagram-Post-45-3.png
ORGANIZER;CN="Smyrna Youth Services":MAILTO:smyrnays@rclstn.org
END:VEVENT
BEGIN:VEVENT
DTSTART;TZID=America/Chicago:20260213T130000
DTEND;TZID=America/Chicago:20260213T140000
DTSTAMP:20260421T194916
CREATED:20250717T184458Z
LAST-MODIFIED:20260417T174953Z
UID:10016339-1770987600-1770991200@rclstn.org
SUMMARY:Chair Yoga at Smyrna Library
DESCRIPTION:Chair Yoga is an exercise and stretch class designed to be done with the support of a chair. It’s an ideal exercise for those who don’t want to get on the floor or who can benefit from a chair to support their balance. It’s typically practiced by older adults or people recovering from injuries. Try it out for free at Smyrna Public Library!
URL:https://rclstn.org/event/chair-yoga-at-smyrna-library-2/2026-02-13/
LOCATION:Smyrna Public Library\, 400 Enon Springs Rd W\, Smyrna\, TN\, 37167\, United States
CATEGORIES:Adult,Class,Kids and Family,Smyrna Public Libary,Teen,Teen/Adult,Tween/Teen
ATTACH;FMTTYPE=image/png:https://rclstn.org/wp-content/uploads/2025/07/All-Ages-Chair-Yoga-Fridays-1.png
END:VEVENT
BEGIN:VEVENT
DTSTART;TZID=America/Chicago:20260213T140000
DTEND;TZID=America/Chicago:20260213T150000
DTSTAMP:20260421T194916
CREATED:20251230T211910Z
LAST-MODIFIED:20260409T173432Z
UID:10022927-1770991200-1770994800@rclstn.org
SUMMARY:Phone Photography 101 at Smyrna
DESCRIPTION:New Year\, New Skill! Unlock the full potential of your smartphone to capture stunning photographs through expert guidance on camera settings\, composition techniques\, and editing strategies. Become a master photographer and join us at Smyrna Public Library for Phone Photography 101. This is an all-ages event; however\, any child under the age of 13 must have a parent present and some knowledge of smartphones in order to attend.
URL:https://rclstn.org/event/phone-photography-101-at-smyrna/2026-02-13/
LOCATION:Smyrna Public Library\, 400 Enon Springs Rd W\, Smyrna\, TN\, 37167\, United States
CATEGORIES:Adult,Class,Smyrna Public Libary,Teen,Teen/Adult,Tween/Teen
ATTACH;FMTTYPE=image/png:https://rclstn.org/wp-content/uploads/2025/12/SMY_Photography101-1.png
END:VEVENT
BEGIN:VEVENT
DTSTART;TZID=America/Chicago:20260214T140000
DTEND;TZID=America/Chicago:20260214T150000
DTSTAMP:20260421T194916
CREATED:20240216T192250Z
LAST-MODIFIED:20260409T173554Z
UID:10002705-1771077600-1771081200@rclstn.org
SUMMARY:TAB at Smyrna Public Library
DESCRIPTION:Teen Advisory Board\, or T.A.B. for short\, is open to anyone ages 13-18 who is interested in creating the change they would like to see in their library and their community. T.A.B. meets one time each month on the second Saturday at 2:00 p.m. to share ideas and information regarding the teen space\, collection\, programming\, and vision for the future.
URL:https://rclstn.org/event/t-a-b-at-smyrna-library/2026-02-14/
LOCATION:Smyrna Public Library\, 400 Enon Springs Rd W\, Smyrna\, TN\, 37167\, United States
CATEGORIES:Smyrna Public Libary,Smyrna Youth Services,Teen
ATTACH;FMTTYPE=image/jpeg:https://rclstn.org/wp-content/uploads/2024/02/TAB-6.jpg
ORGANIZER;CN="Smyrna Youth Services":MAILTO:smyrnays@rclstn.org
END:VEVENT
BEGIN:VEVENT
DTSTART;TZID=America/Chicago:20260214T140000
DTEND;TZID=America/Chicago:20260214T150000
DTSTAMP:20260421T194916
CREATED:20250519T190041Z
LAST-MODIFIED:20250519T190041Z
UID:10015065-1771077600-1771081200@rclstn.org
SUMMARY:Teen Anime & Manga Club
DESCRIPTION:Join us at Linebaugh every month for a discussion of our current favorite anime and manga! We’ll be showing an anime movie once a month this summer!
URL:https://rclstn.org/event/teen-anime-manga-club-3-2/2026-02-14/
LOCATION:Linebaugh Public Library\, 105 W Vine St\, Murfreesboro\, TN\, 37130\, United States
CATEGORIES:Book Group,Club,Linebaugh Youth Services,Movie,Teen,Tween/Teen
ATTACH;FMTTYPE=image/png:https://rclstn.org/wp-content/uploads/2025/04/Teen-Anime-Manga-rec.png
ORGANIZER;CN="Ollie":MAILTO:omiller@rclstn.org
END:VEVENT
BEGIN:VEVENT
DTSTART;TZID=America/Chicago:20260217T160000
DTEND;TZID=America/Chicago:20260217T173000
DTSTAMP:20260421T194916
CREATED:20251219T181910Z
LAST-MODIFIED:20251219T181910Z
UID:10022047-1771344000-1771349400@rclstn.org
SUMMARY:Teen Creative Writing Club @ Linebaugh Library
DESCRIPTION:Join us every 3rd Tuesday from 4-5:30pm in the 1st floor club room at Linebaugh Public Library for our Teen Creative Writing Club (ages 13-18)! \nTeen writers of all proficiencies are invited to join us to share their work & learn ways to improve their craft! Bring up to 4 minutes of original writing (stories\, poetry\, scripts\, creative non-fiction\, etc.) & get feedback from your peers. Email Taylor at tdavis@rclstn.org for more information.
URL:https://rclstn.org/event/teen-creative-writing-club-linebaugh-library/2026-02-17/
LOCATION:Linebaugh Public Library\, 105 W Vine St\, Murfreesboro\, TN\, 37130\, United States
CATEGORIES:Club,Linebaugh Public Library,Linebaugh Youth Services,Teen,Writing Group
ATTACH;FMTTYPE=image/png:https://rclstn.org/wp-content/uploads/2025/12/Teen-Creative-Writing-Club-IGPJ-1.png
END:VEVENT
BEGIN:VEVENT
DTSTART;TZID=America/Chicago:20260218T173000
DTEND;TZID=America/Chicago:20260218T193000
DTSTAMP:20260421T194916
CREATED:20260116T015631Z
LAST-MODIFIED:20260116T015632Z
UID:10022852-1771435800-1771443000@rclstn.org
SUMMARY:Writing Workshop @ Smyrna Library
DESCRIPTION:The Smyrna Library’s Writing Workshop will be a monthly event where you can come to explore and hone your writing skills! We will explore different techniques and styles each session\, as well as have structured time to workshop pieces you’ve been working on. \nThis is a great opportunity for both new and seasoned writers alike to work together to create polished pieces and bring ideas to life! \nIf you have any questions about this event\, please email wmacready@rclstn.org
URL:https://rclstn.org/event/written-mosaic-writing-workshop-3-2/2026-02-18/
LOCATION:Smyrna Public Library\, 400 Enon Springs Rd W\, Smyrna\, TN\, 37167\, United States
CATEGORIES:Adult,Arts and Crafts,Class,Club,Smyrna Public Libary,Teen,Teen/Adult,Writing Group
ATTACH;FMTTYPE=image/png:https://rclstn.org/wp-content/uploads/2026/01/Smyrna-Writing-Workshop.png
END:VEVENT
BEGIN:VEVENT
DTSTART;TZID=America/Chicago:20260219T160000
DTEND;TZID=America/Chicago:20260219T180000
DTSTAMP:20260421T194916
CREATED:20260115T205159Z
LAST-MODIFIED:20260115T205357Z
UID:10023205-1771516800-1771524000@rclstn.org
SUMMARY:Teen D&D at Smyrna Library
DESCRIPTION:Join us for Teen Dungeons & Dragons! \nRecommended Age is 13-17 \nWe are playing 5th edition game in a classic fantasy setting. Help save the realm from a group of insidious tyrants! \nThis is an ongoing campaign but new players may join the group. \nCharacter sheets and dice are provided upon request. We meet every first and third Thursday of the month from 4pm-6pm. \nThe session is currently at capacity but we may have slots open up or begin a second table. Please email TLOVE@RCLSTN.ORG to be added to the waitlist!
URL:https://rclstn.org/event/teen-dd-at-smyrna-library/2026-02-19/
LOCATION:TN
CATEGORIES:Club,Smyrna Public Libary,Smyrna Youth Services,Teen
ATTACH;FMTTYPE=image/png:https://rclstn.org/wp-content/uploads/2026/01/TEEN-DND-1.png
END:VEVENT
BEGIN:VEVENT
DTSTART;TZID=America/Chicago:20260220T130000
DTEND;TZID=America/Chicago:20260220T140000
DTSTAMP:20260421T194916
CREATED:20250717T184458Z
LAST-MODIFIED:20260417T174953Z
UID:10016340-1771592400-1771596000@rclstn.org
SUMMARY:Chair Yoga at Smyrna Library
DESCRIPTION:Chair Yoga is an exercise and stretch class designed to be done with the support of a chair. It’s an ideal exercise for those who don’t want to get on the floor or who can benefit from a chair to support their balance. It’s typically practiced by older adults or people recovering from injuries. Try it out for free at Smyrna Public Library!
URL:https://rclstn.org/event/chair-yoga-at-smyrna-library-2/2026-02-20/
LOCATION:Smyrna Public Library\, 400 Enon Springs Rd W\, Smyrna\, TN\, 37167\, United States
CATEGORIES:Adult,Class,Kids and Family,Smyrna Public Libary,Teen,Teen/Adult,Tween/Teen
ATTACH;FMTTYPE=image/png:https://rclstn.org/wp-content/uploads/2025/07/All-Ages-Chair-Yoga-Fridays-1.png
END:VEVENT
BEGIN:VEVENT
DTSTART;TZID=America/Chicago:20260220T153000
DTEND;TZID=America/Chicago:20260220T163000
DTSTAMP:20260421T194916
CREATED:20251219T185139Z
LAST-MODIFIED:20251219T185139Z
UID:10022060-1771601400-1771605000@rclstn.org
SUMMARY:We're Board! Teen Board Game Club @ Linebaugh
DESCRIPTION:We’re Board! Are you? Teens aged 13-18 can join us every 3rd Friday from 3:30-4:30pm in the 1st club room at Linebaugh Library to test out their strategic prowess with fun and challenging board and card games. Email Taylor at tdavis@rclstn.org for more information.
URL:https://rclstn.org/event/were-board-teen-board-game-club-linebaugh/2026-02-20/
LOCATION:Linebaugh Public Library\, 105 W Vine St\, Murfreesboro\, TN\, 37130\, United States
CATEGORIES:Club,Linebaugh Public Library,Linebaugh Youth Services,Teen
ATTACH;FMTTYPE=image/png:https://rclstn.org/wp-content/uploads/2025/12/Teen-Board-Game-Club-Jan-26-IGPJ.png
END:VEVENT
BEGIN:VEVENT
DTSTART;TZID=America/Chicago:20260220T153000
DTEND;TZID=America/Chicago:20260220T170000
DTSTAMP:20260421T194916
CREATED:20260115T174012Z
LAST-MODIFIED:20260115T174108Z
UID:10022926-1771601400-1771606800@rclstn.org
SUMMARY:Cryptid Crafternoon at Smyrna
DESCRIPTION:Join us for a Cryptid Crafternoon and create your own cryptid masterpiece with our Collage event! This is an all-ages event. Supplies and fun cryptid videos will be provided.
URL:https://rclstn.org/event/cryptid-crafternoon-at-smyrna/
LOCATION:Smyrna Public Library\, 400 Enon Springs Rd W\, Smyrna\, TN\, 37167\, United States
CATEGORIES:Adult,Arts and Crafts,Club,Kids and Family,Smyrna Public Libary,Teen,Teen/Adult,Tween/Teen
ATTACH;FMTTYPE=image/png:https://rclstn.org/wp-content/uploads/2026/01/cryptid-crafternoon-collage.png
END:VEVENT
BEGIN:VEVENT
DTSTART;TZID=America/Chicago:20260221T120000
DTEND;TZID=America/Chicago:20260221T130000
DTSTAMP:20260421T194916
CREATED:20260120T202045Z
LAST-MODIFIED:20260120T220931Z
UID:10023657-1771675200-1771678800@rclstn.org
SUMMARY:Teen Self Care Saturday
DESCRIPTION:Teens join us Saturday February 21st. @ Smyrna public library for our Self Care Saturday. Enjoy a movie\, snacks\, and cozy coloring!
URL:https://rclstn.org/event/teen-self-care-saturday/
LOCATION:Smyrna Public Library\, 400 Enon Springs Rd W\, Smyrna\, TN\, 37167\, United States
CATEGORIES:Smyrna Public Libary,Smyrna Youth Services,Teen
ATTACH;FMTTYPE=image/png:https://rclstn.org/wp-content/uploads/2026/01/Self-Care-Saturday-1.png
END:VEVENT
BEGIN:VEVENT
DTSTART;TZID=America/Chicago:20260221T123000
DTEND;TZID=America/Chicago:20260221T133000
DTSTAMP:20260421T194916
CREATED:20251029T165117Z
LAST-MODIFIED:20251231T220731Z
UID:10021892-1771677000-1771680600@rclstn.org
SUMMARY:TINKERCAD 101 (Design Your Own 3D Printable at Smyrna)
DESCRIPTION:Come learn how to design your own 3D printables at Smyrna Public Library on the third Saturday of the month from 12:30 to 1:30 PM.  \nThis is not a 3D Printer Class or Orientation\, but a great way to better understand Tinkercad before (or after) you take the orientation! \nTinkercad is a free browser based Computer Aided Design program. You can design and share your own printables and 3d models. \nWe will learn the basics of this program and use those skills to make a keychain that we will print here at the library for you to keep! \nThis event is for ages 8 and up.  \nAny library patron under the age of 13 must be accompanied by a minor. \nRegistration required. \n 
URL:https://rclstn.org/event/design-your-own-3d-printable-at-smyrna-2/2026-02-21/
LOCATION:Smyrna Public Library\, 400 Enon Springs Rd W\, Smyrna\, TN\, 37167\, United States
CATEGORIES:Adult,Class,Computer/Tech Classes,Smyrna Public Libary,Teen,Teen/Adult
ATTACH;FMTTYPE=image/png:https://rclstn.org/wp-content/uploads/2025/10/TinkerCad_Smyrna-Instagram-Post-45.png
END:VEVENT
BEGIN:VEVENT
DTSTART;TZID=America/Chicago:20260221T140000
DTEND;TZID=America/Chicago:20260221T150000
DTSTAMP:20260421T194917
CREATED:20260115T174604Z
LAST-MODIFIED:20260115T174604Z
UID:10022929-1771682400-1771686000@rclstn.org
SUMMARY:VR Career Fair at Smyrna
DESCRIPTION:Explore your next career in a virtual reality setting at Smyrna Public Library with VR technology provided by Rutherford Works of the Rutherford County Chamber of Commerce. This is a 16+ event and is a great way to learn a new skill or find your next opportunity!
URL:https://rclstn.org/event/vr-career-fair-at-smyrna/
LOCATION:Smyrna Public Library\, 400 Enon Springs Rd W\, Smyrna\, TN\, 37167\, United States
CATEGORIES:Adult,Class,Smyrna Public Libary,STEM,Teen,Teen/Adult
ATTACH;FMTTYPE=image/png:https://rclstn.org/wp-content/uploads/2026/01/smy-career-vr.png
END:VEVENT
BEGIN:VEVENT
DTSTART;TZID=America/Chicago:20260221T140000
DTEND;TZID=America/Chicago:20260221T153000
DTSTAMP:20260421T194917
CREATED:20251219T190449Z
LAST-MODIFIED:20251219T190449Z
UID:10022086-1771682400-1771687800@rclstn.org
SUMMARY:Teen Gaming Club @ Linebaugh
DESCRIPTION:This club meets every 3rd Saturday from 2-3:30pm in the 1st floor club room at Linebaugh Public Library. \nCalling all gamers! Teens aged 13-18 can bring their devices or play a variety of games on our in-house Switch system. Meet other teens who love video games & level up with us in this chill social club.
URL:https://rclstn.org/event/teen-gaming-club-linebaugh/2026-02-21/
LOCATION:Linebaugh Public Library\, 105 W Vine St\, Murfreesboro\, TN\, 37130\, United States
CATEGORIES:Club,Linebaugh Public Library,Linebaugh Youth Services,STEAM,STEM,Teen
ATTACH;FMTTYPE=image/png:https://rclstn.org/wp-content/uploads/2025/12/Teen-Gaming-Club-IGPJ-1.png
END:VEVENT
BEGIN:VEVENT
DTSTART;TZID=America/Chicago:20260227T130000
DTEND;TZID=America/Chicago:20260227T140000
DTSTAMP:20260421T194917
CREATED:20250717T184458Z
LAST-MODIFIED:20260417T174953Z
UID:10016341-1772197200-1772200800@rclstn.org
SUMMARY:Chair Yoga at Smyrna Library
DESCRIPTION:Chair Yoga is an exercise and stretch class designed to be done with the support of a chair. It’s an ideal exercise for those who don’t want to get on the floor or who can benefit from a chair to support their balance. It’s typically practiced by older adults or people recovering from injuries. Try it out for free at Smyrna Public Library!
URL:https://rclstn.org/event/chair-yoga-at-smyrna-library-2/2026-02-27/
LOCATION:Smyrna Public Library\, 400 Enon Springs Rd W\, Smyrna\, TN\, 37167\, United States
CATEGORIES:Adult,Class,Kids and Family,Smyrna Public Libary,Teen,Teen/Adult,Tween/Teen
ATTACH;FMTTYPE=image/png:https://rclstn.org/wp-content/uploads/2025/07/All-Ages-Chair-Yoga-Fridays-1.png
END:VEVENT
BEGIN:VEVENT
DTSTART;TZID=America/Chicago:20260227T140000
DTEND;TZID=America/Chicago:20260227T150000
DTSTAMP:20260421T194917
CREATED:20251230T211910Z
LAST-MODIFIED:20260409T173432Z
UID:10022928-1772200800-1772204400@rclstn.org
SUMMARY:Phone Photography 101 at Smyrna
DESCRIPTION:New Year\, New Skill! Unlock the full potential of your smartphone to capture stunning photographs through expert guidance on camera settings\, composition techniques\, and editing strategies. Become a master photographer and join us at Smyrna Public Library for Phone Photography 101. This is an all-ages event; however\, any child under the age of 13 must have a parent present and some knowledge of smartphones in order to attend.
URL:https://rclstn.org/event/phone-photography-101-at-smyrna/2026-02-27/
LOCATION:Smyrna Public Library\, 400 Enon Springs Rd W\, Smyrna\, TN\, 37167\, United States
CATEGORIES:Adult,Class,Smyrna Public Libary,Teen,Teen/Adult,Tween/Teen
ATTACH;FMTTYPE=image/png:https://rclstn.org/wp-content/uploads/2025/12/SMY_Photography101-1.png
END:VEVENT
BEGIN:VEVENT
DTSTART;TZID=America/Chicago:20260228T090000
DTEND;TZID=America/Chicago:20260228T120000
DTSTAMP:20260421T194917
CREATED:20260115T175320Z
LAST-MODIFIED:20260214T145345Z
UID:10022930-1772269200-1772280000@rclstn.org
SUMMARY:Free Community Closet at Smyrna
DESCRIPTION:Visit Smyrna Public Library on Saturday\, the 28th\, for a Free Community Closet sponsored by Say Cheese\, a non-profit that provides free thrifted clothes to adults in need. This is a great chance to stop in and learn how to help out your community or get yourself some sweet thrifty finds. Clothing options are for adults\, so this is a teen and adult free closet event. Stay tuned for more!
URL:https://rclstn.org/event/free-community-closet-at-smyrna/
LOCATION:Smyrna Public Library\, 400 Enon Springs Rd W\, Smyrna\, TN\, 37167\, United States
CATEGORIES:Adult,Smyrna Public Libary,Teen,Teen/Adult
ATTACH;FMTTYPE=image/png:https://rclstn.org/wp-content/uploads/2026/01/Say-Cheese-1.png
END:VEVENT
END:VCALENDAR