BEGIN:VCALENDAR
VERSION:2.0
PRODID:-//RCLS+ - ECPv6.15.20//NONSGML v1.0//EN
CALSCALE:GREGORIAN
METHOD:PUBLISH
X-WR-CALNAME:RCLS+
X-ORIGINAL-URL:https://rclstn.org
X-WR-CALDESC:Events for RCLS+
REFRESH-INTERVAL;VALUE=DURATION:PT1H
X-Robots-Tag:noindex
X-PUBLISHED-TTL:PT1H
BEGIN:VTIMEZONE
TZID:America/Chicago
BEGIN:DAYLIGHT
TZOFFSETFROM:-0600
TZOFFSETTO:-0500
TZNAME:CDT
DTSTART:20250309T080000
END:DAYLIGHT
BEGIN:STANDARD
TZOFFSETFROM:-0500
TZOFFSETTO:-0600
TZNAME:CST
DTSTART:20251102T070000
END:STANDARD
BEGIN:DAYLIGHT
TZOFFSETFROM:-0600
TZOFFSETTO:-0500
TZNAME:CDT
DTSTART:20260308T080000
END:DAYLIGHT
BEGIN:STANDARD
TZOFFSETFROM:-0500
TZOFFSETTO:-0600
TZNAME:CST
DTSTART:20261101T070000
END:STANDARD
BEGIN:DAYLIGHT
TZOFFSETFROM:-0600
TZOFFSETTO:-0500
TZNAME:CDT
DTSTART:20270314T080000
END:DAYLIGHT
BEGIN:STANDARD
TZOFFSETFROM:-0500
TZOFFSETTO:-0600
TZNAME:CST
DTSTART:20271107T070000
END:STANDARD
END:VTIMEZONE
BEGIN:VEVENT
DTSTART;TZID=America/Chicago:20260102T130000
DTEND;TZID=America/Chicago:20260102T140000
DTSTAMP:20260424T070427
CREATED:20250717T184458Z
LAST-MODIFIED:20260417T174953Z
UID:10016333-1767358800-1767362400@rclstn.org
SUMMARY:Chair Yoga at Smyrna Library
DESCRIPTION:Chair Yoga is an exercise and stretch class designed to be done with the support of a chair. It’s an ideal exercise for those who don’t want to get on the floor or who can benefit from a chair to support their balance. It’s typically practiced by older adults or people recovering from injuries. Try it out for free at Smyrna Public Library!
URL:https://rclstn.org/event/chair-yoga-at-smyrna-library-2/2026-01-02/
LOCATION:Smyrna Public Library\, 400 Enon Springs Rd W\, Smyrna\, TN\, 37167\, United States
CATEGORIES:Adult,Class,Kids and Family,Smyrna Public Libary,Teen,Teen/Adult,Tween/Teen
ATTACH;FMTTYPE=image/png:https://rclstn.org/wp-content/uploads/2025/07/All-Ages-Chair-Yoga-Fridays-1.png
END:VEVENT
BEGIN:VEVENT
DTSTART;TZID=America/Chicago:20260103T140000
DTEND;TZID=America/Chicago:20260103T160000
DTSTAMP:20260424T070427
CREATED:20251226T192056Z
LAST-MODIFIED:20251226T192133Z
UID:10022398-1767448800-1767456000@rclstn.org
SUMMARY:Movie Matinee at Smyrna
DESCRIPTION:Come join us at the Smyrna Library for a showing of 2025’s live action How to Train Your Dragon! \nAs an ancient threat endangers both Vikings and dragons alike on the isle of Berk\, the friendship between Hiccup\, an inventive Viking\, and Toothless\, a Night Fury dragon\, becomes the key to both species forging a new future together. \nBring your favorite movie snacks! \nThis film is rated PG for sequences of intense action\, and peril.
URL:https://rclstn.org/event/movie-matinee-at-smyrna-10/
LOCATION:TN
CATEGORIES:Adult,Kids and Family,Movie,Smyrna Public Libary,Teen,Teen/Adult,Tween/Teen
ATTACH;FMTTYPE=image/png:https://rclstn.org/wp-content/uploads/2025/12/Movie-matinee-Single-Title-Poster-2B.png
END:VEVENT
BEGIN:VEVENT
DTSTART;TZID=America/Chicago:20260109T130000
DTEND;TZID=America/Chicago:20260109T140000
DTSTAMP:20260424T070427
CREATED:20250717T184458Z
LAST-MODIFIED:20260417T174953Z
UID:10016334-1767963600-1767967200@rclstn.org
SUMMARY:Chair Yoga at Smyrna Library
DESCRIPTION:Chair Yoga is an exercise and stretch class designed to be done with the support of a chair. It’s an ideal exercise for those who don’t want to get on the floor or who can benefit from a chair to support their balance. It’s typically practiced by older adults or people recovering from injuries. Try it out for free at Smyrna Public Library!
URL:https://rclstn.org/event/chair-yoga-at-smyrna-library-2/2026-01-09/
LOCATION:Smyrna Public Library\, 400 Enon Springs Rd W\, Smyrna\, TN\, 37167\, United States
CATEGORIES:Adult,Class,Kids and Family,Smyrna Public Libary,Teen,Teen/Adult,Tween/Teen
ATTACH;FMTTYPE=image/png:https://rclstn.org/wp-content/uploads/2025/07/All-Ages-Chair-Yoga-Fridays-1.png
END:VEVENT
BEGIN:VEVENT
DTSTART;TZID=America/Chicago:20260109T140000
DTEND;TZID=America/Chicago:20260109T150000
DTSTAMP:20260424T070427
CREATED:20251230T211910Z
LAST-MODIFIED:20260409T173432Z
UID:10022418-1767967200-1767970800@rclstn.org
SUMMARY:Phone Photography 101 at Smyrna
DESCRIPTION:New Year\, New Skill! Unlock the full potential of your smartphone to capture stunning photographs through expert guidance on camera settings\, composition techniques\, and editing strategies. Become a master photographer and join us at Smyrna Public Library for Phone Photography 101. This is an all-ages event; however\, any child under the age of 13 must have a parent present and some knowledge of smartphones in order to attend.
URL:https://rclstn.org/event/phone-photography-101-at-smyrna/2026-01-09/
LOCATION:Smyrna Public Library\, 400 Enon Springs Rd W\, Smyrna\, TN\, 37167\, United States
CATEGORIES:Adult,Class,Smyrna Public Libary,Teen,Teen/Adult,Tween/Teen
ATTACH;FMTTYPE=image/png:https://rclstn.org/wp-content/uploads/2025/12/SMY_Photography101-1.png
END:VEVENT
BEGIN:VEVENT
DTSTART;TZID=America/Chicago:20260110T140000
DTEND;TZID=America/Chicago:20260110T150000
DTSTAMP:20260424T070427
CREATED:20240216T192250Z
LAST-MODIFIED:20260409T173554Z
UID:10002704-1768053600-1768057200@rclstn.org
SUMMARY:TAB at Smyrna Public Library
DESCRIPTION:Teen Advisory Board\, or T.A.B. for short\, is open to anyone ages 13-18 who is interested in creating the change they would like to see in their library and their community. T.A.B. meets one time each month on the second Saturday at 2:00 p.m. to share ideas and information regarding the teen space\, collection\, programming\, and vision for the future.
URL:https://rclstn.org/event/t-a-b-at-smyrna-library/2026-01-10/
LOCATION:Smyrna Public Library\, 400 Enon Springs Rd W\, Smyrna\, TN\, 37167\, United States
CATEGORIES:Smyrna Public Libary,Smyrna Youth Services,Teen
ATTACH;FMTTYPE=image/jpeg:https://rclstn.org/wp-content/uploads/2024/02/TAB-6.jpg
ORGANIZER;CN="Smyrna Youth Services":MAILTO:smyrnays@rclstn.org
END:VEVENT
BEGIN:VEVENT
DTSTART;TZID=America/Chicago:20260110T140000
DTEND;TZID=America/Chicago:20260110T150000
DTSTAMP:20260424T070427
CREATED:20250519T190041Z
LAST-MODIFIED:20250519T190041Z
UID:10015064-1768053600-1768057200@rclstn.org
SUMMARY:Teen Anime & Manga Club
DESCRIPTION:Join us at Linebaugh every month for a discussion of our current favorite anime and manga! We’ll be showing an anime movie once a month this summer!
URL:https://rclstn.org/event/teen-anime-manga-club-3-2/2026-01-10/
LOCATION:Linebaugh Public Library\, 105 W Vine St\, Murfreesboro\, TN\, 37130\, United States
CATEGORIES:Book Group,Club,Linebaugh Youth Services,Movie,Teen,Tween/Teen
ATTACH;FMTTYPE=image/png:https://rclstn.org/wp-content/uploads/2025/04/Teen-Anime-Manga-rec.png
ORGANIZER;CN="Ollie":MAILTO:omiller@rclstn.org
END:VEVENT
BEGIN:VEVENT
DTSTART;TZID=America/Chicago:20260112T163000
DTEND;TZID=America/Chicago:20260112T193000
DTSTAMP:20260424T070427
CREATED:20251231T191514Z
LAST-MODIFIED:20251231T191514Z
UID:10022647-1768235400-1768246200@rclstn.org
SUMMARY:Teen Gamer Block Party at Smyrna
DESCRIPTION:Join us for our first Teen Gamer Block Party at Smyrna Public Library on January 12th from 4:30-7:30 PM. This event is for Ages 13-17 only. Drop in Gaming for 3 Hours on Xbox One\, Nintendo Switch\, PlayStation 5 & 3 Gaming Computers. This event is first-come\, first-served\, and will be divided into 30-minute sessions. You may bring your own game; only games E & T are allowed. Games are available at the library to check out for the event. 
URL:https://rclstn.org/event/teen-gamer-block-party-at-smyrna/
LOCATION:Smyrna Public Library\, 400 Enon Springs Rd W\, Smyrna\, TN\, 37167\, United States
CATEGORIES:Smyrna Public Libary,Teen
ATTACH;FMTTYPE=image/png:https://rclstn.org/wp-content/uploads/2025/12/SMY-Gamer-Block-Party.png
END:VEVENT
BEGIN:VEVENT
DTSTART;TZID=America/Chicago:20260115T150000
DTEND;TZID=America/Chicago:20260115T160000
DTSTAMP:20260424T070427
CREATED:20251230T234819Z
LAST-MODIFIED:20251230T234819Z
UID:10022612-1768489200-1768492800@rclstn.org
SUMMARY:Preteen Yoga at MGL Library
DESCRIPTION:Join us at MGL Library for Preteen Yoga! We will have multiple 15-minute guided yoga sessions\, which are geared toward 8 to 12 year olds! This program is in partnership with and provided by UT Extension. First come first serve- if a session is full\, you can join us for the next one! \n  \nMGL Library is located inside of Patterson Park Community Center.
URL:https://rclstn.org/event/preteen-yoga-at-mgl-library/
LOCATION:MGL\, 521 Dr. Martin Luther King Blvd\, Murfreesboro\, TN\, 37130\, United States
CATEGORIES:Class,Family,Kids and Family,MGL Youth Services,Myrtle-Glanton Lord (MGL) Library,Teen,Tween/Teen
ATTACH;FMTTYPE=image/png:https://rclstn.org/wp-content/uploads/2025/12/MGL_preteen-yoga_JAN-26.png
END:VEVENT
BEGIN:VEVENT
DTSTART;TZID=America/Chicago:20260115T160000
DTEND;TZID=America/Chicago:20260115T180000
DTSTAMP:20260424T070427
CREATED:20260115T205159Z
LAST-MODIFIED:20260115T205357Z
UID:10023204-1768492800-1768500000@rclstn.org
SUMMARY:Teen D&D at Smyrna Library
DESCRIPTION:Join us for Teen Dungeons & Dragons! \nRecommended Age is 13-17 \nWe are playing 5th edition game in a classic fantasy setting. Help save the realm from a group of insidious tyrants! \nThis is an ongoing campaign but new players may join the group. \nCharacter sheets and dice are provided upon request. We meet every first and third Thursday of the month from 4pm-6pm. \nThe session is currently at capacity but we may have slots open up or begin a second table. Please email TLOVE@RCLSTN.ORG to be added to the waitlist!
URL:https://rclstn.org/event/teen-dd-at-smyrna-library/2026-01-15/
LOCATION:TN
CATEGORIES:Club,Smyrna Public Libary,Smyrna Youth Services,Teen
ATTACH;FMTTYPE=image/png:https://rclstn.org/wp-content/uploads/2026/01/TEEN-DND-1.png
END:VEVENT
BEGIN:VEVENT
DTSTART;TZID=America/Chicago:20260115T173000
DTEND;TZID=America/Chicago:20260115T193000
DTSTAMP:20260424T070427
CREATED:20260113T170007Z
LAST-MODIFIED:20260114T174054Z
UID:10019413-1768498200-1768505400@rclstn.org
SUMMARY:Writing Workshop @ Smyrna Library
DESCRIPTION:The Smyrna Library’s Writing Workshop will be a monthly event where you can come to explore and hone your writing skills! We will explore different techniques and styles each session\, as well as have structured time to workshop pieces you’ve been working on. \nThis is a great opportunity for both new and seasoned writers alike to work together to create polished pieces and bring ideas to life! \nIf you have any questions about this event\, please email wmacready@rclstn.org
URL:https://rclstn.org/event/written-mosaic-writing-workshop-3/
LOCATION:Smyrna Public Library\, 400 Enon Springs Rd W\, Smyrna\, TN\, 37167\, United States
CATEGORIES:Adult,Arts and Crafts,Class,Club,Smyrna Public Libary,Teen,Teen/Adult,Writing Group
ATTACH;FMTTYPE=image/png:https://rclstn.org/wp-content/uploads/2026/01/Smyrna-Writing-Workshop.png
END:VEVENT
BEGIN:VEVENT
DTSTART;TZID=America/Chicago:20260116T130000
DTEND;TZID=America/Chicago:20260116T140000
DTSTAMP:20260424T070428
CREATED:20250717T184458Z
LAST-MODIFIED:20260417T174953Z
UID:10016335-1768568400-1768572000@rclstn.org
SUMMARY:Chair Yoga at Smyrna Library
DESCRIPTION:Chair Yoga is an exercise and stretch class designed to be done with the support of a chair. It’s an ideal exercise for those who don’t want to get on the floor or who can benefit from a chair to support their balance. It’s typically practiced by older adults or people recovering from injuries. Try it out for free at Smyrna Public Library!
URL:https://rclstn.org/event/chair-yoga-at-smyrna-library-2/2026-01-16/
LOCATION:Smyrna Public Library\, 400 Enon Springs Rd W\, Smyrna\, TN\, 37167\, United States
CATEGORIES:Adult,Class,Kids and Family,Smyrna Public Libary,Teen,Teen/Adult,Tween/Teen
ATTACH;FMTTYPE=image/png:https://rclstn.org/wp-content/uploads/2025/07/All-Ages-Chair-Yoga-Fridays-1.png
END:VEVENT
BEGIN:VEVENT
DTSTART;TZID=America/Chicago:20260116T153000
DTEND;TZID=America/Chicago:20260116T163000
DTSTAMP:20260424T070428
CREATED:20251219T185139Z
LAST-MODIFIED:20251219T185139Z
UID:10022059-1768577400-1768581000@rclstn.org
SUMMARY:We're Board! Teen Board Game Club @ Linebaugh
DESCRIPTION:We’re Board! Are you? Teens aged 13-18 can join us every 3rd Friday from 3:30-4:30pm in the 1st club room at Linebaugh Library to test out their strategic prowess with fun and challenging board and card games. Email Taylor at tdavis@rclstn.org for more information.
URL:https://rclstn.org/event/were-board-teen-board-game-club-linebaugh/2026-01-16/
LOCATION:Linebaugh Public Library\, 105 W Vine St\, Murfreesboro\, TN\, 37130\, United States
CATEGORIES:Club,Linebaugh Public Library,Linebaugh Youth Services,Teen
ATTACH;FMTTYPE=image/png:https://rclstn.org/wp-content/uploads/2025/12/Teen-Board-Game-Club-Jan-26-IGPJ.png
END:VEVENT
BEGIN:VEVENT
DTSTART;TZID=America/Chicago:20260117T120000
DTEND;TZID=America/Chicago:20260117T140000
DTSTAMP:20260424T070428
CREATED:20260110T221122Z
LAST-MODIFIED:20260110T224530Z
UID:10022844-1768651200-1768658400@rclstn.org
SUMMARY:SMY Self Care Saturday
DESCRIPTION:Teens (ages 13-18) are invited to join us for a movie\, snacks and cozy coloring at Smyrna Library.
URL:https://rclstn.org/event/smy-self-care-saturday/
LOCATION:Smyrna Public Library\, 400 Enon Springs Rd W\, Smyrna\, TN\, 37167\, United States
CATEGORIES:Smyrna Public Libary,Smyrna Youth Services,Teen
ATTACH;FMTTYPE=image/png:https://rclstn.org/wp-content/uploads/2026/01/Self-Care-Saturday.png
END:VEVENT
BEGIN:VEVENT
DTSTART;TZID=America/Chicago:20260117T140000
DTEND;TZID=America/Chicago:20260117T150000
DTSTAMP:20260424T070428
CREATED:20260116T160948Z
LAST-MODIFIED:20260116T160948Z
UID:10023521-1768658400-1768662000@rclstn.org
SUMMARY:Crafternoon at Smyrna Library
DESCRIPTION:Come and join us Saturday January 17 2:00pm @ Smyrna Public Library for a Winter Crafternoon event and make your own cotton ball penguin.  Materials will be provided.
URL:https://rclstn.org/event/crafternoon-at-smyrna-library-5/
LOCATION:TN
CATEGORIES:Arts and Crafts,Kids and Family,Smyrna Public Libary,Smyrna Youth Services,Teen,Teen/Adult,Tween/Teen
ATTACH;FMTTYPE=image/png:https://rclstn.org/wp-content/uploads/2025/07/SMY-YS-Crafternoon-2.png
END:VEVENT
BEGIN:VEVENT
DTSTART;TZID=America/Chicago:20260117T140000
DTEND;TZID=America/Chicago:20260117T153000
DTSTAMP:20260424T070428
CREATED:20251219T190449Z
LAST-MODIFIED:20251219T190449Z
UID:10022085-1768658400-1768663800@rclstn.org
SUMMARY:Teen Gaming Club @ Linebaugh
DESCRIPTION:This club meets every 3rd Saturday from 2-3:30pm in the 1st floor club room at Linebaugh Public Library. \nCalling all gamers! Teens aged 13-18 can bring their devices or play a variety of games on our in-house Switch system. Meet other teens who love video games & level up with us in this chill social club.
URL:https://rclstn.org/event/teen-gaming-club-linebaugh/2026-01-17/
LOCATION:Linebaugh Public Library\, 105 W Vine St\, Murfreesboro\, TN\, 37130\, United States
CATEGORIES:Club,Linebaugh Public Library,Linebaugh Youth Services,STEAM,STEM,Teen
ATTACH;FMTTYPE=image/png:https://rclstn.org/wp-content/uploads/2025/12/Teen-Gaming-Club-IGPJ-1.png
END:VEVENT
BEGIN:VEVENT
DTSTART;TZID=America/Chicago:20260120T160000
DTEND;TZID=America/Chicago:20260120T173000
DTSTAMP:20260424T070428
CREATED:20251219T181910Z
LAST-MODIFIED:20251219T181910Z
UID:10022046-1768924800-1768930200@rclstn.org
SUMMARY:Teen Creative Writing Club @ Linebaugh Library
DESCRIPTION:Join us every 3rd Tuesday from 4-5:30pm in the 1st floor club room at Linebaugh Public Library for our Teen Creative Writing Club (ages 13-18)! \nTeen writers of all proficiencies are invited to join us to share their work & learn ways to improve their craft! Bring up to 4 minutes of original writing (stories\, poetry\, scripts\, creative non-fiction\, etc.) & get feedback from your peers. Email Taylor at tdavis@rclstn.org for more information.
URL:https://rclstn.org/event/teen-creative-writing-club-linebaugh-library/2026-01-20/
LOCATION:Linebaugh Public Library\, 105 W Vine St\, Murfreesboro\, TN\, 37130\, United States
CATEGORIES:Club,Linebaugh Public Library,Linebaugh Youth Services,Teen,Writing Group
ATTACH;FMTTYPE=image/png:https://rclstn.org/wp-content/uploads/2025/12/Teen-Creative-Writing-Club-IGPJ-1.png
END:VEVENT
BEGIN:VEVENT
DTSTART;TZID=America/Chicago:20260123T130000
DTEND;TZID=America/Chicago:20260123T140000
DTSTAMP:20260424T070428
CREATED:20250717T184458Z
LAST-MODIFIED:20260417T174953Z
UID:10016336-1769173200-1769176800@rclstn.org
SUMMARY:Chair Yoga at Smyrna Library
DESCRIPTION:Chair Yoga is an exercise and stretch class designed to be done with the support of a chair. It’s an ideal exercise for those who don’t want to get on the floor or who can benefit from a chair to support their balance. It’s typically practiced by older adults or people recovering from injuries. Try it out for free at Smyrna Public Library!
URL:https://rclstn.org/event/chair-yoga-at-smyrna-library-2/2026-01-23/
LOCATION:Smyrna Public Library\, 400 Enon Springs Rd W\, Smyrna\, TN\, 37167\, United States
CATEGORIES:Adult,Class,Kids and Family,Smyrna Public Libary,Teen,Teen/Adult,Tween/Teen
ATTACH;FMTTYPE=image/png:https://rclstn.org/wp-content/uploads/2025/07/All-Ages-Chair-Yoga-Fridays-1.png
END:VEVENT
BEGIN:VEVENT
DTSTART;TZID=America/Chicago:20260123T140000
DTEND;TZID=America/Chicago:20260123T150000
DTSTAMP:20260424T070428
CREATED:20251230T211910Z
LAST-MODIFIED:20260409T173432Z
UID:10022419-1769176800-1769180400@rclstn.org
SUMMARY:Phone Photography 101 at Smyrna
DESCRIPTION:New Year\, New Skill! Unlock the full potential of your smartphone to capture stunning photographs through expert guidance on camera settings\, composition techniques\, and editing strategies. Become a master photographer and join us at Smyrna Public Library for Phone Photography 101. This is an all-ages event; however\, any child under the age of 13 must have a parent present and some knowledge of smartphones in order to attend.
URL:https://rclstn.org/event/phone-photography-101-at-smyrna/2026-01-23/
LOCATION:Smyrna Public Library\, 400 Enon Springs Rd W\, Smyrna\, TN\, 37167\, United States
CATEGORIES:Adult,Class,Smyrna Public Libary,Teen,Teen/Adult,Tween/Teen
ATTACH;FMTTYPE=image/png:https://rclstn.org/wp-content/uploads/2025/12/SMY_Photography101-1.png
END:VEVENT
BEGIN:VEVENT
DTSTART;VALUE=DATE:20260125
DTEND;VALUE=DATE:20260315
DTSTAMP:20260424T070428
CREATED:20251231T193639Z
LAST-MODIFIED:20260115T185821Z
UID:10022648-1769299200-1773532799@rclstn.org
SUMMARY:Smyrna Winter Reading Program: Reading is SNOW Much Fun!
DESCRIPTION:This year\, Reading is SNOW much fun with the Walter King Hoover Winter Reading Challenge! This program is designed to encourage life-long reading habits. Registration for the Reading Program goes live on 1/25/2026\, and you can begin submitting your reviews from February 1 to March 14. \n  \nAll participants who submit 6 reviews will receive a Winter Reading Completion Prize\, as well as 1 Grand Prize entry. For 1 additional entry into the Grand Prize drawing\, read an additional 5 titles.  The Grand Prize Reader will receive a gift card awarded by the Friends of Smyrna Library in addition to the entries into the grand prize drawing. There are also prizes for the Silver & Bronze Readers. Read six books in six consecutive weeks\, and log your reading progress. Each book is worth 100 points; when you earn 600 points\, you’ll receive a completion certificate you can print and share! Participants can register through ReadSquared by selecting the Program Title or emailing smyrnareadingprogram@rclstn.org. You can also pick up a review worksheet at the library and turn in your 6 hand-written reviews by 3/14/2026.
URL:https://rclstn.org/event/smyrna-winter-reading-program-reading-is-snow-much-fun/
LOCATION:Smyrna Public Library\, 400 Enon Springs Rd W\, Smyrna\, TN\, 37167\, United States
CATEGORIES:Family,Teen,Teen/Adult,Tween/Teen
ATTACH;FMTTYPE=image/png:https://rclstn.org/wp-content/uploads/2025/12/2026WRP-Socials.png
END:VEVENT
END:VCALENDAR