BEGIN:VCALENDAR
VERSION:2.0
PRODID:-//RCLS+ - ECPv6.15.20//NONSGML v1.0//EN
CALSCALE:GREGORIAN
METHOD:PUBLISH
X-ORIGINAL-URL:https://rclstn.org
X-WR-CALDESC:Events for RCLS+
REFRESH-INTERVAL;VALUE=DURATION:PT1H
X-Robots-Tag:noindex
X-PUBLISHED-TTL:PT1H
BEGIN:VTIMEZONE
TZID:America/Chicago
BEGIN:DAYLIGHT
TZOFFSETFROM:-0600
TZOFFSETTO:-0500
TZNAME:CDT
DTSTART:20280312T080000
END:DAYLIGHT
BEGIN:STANDARD
TZOFFSETFROM:-0500
TZOFFSETTO:-0600
TZNAME:CST
DTSTART:20281105T070000
END:STANDARD
BEGIN:DAYLIGHT
TZOFFSETFROM:-0600
TZOFFSETTO:-0500
TZNAME:CDT
DTSTART:20290311T080000
END:DAYLIGHT
BEGIN:STANDARD
TZOFFSETFROM:-0500
TZOFFSETTO:-0600
TZNAME:CST
DTSTART:20291104T070000
END:STANDARD
BEGIN:DAYLIGHT
TZOFFSETFROM:-0600
TZOFFSETTO:-0500
TZNAME:CDT
DTSTART:20300310T080000
END:DAYLIGHT
BEGIN:STANDARD
TZOFFSETFROM:-0500
TZOFFSETTO:-0600
TZNAME:CST
DTSTART:20301103T070000
END:STANDARD
BEGIN:DAYLIGHT
TZOFFSETFROM:-0600
TZOFFSETTO:-0500
TZNAME:CDT
DTSTART:20310309T080000
END:DAYLIGHT
BEGIN:STANDARD
TZOFFSETFROM:-0500
TZOFFSETTO:-0600
TZNAME:CST
DTSTART:20311102T070000
END:STANDARD
END:VTIMEZONE
BEGIN:VEVENT
DTSTART;TZID=America/Chicago:20290905T150000
DTEND;TZID=America/Chicago:20290905T152500
DTSTAMP:20260425T143829
CREATED:20251231T002828Z
LAST-MODIFIED:20251231T002830Z
UID:10011249-1883314800-1883316300@rclstn.org
SUMMARY:STEAM Lab at MGL Library
DESCRIPTION:Enjoy hands on activities to engage your curiosity and creativity that spans science\, technology\, engineering\, art\, and math! All ages are welcome.
URL:https://rclstn.org/event/s-t-e-a-m-lab-38-2-2-2/2029-09-05/
LOCATION:MGL\, 521 Dr. Martin Luther King Blvd\, Murfreesboro\, TN\, 37130\, United States
CATEGORIES:Kids and Family,MGL Youth Services,Myrtle-Glanton Lord (MGL) Library,STEM
ATTACH;FMTTYPE=image/png:https://rclstn.org/wp-content/uploads/2025/07/MGL_January-STEAM_Social.png
ORGANIZER;CN="Maddie":MAILTO:mhicks@rclstn.org
END:VEVENT
BEGIN:VEVENT
DTSTART;TZID=America/Chicago:20290912T150000
DTEND;TZID=America/Chicago:20290912T152500
DTSTAMP:20260425T143829
CREATED:20251231T002828Z
LAST-MODIFIED:20251231T002830Z
UID:10011250-1883919600-1883921100@rclstn.org
SUMMARY:STEAM Lab at MGL Library
DESCRIPTION:Enjoy hands on activities to engage your curiosity and creativity that spans science\, technology\, engineering\, art\, and math! All ages are welcome.
URL:https://rclstn.org/event/s-t-e-a-m-lab-38-2-2-2/2029-09-12/
LOCATION:MGL\, 521 Dr. Martin Luther King Blvd\, Murfreesboro\, TN\, 37130\, United States
CATEGORIES:Kids and Family,MGL Youth Services,Myrtle-Glanton Lord (MGL) Library,STEM
ATTACH;FMTTYPE=image/png:https://rclstn.org/wp-content/uploads/2025/07/MGL_January-STEAM_Social.png
ORGANIZER;CN="Maddie":MAILTO:mhicks@rclstn.org
END:VEVENT
BEGIN:VEVENT
DTSTART;TZID=America/Chicago:20290919T150000
DTEND;TZID=America/Chicago:20290919T152500
DTSTAMP:20260425T143829
CREATED:20251231T002828Z
LAST-MODIFIED:20251231T002830Z
UID:10011251-1884524400-1884525900@rclstn.org
SUMMARY:STEAM Lab at MGL Library
DESCRIPTION:Enjoy hands on activities to engage your curiosity and creativity that spans science\, technology\, engineering\, art\, and math! All ages are welcome.
URL:https://rclstn.org/event/s-t-e-a-m-lab-38-2-2-2/2029-09-19/
LOCATION:MGL\, 521 Dr. Martin Luther King Blvd\, Murfreesboro\, TN\, 37130\, United States
CATEGORIES:Kids and Family,MGL Youth Services,Myrtle-Glanton Lord (MGL) Library,STEM
ATTACH;FMTTYPE=image/png:https://rclstn.org/wp-content/uploads/2025/07/MGL_January-STEAM_Social.png
ORGANIZER;CN="Maddie":MAILTO:mhicks@rclstn.org
END:VEVENT
BEGIN:VEVENT
DTSTART;TZID=America/Chicago:20290926T150000
DTEND;TZID=America/Chicago:20290926T152500
DTSTAMP:20260425T143829
CREATED:20251231T002828Z
LAST-MODIFIED:20251231T002830Z
UID:10011252-1885129200-1885130700@rclstn.org
SUMMARY:STEAM Lab at MGL Library
DESCRIPTION:Enjoy hands on activities to engage your curiosity and creativity that spans science\, technology\, engineering\, art\, and math! All ages are welcome.
URL:https://rclstn.org/event/s-t-e-a-m-lab-38-2-2-2/2029-09-26/
LOCATION:MGL\, 521 Dr. Martin Luther King Blvd\, Murfreesboro\, TN\, 37130\, United States
CATEGORIES:Kids and Family,MGL Youth Services,Myrtle-Glanton Lord (MGL) Library,STEM
ATTACH;FMTTYPE=image/png:https://rclstn.org/wp-content/uploads/2025/07/MGL_January-STEAM_Social.png
ORGANIZER;CN="Maddie":MAILTO:mhicks@rclstn.org
END:VEVENT
BEGIN:VEVENT
DTSTART;TZID=America/Chicago:20291003T150000
DTEND;TZID=America/Chicago:20291003T152500
DTSTAMP:20260425T143829
CREATED:20251231T002828Z
LAST-MODIFIED:20251231T002830Z
UID:10011253-1885734000-1885735500@rclstn.org
SUMMARY:STEAM Lab at MGL Library
DESCRIPTION:Enjoy hands on activities to engage your curiosity and creativity that spans science\, technology\, engineering\, art\, and math! All ages are welcome.
URL:https://rclstn.org/event/s-t-e-a-m-lab-38-2-2-2/2029-10-03/
LOCATION:MGL\, 521 Dr. Martin Luther King Blvd\, Murfreesboro\, TN\, 37130\, United States
CATEGORIES:Kids and Family,MGL Youth Services,Myrtle-Glanton Lord (MGL) Library,STEM
ATTACH;FMTTYPE=image/png:https://rclstn.org/wp-content/uploads/2025/07/MGL_January-STEAM_Social.png
ORGANIZER;CN="Maddie":MAILTO:mhicks@rclstn.org
END:VEVENT
BEGIN:VEVENT
DTSTART;TZID=America/Chicago:20291010T150000
DTEND;TZID=America/Chicago:20291010T152500
DTSTAMP:20260425T143829
CREATED:20251231T002828Z
LAST-MODIFIED:20251231T002830Z
UID:10011254-1886338800-1886340300@rclstn.org
SUMMARY:STEAM Lab at MGL Library
DESCRIPTION:Enjoy hands on activities to engage your curiosity and creativity that spans science\, technology\, engineering\, art\, and math! All ages are welcome.
URL:https://rclstn.org/event/s-t-e-a-m-lab-38-2-2-2/2029-10-10/
LOCATION:MGL\, 521 Dr. Martin Luther King Blvd\, Murfreesboro\, TN\, 37130\, United States
CATEGORIES:Kids and Family,MGL Youth Services,Myrtle-Glanton Lord (MGL) Library,STEM
ATTACH;FMTTYPE=image/png:https://rclstn.org/wp-content/uploads/2025/07/MGL_January-STEAM_Social.png
ORGANIZER;CN="Maddie":MAILTO:mhicks@rclstn.org
END:VEVENT
BEGIN:VEVENT
DTSTART;TZID=America/Chicago:20291017T150000
DTEND;TZID=America/Chicago:20291017T152500
DTSTAMP:20260425T143829
CREATED:20251231T002828Z
LAST-MODIFIED:20251231T002830Z
UID:10011255-1886943600-1886945100@rclstn.org
SUMMARY:STEAM Lab at MGL Library
DESCRIPTION:Enjoy hands on activities to engage your curiosity and creativity that spans science\, technology\, engineering\, art\, and math! All ages are welcome.
URL:https://rclstn.org/event/s-t-e-a-m-lab-38-2-2-2/2029-10-17/
LOCATION:MGL\, 521 Dr. Martin Luther King Blvd\, Murfreesboro\, TN\, 37130\, United States
CATEGORIES:Kids and Family,MGL Youth Services,Myrtle-Glanton Lord (MGL) Library,STEM
ATTACH;FMTTYPE=image/png:https://rclstn.org/wp-content/uploads/2025/07/MGL_January-STEAM_Social.png
ORGANIZER;CN="Maddie":MAILTO:mhicks@rclstn.org
END:VEVENT
BEGIN:VEVENT
DTSTART;TZID=America/Chicago:20291024T150000
DTEND;TZID=America/Chicago:20291024T152500
DTSTAMP:20260425T143829
CREATED:20251231T002828Z
LAST-MODIFIED:20251231T002830Z
UID:10011256-1887548400-1887549900@rclstn.org
SUMMARY:STEAM Lab at MGL Library
DESCRIPTION:Enjoy hands on activities to engage your curiosity and creativity that spans science\, technology\, engineering\, art\, and math! All ages are welcome.
URL:https://rclstn.org/event/s-t-e-a-m-lab-38-2-2-2/2029-10-24/
LOCATION:MGL\, 521 Dr. Martin Luther King Blvd\, Murfreesboro\, TN\, 37130\, United States
CATEGORIES:Kids and Family,MGL Youth Services,Myrtle-Glanton Lord (MGL) Library,STEM
ATTACH;FMTTYPE=image/png:https://rclstn.org/wp-content/uploads/2025/07/MGL_January-STEAM_Social.png
ORGANIZER;CN="Maddie":MAILTO:mhicks@rclstn.org
END:VEVENT
BEGIN:VEVENT
DTSTART;TZID=America/Chicago:20291031T150000
DTEND;TZID=America/Chicago:20291031T152500
DTSTAMP:20260425T143829
CREATED:20251231T002828Z
LAST-MODIFIED:20251231T002830Z
UID:10011370-1888153200-1888154700@rclstn.org
SUMMARY:STEAM Lab at MGL Library
DESCRIPTION:Enjoy hands on activities to engage your curiosity and creativity that spans science\, technology\, engineering\, art\, and math! All ages are welcome.
URL:https://rclstn.org/event/s-t-e-a-m-lab-38-2-2-2/2029-10-31/
LOCATION:MGL\, 521 Dr. Martin Luther King Blvd\, Murfreesboro\, TN\, 37130\, United States
CATEGORIES:Kids and Family,MGL Youth Services,Myrtle-Glanton Lord (MGL) Library,STEM
ATTACH;FMTTYPE=image/png:https://rclstn.org/wp-content/uploads/2025/07/MGL_January-STEAM_Social.png
ORGANIZER;CN="Maddie":MAILTO:mhicks@rclstn.org
END:VEVENT
BEGIN:VEVENT
DTSTART;TZID=America/Chicago:20291107T150000
DTEND;TZID=America/Chicago:20291107T152500
DTSTAMP:20260425T143830
CREATED:20251231T002828Z
LAST-MODIFIED:20251231T002830Z
UID:10011397-1888758000-1888759500@rclstn.org
SUMMARY:STEAM Lab at MGL Library
DESCRIPTION:Enjoy hands on activities to engage your curiosity and creativity that spans science\, technology\, engineering\, art\, and math! All ages are welcome.
URL:https://rclstn.org/event/s-t-e-a-m-lab-38-2-2-2/2029-11-07/
LOCATION:MGL\, 521 Dr. Martin Luther King Blvd\, Murfreesboro\, TN\, 37130\, United States
CATEGORIES:Kids and Family,MGL Youth Services,Myrtle-Glanton Lord (MGL) Library,STEM
ATTACH;FMTTYPE=image/png:https://rclstn.org/wp-content/uploads/2025/07/MGL_January-STEAM_Social.png
ORGANIZER;CN="Maddie":MAILTO:mhicks@rclstn.org
END:VEVENT
BEGIN:VEVENT
DTSTART;TZID=America/Chicago:20291114T150000
DTEND;TZID=America/Chicago:20291114T152500
DTSTAMP:20260425T143830
CREATED:20251231T002828Z
LAST-MODIFIED:20251231T002830Z
UID:10011789-1889362800-1889364300@rclstn.org
SUMMARY:STEAM Lab at MGL Library
DESCRIPTION:Enjoy hands on activities to engage your curiosity and creativity that spans science\, technology\, engineering\, art\, and math! All ages are welcome.
URL:https://rclstn.org/event/s-t-e-a-m-lab-38-2-2-2/2029-11-14/
LOCATION:MGL\, 521 Dr. Martin Luther King Blvd\, Murfreesboro\, TN\, 37130\, United States
CATEGORIES:Kids and Family,MGL Youth Services,Myrtle-Glanton Lord (MGL) Library,STEM
ATTACH;FMTTYPE=image/png:https://rclstn.org/wp-content/uploads/2025/07/MGL_January-STEAM_Social.png
ORGANIZER;CN="Maddie":MAILTO:mhicks@rclstn.org
END:VEVENT
BEGIN:VEVENT
DTSTART;TZID=America/Chicago:20291121T150000
DTEND;TZID=America/Chicago:20291121T152500
DTSTAMP:20260425T143830
CREATED:20251231T002828Z
LAST-MODIFIED:20251231T002830Z
UID:10011790-1889967600-1889969100@rclstn.org
SUMMARY:STEAM Lab at MGL Library
DESCRIPTION:Enjoy hands on activities to engage your curiosity and creativity that spans science\, technology\, engineering\, art\, and math! All ages are welcome.
URL:https://rclstn.org/event/s-t-e-a-m-lab-38-2-2-2/2029-11-21/
LOCATION:MGL\, 521 Dr. Martin Luther King Blvd\, Murfreesboro\, TN\, 37130\, United States
CATEGORIES:Kids and Family,MGL Youth Services,Myrtle-Glanton Lord (MGL) Library,STEM
ATTACH;FMTTYPE=image/png:https://rclstn.org/wp-content/uploads/2025/07/MGL_January-STEAM_Social.png
ORGANIZER;CN="Maddie":MAILTO:mhicks@rclstn.org
END:VEVENT
BEGIN:VEVENT
DTSTART;TZID=America/Chicago:20291128T150000
DTEND;TZID=America/Chicago:20291128T152500
DTSTAMP:20260425T143830
CREATED:20251231T002828Z
LAST-MODIFIED:20251231T002830Z
UID:10011791-1890572400-1890573900@rclstn.org
SUMMARY:STEAM Lab at MGL Library
DESCRIPTION:Enjoy hands on activities to engage your curiosity and creativity that spans science\, technology\, engineering\, art\, and math! All ages are welcome.
URL:https://rclstn.org/event/s-t-e-a-m-lab-38-2-2-2/2029-11-28/
LOCATION:MGL\, 521 Dr. Martin Luther King Blvd\, Murfreesboro\, TN\, 37130\, United States
CATEGORIES:Kids and Family,MGL Youth Services,Myrtle-Glanton Lord (MGL) Library,STEM
ATTACH;FMTTYPE=image/png:https://rclstn.org/wp-content/uploads/2025/07/MGL_January-STEAM_Social.png
ORGANIZER;CN="Maddie":MAILTO:mhicks@rclstn.org
END:VEVENT
BEGIN:VEVENT
DTSTART;TZID=America/Chicago:20291205T150000
DTEND;TZID=America/Chicago:20291205T152500
DTSTAMP:20260425T143830
CREATED:20251231T002828Z
LAST-MODIFIED:20251231T002830Z
UID:10011792-1891177200-1891178700@rclstn.org
SUMMARY:STEAM Lab at MGL Library
DESCRIPTION:Enjoy hands on activities to engage your curiosity and creativity that spans science\, technology\, engineering\, art\, and math! All ages are welcome.
URL:https://rclstn.org/event/s-t-e-a-m-lab-38-2-2-2/2029-12-05/
LOCATION:MGL\, 521 Dr. Martin Luther King Blvd\, Murfreesboro\, TN\, 37130\, United States
CATEGORIES:Kids and Family,MGL Youth Services,Myrtle-Glanton Lord (MGL) Library,STEM
ATTACH;FMTTYPE=image/png:https://rclstn.org/wp-content/uploads/2025/07/MGL_January-STEAM_Social.png
ORGANIZER;CN="Maddie":MAILTO:mhicks@rclstn.org
END:VEVENT
BEGIN:VEVENT
DTSTART;TZID=America/Chicago:20291212T150000
DTEND;TZID=America/Chicago:20291212T152500
DTSTAMP:20260425T143830
CREATED:20251231T002828Z
LAST-MODIFIED:20251231T002830Z
UID:10011793-1891782000-1891783500@rclstn.org
SUMMARY:STEAM Lab at MGL Library
DESCRIPTION:Enjoy hands on activities to engage your curiosity and creativity that spans science\, technology\, engineering\, art\, and math! All ages are welcome.
URL:https://rclstn.org/event/s-t-e-a-m-lab-38-2-2-2/2029-12-12/
LOCATION:MGL\, 521 Dr. Martin Luther King Blvd\, Murfreesboro\, TN\, 37130\, United States
CATEGORIES:Kids and Family,MGL Youth Services,Myrtle-Glanton Lord (MGL) Library,STEM
ATTACH;FMTTYPE=image/png:https://rclstn.org/wp-content/uploads/2025/07/MGL_January-STEAM_Social.png
ORGANIZER;CN="Maddie":MAILTO:mhicks@rclstn.org
END:VEVENT
BEGIN:VEVENT
DTSTART;TZID=America/Chicago:20291219T150000
DTEND;TZID=America/Chicago:20291219T152500
DTSTAMP:20260425T143830
CREATED:20251231T002828Z
LAST-MODIFIED:20251231T002830Z
UID:10015673-1892386800-1892388300@rclstn.org
SUMMARY:STEAM Lab at MGL Library
DESCRIPTION:Enjoy hands on activities to engage your curiosity and creativity that spans science\, technology\, engineering\, art\, and math! All ages are welcome.
URL:https://rclstn.org/event/s-t-e-a-m-lab-38-2-2-2/2029-12-19/
LOCATION:MGL\, 521 Dr. Martin Luther King Blvd\, Murfreesboro\, TN\, 37130\, United States
CATEGORIES:Kids and Family,MGL Youth Services,Myrtle-Glanton Lord (MGL) Library,STEM
ATTACH;FMTTYPE=image/png:https://rclstn.org/wp-content/uploads/2025/07/MGL_January-STEAM_Social.png
ORGANIZER;CN="Maddie":MAILTO:mhicks@rclstn.org
END:VEVENT
BEGIN:VEVENT
DTSTART;TZID=America/Chicago:20291226T150000
DTEND;TZID=America/Chicago:20291226T152500
DTSTAMP:20260425T143830
CREATED:20251231T002828Z
LAST-MODIFIED:20251231T002830Z
UID:10015674-1892991600-1892993100@rclstn.org
SUMMARY:STEAM Lab at MGL Library
DESCRIPTION:Enjoy hands on activities to engage your curiosity and creativity that spans science\, technology\, engineering\, art\, and math! All ages are welcome.
URL:https://rclstn.org/event/s-t-e-a-m-lab-38-2-2-2/2029-12-26/
LOCATION:MGL\, 521 Dr. Martin Luther King Blvd\, Murfreesboro\, TN\, 37130\, United States
CATEGORIES:Kids and Family,MGL Youth Services,Myrtle-Glanton Lord (MGL) Library,STEM
ATTACH;FMTTYPE=image/png:https://rclstn.org/wp-content/uploads/2025/07/MGL_January-STEAM_Social.png
ORGANIZER;CN="Maddie":MAILTO:mhicks@rclstn.org
END:VEVENT
BEGIN:VEVENT
DTSTART;TZID=America/Chicago:20300102T150000
DTEND;TZID=America/Chicago:20300102T152500
DTSTAMP:20260425T143830
CREATED:20251231T002828Z
LAST-MODIFIED:20251231T002830Z
UID:10015675-1893596400-1893597900@rclstn.org
SUMMARY:STEAM Lab at MGL Library
DESCRIPTION:Enjoy hands on activities to engage your curiosity and creativity that spans science\, technology\, engineering\, art\, and math! All ages are welcome.
URL:https://rclstn.org/event/s-t-e-a-m-lab-38-2-2-2/2030-01-02/
LOCATION:MGL\, 521 Dr. Martin Luther King Blvd\, Murfreesboro\, TN\, 37130\, United States
CATEGORIES:Kids and Family,MGL Youth Services,Myrtle-Glanton Lord (MGL) Library,STEM
ATTACH;FMTTYPE=image/png:https://rclstn.org/wp-content/uploads/2025/07/MGL_January-STEAM_Social.png
ORGANIZER;CN="Maddie":MAILTO:mhicks@rclstn.org
END:VEVENT
BEGIN:VEVENT
DTSTART;TZID=America/Chicago:20300109T150000
DTEND;TZID=America/Chicago:20300109T152500
DTSTAMP:20260425T143830
CREATED:20251231T002828Z
LAST-MODIFIED:20251231T002830Z
UID:10015676-1894201200-1894202700@rclstn.org
SUMMARY:STEAM Lab at MGL Library
DESCRIPTION:Enjoy hands on activities to engage your curiosity and creativity that spans science\, technology\, engineering\, art\, and math! All ages are welcome.
URL:https://rclstn.org/event/s-t-e-a-m-lab-38-2-2-2/2030-01-09/
LOCATION:MGL\, 521 Dr. Martin Luther King Blvd\, Murfreesboro\, TN\, 37130\, United States
CATEGORIES:Kids and Family,MGL Youth Services,Myrtle-Glanton Lord (MGL) Library,STEM
ATTACH;FMTTYPE=image/png:https://rclstn.org/wp-content/uploads/2025/07/MGL_January-STEAM_Social.png
ORGANIZER;CN="Maddie":MAILTO:mhicks@rclstn.org
END:VEVENT
BEGIN:VEVENT
DTSTART;TZID=America/Chicago:20300116T150000
DTEND;TZID=America/Chicago:20300116T152500
DTSTAMP:20260425T143830
CREATED:20251231T002828Z
LAST-MODIFIED:20251231T002830Z
UID:10015677-1894806000-1894807500@rclstn.org
SUMMARY:STEAM Lab at MGL Library
DESCRIPTION:Enjoy hands on activities to engage your curiosity and creativity that spans science\, technology\, engineering\, art\, and math! All ages are welcome.
URL:https://rclstn.org/event/s-t-e-a-m-lab-38-2-2-2/2030-01-16/
LOCATION:MGL\, 521 Dr. Martin Luther King Blvd\, Murfreesboro\, TN\, 37130\, United States
CATEGORIES:Kids and Family,MGL Youth Services,Myrtle-Glanton Lord (MGL) Library,STEM
ATTACH;FMTTYPE=image/png:https://rclstn.org/wp-content/uploads/2025/07/MGL_January-STEAM_Social.png
ORGANIZER;CN="Maddie":MAILTO:mhicks@rclstn.org
END:VEVENT
BEGIN:VEVENT
DTSTART;TZID=America/Chicago:20300123T150000
DTEND;TZID=America/Chicago:20300123T152500
DTSTAMP:20260425T143830
CREATED:20251231T002828Z
LAST-MODIFIED:20251231T002830Z
UID:10015678-1895410800-1895412300@rclstn.org
SUMMARY:STEAM Lab at MGL Library
DESCRIPTION:Enjoy hands on activities to engage your curiosity and creativity that spans science\, technology\, engineering\, art\, and math! All ages are welcome.
URL:https://rclstn.org/event/s-t-e-a-m-lab-38-2-2-2/2030-01-23/
LOCATION:MGL\, 521 Dr. Martin Luther King Blvd\, Murfreesboro\, TN\, 37130\, United States
CATEGORIES:Kids and Family,MGL Youth Services,Myrtle-Glanton Lord (MGL) Library,STEM
ATTACH;FMTTYPE=image/png:https://rclstn.org/wp-content/uploads/2025/07/MGL_January-STEAM_Social.png
ORGANIZER;CN="Maddie":MAILTO:mhicks@rclstn.org
END:VEVENT
BEGIN:VEVENT
DTSTART;TZID=America/Chicago:20300130T150000
DTEND;TZID=America/Chicago:20300130T152500
DTSTAMP:20260425T143830
CREATED:20251231T002828Z
LAST-MODIFIED:20251231T002830Z
UID:10015679-1896015600-1896017100@rclstn.org
SUMMARY:STEAM Lab at MGL Library
DESCRIPTION:Enjoy hands on activities to engage your curiosity and creativity that spans science\, technology\, engineering\, art\, and math! All ages are welcome.
URL:https://rclstn.org/event/s-t-e-a-m-lab-38-2-2-2/2030-01-30/
LOCATION:MGL\, 521 Dr. Martin Luther King Blvd\, Murfreesboro\, TN\, 37130\, United States
CATEGORIES:Kids and Family,MGL Youth Services,Myrtle-Glanton Lord (MGL) Library,STEM
ATTACH;FMTTYPE=image/png:https://rclstn.org/wp-content/uploads/2025/07/MGL_January-STEAM_Social.png
ORGANIZER;CN="Maddie":MAILTO:mhicks@rclstn.org
END:VEVENT
BEGIN:VEVENT
DTSTART;TZID=America/Chicago:20300206T150000
DTEND;TZID=America/Chicago:20300206T152500
DTSTAMP:20260425T143830
CREATED:20251231T002828Z
LAST-MODIFIED:20251231T002830Z
UID:10015680-1896620400-1896621900@rclstn.org
SUMMARY:STEAM Lab at MGL Library
DESCRIPTION:Enjoy hands on activities to engage your curiosity and creativity that spans science\, technology\, engineering\, art\, and math! All ages are welcome.
URL:https://rclstn.org/event/s-t-e-a-m-lab-38-2-2-2/2030-02-06/
LOCATION:MGL\, 521 Dr. Martin Luther King Blvd\, Murfreesboro\, TN\, 37130\, United States
CATEGORIES:Kids and Family,MGL Youth Services,Myrtle-Glanton Lord (MGL) Library,STEM
ATTACH;FMTTYPE=image/png:https://rclstn.org/wp-content/uploads/2025/07/MGL_January-STEAM_Social.png
ORGANIZER;CN="Maddie":MAILTO:mhicks@rclstn.org
END:VEVENT
BEGIN:VEVENT
DTSTART;TZID=America/Chicago:20300213T150000
DTEND;TZID=America/Chicago:20300213T152500
DTSTAMP:20260425T143830
CREATED:20251231T002828Z
LAST-MODIFIED:20251231T002830Z
UID:10015681-1897225200-1897226700@rclstn.org
SUMMARY:STEAM Lab at MGL Library
DESCRIPTION:Enjoy hands on activities to engage your curiosity and creativity that spans science\, technology\, engineering\, art\, and math! All ages are welcome.
URL:https://rclstn.org/event/s-t-e-a-m-lab-38-2-2-2/2030-02-13/
LOCATION:MGL\, 521 Dr. Martin Luther King Blvd\, Murfreesboro\, TN\, 37130\, United States
CATEGORIES:Kids and Family,MGL Youth Services,Myrtle-Glanton Lord (MGL) Library,STEM
ATTACH;FMTTYPE=image/png:https://rclstn.org/wp-content/uploads/2025/07/MGL_January-STEAM_Social.png
ORGANIZER;CN="Maddie":MAILTO:mhicks@rclstn.org
END:VEVENT
BEGIN:VEVENT
DTSTART;TZID=America/Chicago:20300220T150000
DTEND;TZID=America/Chicago:20300220T152500
DTSTAMP:20260425T143830
CREATED:20251231T002828Z
LAST-MODIFIED:20251231T002830Z
UID:10015682-1897830000-1897831500@rclstn.org
SUMMARY:STEAM Lab at MGL Library
DESCRIPTION:Enjoy hands on activities to engage your curiosity and creativity that spans science\, technology\, engineering\, art\, and math! All ages are welcome.
URL:https://rclstn.org/event/s-t-e-a-m-lab-38-2-2-2/2030-02-20/
LOCATION:MGL\, 521 Dr. Martin Luther King Blvd\, Murfreesboro\, TN\, 37130\, United States
CATEGORIES:Kids and Family,MGL Youth Services,Myrtle-Glanton Lord (MGL) Library,STEM
ATTACH;FMTTYPE=image/png:https://rclstn.org/wp-content/uploads/2025/07/MGL_January-STEAM_Social.png
ORGANIZER;CN="Maddie":MAILTO:mhicks@rclstn.org
END:VEVENT
BEGIN:VEVENT
DTSTART;TZID=America/Chicago:20300227T150000
DTEND;TZID=America/Chicago:20300227T152500
DTSTAMP:20260425T143830
CREATED:20251231T002828Z
LAST-MODIFIED:20251231T002830Z
UID:10015683-1898434800-1898436300@rclstn.org
SUMMARY:STEAM Lab at MGL Library
DESCRIPTION:Enjoy hands on activities to engage your curiosity and creativity that spans science\, technology\, engineering\, art\, and math! All ages are welcome.
URL:https://rclstn.org/event/s-t-e-a-m-lab-38-2-2-2/2030-02-27/
LOCATION:MGL\, 521 Dr. Martin Luther King Blvd\, Murfreesboro\, TN\, 37130\, United States
CATEGORIES:Kids and Family,MGL Youth Services,Myrtle-Glanton Lord (MGL) Library,STEM
ATTACH;FMTTYPE=image/png:https://rclstn.org/wp-content/uploads/2025/07/MGL_January-STEAM_Social.png
ORGANIZER;CN="Maddie":MAILTO:mhicks@rclstn.org
END:VEVENT
BEGIN:VEVENT
DTSTART;TZID=America/Chicago:20300306T150000
DTEND;TZID=America/Chicago:20300306T152500
DTSTAMP:20260425T143830
CREATED:20251231T002828Z
LAST-MODIFIED:20251231T002830Z
UID:10015684-1899039600-1899041100@rclstn.org
SUMMARY:STEAM Lab at MGL Library
DESCRIPTION:Enjoy hands on activities to engage your curiosity and creativity that spans science\, technology\, engineering\, art\, and math! All ages are welcome.
URL:https://rclstn.org/event/s-t-e-a-m-lab-38-2-2-2/2030-03-06/
LOCATION:MGL\, 521 Dr. Martin Luther King Blvd\, Murfreesboro\, TN\, 37130\, United States
CATEGORIES:Kids and Family,MGL Youth Services,Myrtle-Glanton Lord (MGL) Library,STEM
ATTACH;FMTTYPE=image/png:https://rclstn.org/wp-content/uploads/2025/07/MGL_January-STEAM_Social.png
ORGANIZER;CN="Maddie":MAILTO:mhicks@rclstn.org
END:VEVENT
BEGIN:VEVENT
DTSTART;TZID=America/Chicago:20300313T150000
DTEND;TZID=America/Chicago:20300313T152500
DTSTAMP:20260425T143830
CREATED:20251231T002828Z
LAST-MODIFIED:20251231T002830Z
UID:10015685-1899644400-1899645900@rclstn.org
SUMMARY:STEAM Lab at MGL Library
DESCRIPTION:Enjoy hands on activities to engage your curiosity and creativity that spans science\, technology\, engineering\, art\, and math! All ages are welcome.
URL:https://rclstn.org/event/s-t-e-a-m-lab-38-2-2-2/2030-03-13/
LOCATION:MGL\, 521 Dr. Martin Luther King Blvd\, Murfreesboro\, TN\, 37130\, United States
CATEGORIES:Kids and Family,MGL Youth Services,Myrtle-Glanton Lord (MGL) Library,STEM
ATTACH;FMTTYPE=image/png:https://rclstn.org/wp-content/uploads/2025/07/MGL_January-STEAM_Social.png
ORGANIZER;CN="Maddie":MAILTO:mhicks@rclstn.org
END:VEVENT
BEGIN:VEVENT
DTSTART;TZID=America/Chicago:20300320T150000
DTEND;TZID=America/Chicago:20300320T152500
DTSTAMP:20260425T143830
CREATED:20251231T002828Z
LAST-MODIFIED:20251231T002830Z
UID:10015686-1900249200-1900250700@rclstn.org
SUMMARY:STEAM Lab at MGL Library
DESCRIPTION:Enjoy hands on activities to engage your curiosity and creativity that spans science\, technology\, engineering\, art\, and math! All ages are welcome.
URL:https://rclstn.org/event/s-t-e-a-m-lab-38-2-2-2/2030-03-20/
LOCATION:MGL\, 521 Dr. Martin Luther King Blvd\, Murfreesboro\, TN\, 37130\, United States
CATEGORIES:Kids and Family,MGL Youth Services,Myrtle-Glanton Lord (MGL) Library,STEM
ATTACH;FMTTYPE=image/png:https://rclstn.org/wp-content/uploads/2025/07/MGL_January-STEAM_Social.png
ORGANIZER;CN="Maddie":MAILTO:mhicks@rclstn.org
END:VEVENT
BEGIN:VEVENT
DTSTART;TZID=America/Chicago:20300327T150000
DTEND;TZID=America/Chicago:20300327T152500
DTSTAMP:20260425T143830
CREATED:20251231T002828Z
LAST-MODIFIED:20251231T002830Z
UID:10015687-1900854000-1900855500@rclstn.org
SUMMARY:STEAM Lab at MGL Library
DESCRIPTION:Enjoy hands on activities to engage your curiosity and creativity that spans science\, technology\, engineering\, art\, and math! All ages are welcome.
URL:https://rclstn.org/event/s-t-e-a-m-lab-38-2-2-2/2030-03-27/
LOCATION:MGL\, 521 Dr. Martin Luther King Blvd\, Murfreesboro\, TN\, 37130\, United States
CATEGORIES:Kids and Family,MGL Youth Services,Myrtle-Glanton Lord (MGL) Library,STEM
ATTACH;FMTTYPE=image/png:https://rclstn.org/wp-content/uploads/2025/07/MGL_January-STEAM_Social.png
ORGANIZER;CN="Maddie":MAILTO:mhicks@rclstn.org
END:VEVENT
END:VCALENDAR