BEGIN:VCALENDAR
VERSION:2.0
PRODID:-//RCLS+ - ECPv6.15.20//NONSGML v1.0//EN
CALSCALE:GREGORIAN
METHOD:PUBLISH
X-ORIGINAL-URL:https://rclstn.org
X-WR-CALDESC:Events for RCLS+
REFRESH-INTERVAL;VALUE=DURATION:PT1H
X-Robots-Tag:noindex
X-PUBLISHED-TTL:PT1H
BEGIN:VTIMEZONE
TZID:America/Chicago
BEGIN:DAYLIGHT
TZOFFSETFROM:-0600
TZOFFSETTO:-0500
TZNAME:CDT
DTSTART:20250309T080000
END:DAYLIGHT
BEGIN:STANDARD
TZOFFSETFROM:-0500
TZOFFSETTO:-0600
TZNAME:CST
DTSTART:20251102T070000
END:STANDARD
BEGIN:DAYLIGHT
TZOFFSETFROM:-0600
TZOFFSETTO:-0500
TZNAME:CDT
DTSTART:20260308T080000
END:DAYLIGHT
BEGIN:STANDARD
TZOFFSETFROM:-0500
TZOFFSETTO:-0600
TZNAME:CST
DTSTART:20261101T070000
END:STANDARD
BEGIN:DAYLIGHT
TZOFFSETFROM:-0600
TZOFFSETTO:-0500
TZNAME:CDT
DTSTART:20270314T080000
END:DAYLIGHT
BEGIN:STANDARD
TZOFFSETFROM:-0500
TZOFFSETTO:-0600
TZNAME:CST
DTSTART:20271107T070000
END:STANDARD
END:VTIMEZONE
BEGIN:VEVENT
DTSTART;TZID=America/Chicago:20260106T151500
DTEND;TZID=America/Chicago:20260106T154500
DTSTAMP:20260423T030540
CREATED:20251027T144858Z
LAST-MODIFIED:20251219T193510Z
UID:10022102-1767712500-1767714300@rclstn.org
SUMMARY:Sight Word Snack Attack at Smyrna Public Library
DESCRIPTION:Join us for a Sight Word Snack Attack at Smyrna Public Library Tuesdays at 3:15 p.m. \nAt Sight Word Snack Attack  children receive a snack and water\, play a round of Sight Word Bingo\, then choose from a variety of fun sight word games to play! Geared toward preschool-3rd grade. Adult participation is highly recommended. \nSight words are common words that kids recognize instantly without sounding them out. Recognizing words by sight helps kids become faster\, more fluent readers.
URL:https://rclstn.org/event/sight-word-snack-attack-bingo-at-smyrna-public-library-2/2026-01-06/
LOCATION:Smyrna Public Library\, 400 Enon Springs Rd W\, Smyrna\, TN\, 37167\, United States
CATEGORIES:Kids and Family,Smyrna Public Libary,Smyrna Youth Services
ATTACH;FMTTYPE=image/png:https://rclstn.org/wp-content/uploads/2024/11/Peachjar_SightWord_SnackAttack-3.png
ORGANIZER;CN="Smyrna Youth Services":MAILTO:smyrnays@rclstn.org
END:VEVENT
BEGIN:VEVENT
DTSTART;TZID=America/Chicago:20260107T100000
DTEND;TZID=America/Chicago:20260107T110000
DTSTAMP:20260423T030541
CREATED:20251124T213101Z
LAST-MODIFIED:20260414T181658Z
UID:10018672-1767780000-1767783600@rclstn.org
SUMMARY:All Ages Story Time at Smyrna Library
DESCRIPTION:Join us at Smyrna Public Library for All Ages Story Time where we will read stories\, sing songs\, and play fun games to enhance early literacy.   *Programs close 10 minutes after start time.
URL:https://rclstn.org/event/all-ages-story-time-at-smyrna-library-2-2/2026-01-07/
LOCATION:Smyrna Public Library\, 400 Enon Springs Rd W\, Smyrna\, TN\, 37167\, United States
CATEGORIES:Kids and Family,Smyrna Public Libary,Smyrna Youth Services,Story Time
ATTACH;FMTTYPE=image/png:https://rclstn.org/wp-content/uploads/2024/10/family-story-time-11-×-8.5-in.png
ORGANIZER;CN="Smyrna Youth Services":MAILTO:smyrnays@rclstn.org
END:VEVENT
BEGIN:VEVENT
DTSTART;TZID=America/Chicago:20260107T153000
DTEND;TZID=America/Chicago:20260107T170000
DTSTAMP:20260423T030541
CREATED:20260107T212737Z
LAST-MODIFIED:20260319T184601Z
UID:10019079-1767799800-1767805200@rclstn.org
SUMMARY:Preteen D&D at Smyrna (Full)
DESCRIPTION:Join us for our Preteen Dungeons and Dragons Pirate Campaign. \nHelp build confidence\, critical thinking\, problem solving\, teamwork\, and conflict resolution skills. \nRegister on our website to join our waitlist!
URL:https://rclstn.org/event/preteen-dd-full-2/2026-01-07/
LOCATION:TN
CATEGORIES:Smyrna Public Libary,Smyrna Youth Services
ATTACH;FMTTYPE=image/png:https://rclstn.org/wp-content/uploads/2026/01/smy-Pre-Teen-DD-2026-1-1.png
END:VEVENT
BEGIN:VEVENT
DTSTART;TZID=America/Chicago:20260108T100000
DTEND;TZID=America/Chicago:20260108T100000
DTSTAMP:20260423T030541
CREATED:20250717T185023Z
LAST-MODIFIED:20260414T182315Z
UID:10016365-1767866400-1767866400@rclstn.org
SUMMARY:Baby Time at Smyrna Public Library
DESCRIPTION:Join us for Baby Time at Smyrna Public Library on Thursdays at 10:00 am. Baby Time is a story time adventure designed for caregivers and babies aged 0-24 months. Snuggle up for a gentle story\, interactive rhymes\, singing and sensory play in a supportive environment that fosters early literacy and bonding. Programs close 10 minutes after start time.
URL:https://rclstn.org/event/baby-time-at-smyrna-public-library-2-2/2026-01-08/
LOCATION:Smyrna Public Library\, 400 Enon Springs Rd W\, Smyrna\, TN\, 37167\, United States
CATEGORIES:Kids and Family,Smyrna Public Libary,Smyrna Youth Services,Story Time
ATTACH;FMTTYPE=image/jpeg:https://rclstn.org/wp-content/uploads/2024/08/smy_baby-time-whale-4.jpg
ORGANIZER;CN="Smyrna Youth Services":MAILTO:smyrnays@rclstn.org
END:VEVENT
BEGIN:VEVENT
DTSTART;TZID=America/Chicago:20260108T150000
DTEND;TZID=America/Chicago:20260108T163000
DTSTAMP:20260423T030541
CREATED:20251219T193617Z
LAST-MODIFIED:20251219T193700Z
UID:10022114-1767884400-1767889800@rclstn.org
SUMMARY:Tales to Tails at Smyrna Library-- Bella
DESCRIPTION:Join us for Tales to Tails a heartwarming library program at Smyrna Public Library designed to combine the joy of reading with the therapeutic benefits of spending time with dogs. In this paw-some program\, participants are invited to come to the library to read aloud to our friendly therapy dogs in a relaxed and supportive environment.  Ten minute slots are available on Thursdays starting at 3:00 p.m. Call 615-459-4884 or email smyrnays@rclstn.org to reserve your spot.
URL:https://rclstn.org/event/tales-to-tails-bella/
LOCATION:Smyrna Public Library\, 400 Enon Springs Rd W\, Smyrna\, TN\, 37167\, United States
CATEGORIES:Smyrna Youth Services
ATTACH;FMTTYPE=image/png:https://rclstn.org/wp-content/uploads/2025/12/Tales-to-Tails-11-×-8.5-in-1536x1187-1.png
END:VEVENT
BEGIN:VEVENT
DTSTART;TZID=America/Chicago:20260110T130000
DTEND;TZID=America/Chicago:20260110T133000
DTSTAMP:20260423T030541
CREATED:20260102T205521Z
LAST-MODIFIED:20260210T200144Z
UID:10022662-1768050000-1768051800@rclstn.org
SUMMARY:Saturday Storytime
DESCRIPTION:Join us for our Saturday Storytime at the Smyrna Public Library @ 1:00pm. \n**Program closes 10 minutes after starting.
URL:https://rclstn.org/event/saturday-storytime/
LOCATION:Smyrna Public Library\, 400 Enon Springs Rd W\, Smyrna\, TN\, 37167\, United States
CATEGORIES:Smyrna Public Libary,Smyrna Youth Services,Story Time
ATTACH;FMTTYPE=image/png:https://rclstn.org/wp-content/uploads/2026/01/Saturday-Storytime-SMY-YS-5.png
ORGANIZER;CN="Smyrna Youth Services":MAILTO:smyrnays@rclstn.org
END:VEVENT
BEGIN:VEVENT
DTSTART;TZID=America/Chicago:20260110T140000
DTEND;TZID=America/Chicago:20260110T150000
DTSTAMP:20260423T030541
CREATED:20240216T192250Z
LAST-MODIFIED:20260409T173554Z
UID:10002704-1768053600-1768057200@rclstn.org
SUMMARY:TAB at Smyrna Public Library
DESCRIPTION:Teen Advisory Board\, or T.A.B. for short\, is open to anyone ages 13-18 who is interested in creating the change they would like to see in their library and their community. T.A.B. meets one time each month on the second Saturday at 2:00 p.m. to share ideas and information regarding the teen space\, collection\, programming\, and vision for the future.
URL:https://rclstn.org/event/t-a-b-at-smyrna-library/2026-01-10/
LOCATION:Smyrna Public Library\, 400 Enon Springs Rd W\, Smyrna\, TN\, 37167\, United States
CATEGORIES:Smyrna Public Libary,Smyrna Youth Services,Teen
ATTACH;FMTTYPE=image/jpeg:https://rclstn.org/wp-content/uploads/2024/02/TAB-6.jpg
ORGANIZER;CN="Smyrna Youth Services":MAILTO:smyrnays@rclstn.org
END:VEVENT
BEGIN:VEVENT
DTSTART;TZID=America/Chicago:20260113T151500
DTEND;TZID=America/Chicago:20260113T154500
DTSTAMP:20260423T030541
CREATED:20251027T144858Z
LAST-MODIFIED:20251219T193510Z
UID:10022104-1768317300-1768319100@rclstn.org
SUMMARY:Sight Word Snack Attack at Smyrna Public Library
DESCRIPTION:Join us for a Sight Word Snack Attack at Smyrna Public Library Tuesdays at 3:15 p.m. \nAt Sight Word Snack Attack  children receive a snack and water\, play a round of Sight Word Bingo\, then choose from a variety of fun sight word games to play! Geared toward preschool-3rd grade. Adult participation is highly recommended. \nSight words are common words that kids recognize instantly without sounding them out. Recognizing words by sight helps kids become faster\, more fluent readers.
URL:https://rclstn.org/event/sight-word-snack-attack-bingo-at-smyrna-public-library-2/2026-01-13/
LOCATION:Smyrna Public Library\, 400 Enon Springs Rd W\, Smyrna\, TN\, 37167\, United States
CATEGORIES:Kids and Family,Smyrna Public Libary,Smyrna Youth Services
ATTACH;FMTTYPE=image/png:https://rclstn.org/wp-content/uploads/2024/11/Peachjar_SightWord_SnackAttack-3.png
ORGANIZER;CN="Smyrna Youth Services":MAILTO:smyrnays@rclstn.org
END:VEVENT
BEGIN:VEVENT
DTSTART;TZID=America/Chicago:20260114T100000
DTEND;TZID=America/Chicago:20260114T110000
DTSTAMP:20260423T030541
CREATED:20251124T213101Z
LAST-MODIFIED:20260414T181658Z
UID:10018673-1768384800-1768388400@rclstn.org
SUMMARY:All Ages Story Time at Smyrna Library
DESCRIPTION:Join us at Smyrna Public Library for All Ages Story Time where we will read stories\, sing songs\, and play fun games to enhance early literacy.   *Programs close 10 minutes after start time.
URL:https://rclstn.org/event/all-ages-story-time-at-smyrna-library-2-2/2026-01-14/
LOCATION:Smyrna Public Library\, 400 Enon Springs Rd W\, Smyrna\, TN\, 37167\, United States
CATEGORIES:Kids and Family,Smyrna Public Libary,Smyrna Youth Services,Story Time
ATTACH;FMTTYPE=image/png:https://rclstn.org/wp-content/uploads/2024/10/family-story-time-11-×-8.5-in.png
ORGANIZER;CN="Smyrna Youth Services":MAILTO:smyrnays@rclstn.org
END:VEVENT
BEGIN:VEVENT
DTSTART;TZID=America/Chicago:20260115T100000
DTEND;TZID=America/Chicago:20260115T100000
DTSTAMP:20260423T030541
CREATED:20250717T185023Z
LAST-MODIFIED:20260414T182315Z
UID:10016366-1768471200-1768471200@rclstn.org
SUMMARY:Baby Time at Smyrna Public Library
DESCRIPTION:Join us for Baby Time at Smyrna Public Library on Thursdays at 10:00 am. Baby Time is a story time adventure designed for caregivers and babies aged 0-24 months. Snuggle up for a gentle story\, interactive rhymes\, singing and sensory play in a supportive environment that fosters early literacy and bonding. Programs close 10 minutes after start time.
URL:https://rclstn.org/event/baby-time-at-smyrna-public-library-2-2/2026-01-15/
LOCATION:Smyrna Public Library\, 400 Enon Springs Rd W\, Smyrna\, TN\, 37167\, United States
CATEGORIES:Kids and Family,Smyrna Public Libary,Smyrna Youth Services,Story Time
ATTACH;FMTTYPE=image/jpeg:https://rclstn.org/wp-content/uploads/2024/08/smy_baby-time-whale-4.jpg
ORGANIZER;CN="Smyrna Youth Services":MAILTO:smyrnays@rclstn.org
END:VEVENT
BEGIN:VEVENT
DTSTART;TZID=America/Chicago:20260115T150000
DTEND;TZID=America/Chicago:20260115T163000
DTSTAMP:20260423T030541
CREATED:20250828T223204Z
LAST-MODIFIED:20260129T222845Z
UID:10018736-1768489200-1768494600@rclstn.org
SUMMARY:Tales to Tails at Smyrna Library--Caroline
DESCRIPTION:Join us for Tales to Tails a heartwarming library program at Smyrna Public Library designed to combine the joy of reading with the therapeutic benefits of spending time with dogs. In this paw-some program\, participants are invited to come to the library to read aloud to our friendly therapy dogs in a relaxed and supportive environment.  Ten minute slots are available on Thursdays starting at 3:00 p.m. Call 615-459-4884 or email smyrnays@rclstn.org to reserve your spot.
URL:https://rclstn.org/event/tales-to-tails-at-smyrna-library-caroline/2026-01-15/
LOCATION:Smyrna Public Library\, 400 Enon Springs Rd W\, Smyrna\, TN\, 37167\, United States
CATEGORIES:Kids and Family,Smyrna Public Libary,Smyrna Youth Services,Tween/Teen
ATTACH;FMTTYPE=image/png:https://rclstn.org/wp-content/uploads/2025/03/Tales-to-Tails-11-×-8.5-in.png
ORGANIZER;CN="Smyrna Youth Services":MAILTO:smyrnays@rclstn.org
END:VEVENT
BEGIN:VEVENT
DTSTART;TZID=America/Chicago:20260115T160000
DTEND;TZID=America/Chicago:20260115T180000
DTSTAMP:20260423T030541
CREATED:20260115T205159Z
LAST-MODIFIED:20260115T205357Z
UID:10023204-1768492800-1768500000@rclstn.org
SUMMARY:Teen D&D at Smyrna Library
DESCRIPTION:Join us for Teen Dungeons & Dragons! \nRecommended Age is 13-17 \nWe are playing 5th edition game in a classic fantasy setting. Help save the realm from a group of insidious tyrants! \nThis is an ongoing campaign but new players may join the group. \nCharacter sheets and dice are provided upon request. We meet every first and third Thursday of the month from 4pm-6pm. \nThe session is currently at capacity but we may have slots open up or begin a second table. Please email TLOVE@RCLSTN.ORG to be added to the waitlist!
URL:https://rclstn.org/event/teen-dd-at-smyrna-library/2026-01-15/
LOCATION:TN
CATEGORIES:Club,Smyrna Public Libary,Smyrna Youth Services,Teen
ATTACH;FMTTYPE=image/png:https://rclstn.org/wp-content/uploads/2026/01/TEEN-DND-1.png
END:VEVENT
BEGIN:VEVENT
DTSTART;TZID=America/Chicago:20260117T120000
DTEND;TZID=America/Chicago:20260117T140000
DTSTAMP:20260423T030541
CREATED:20260110T221122Z
LAST-MODIFIED:20260110T224530Z
UID:10022844-1768651200-1768658400@rclstn.org
SUMMARY:SMY Self Care Saturday
DESCRIPTION:Teens (ages 13-18) are invited to join us for a movie\, snacks and cozy coloring at Smyrna Library.
URL:https://rclstn.org/event/smy-self-care-saturday/
LOCATION:Smyrna Public Library\, 400 Enon Springs Rd W\, Smyrna\, TN\, 37167\, United States
CATEGORIES:Smyrna Public Libary,Smyrna Youth Services,Teen
ATTACH;FMTTYPE=image/png:https://rclstn.org/wp-content/uploads/2026/01/Self-Care-Saturday.png
END:VEVENT
BEGIN:VEVENT
DTSTART;TZID=America/Chicago:20260117T140000
DTEND;TZID=America/Chicago:20260117T150000
DTSTAMP:20260423T030541
CREATED:20260116T160948Z
LAST-MODIFIED:20260116T160948Z
UID:10023521-1768658400-1768662000@rclstn.org
SUMMARY:Crafternoon at Smyrna Library
DESCRIPTION:Come and join us Saturday January 17 2:00pm @ Smyrna Public Library for a Winter Crafternoon event and make your own cotton ball penguin.  Materials will be provided.
URL:https://rclstn.org/event/crafternoon-at-smyrna-library-5/
LOCATION:TN
CATEGORIES:Arts and Crafts,Kids and Family,Smyrna Public Libary,Smyrna Youth Services,Teen,Teen/Adult,Tween/Teen
ATTACH;FMTTYPE=image/png:https://rclstn.org/wp-content/uploads/2025/07/SMY-YS-Crafternoon-2.png
END:VEVENT
BEGIN:VEVENT
DTSTART;TZID=America/Chicago:20260120T151500
DTEND;TZID=America/Chicago:20260120T154500
DTSTAMP:20260423T030541
CREATED:20251027T144858Z
LAST-MODIFIED:20251219T193510Z
UID:10022105-1768922100-1768923900@rclstn.org
SUMMARY:Sight Word Snack Attack at Smyrna Public Library
DESCRIPTION:Join us for a Sight Word Snack Attack at Smyrna Public Library Tuesdays at 3:15 p.m. \nAt Sight Word Snack Attack  children receive a snack and water\, play a round of Sight Word Bingo\, then choose from a variety of fun sight word games to play! Geared toward preschool-3rd grade. Adult participation is highly recommended. \nSight words are common words that kids recognize instantly without sounding them out. Recognizing words by sight helps kids become faster\, more fluent readers.
URL:https://rclstn.org/event/sight-word-snack-attack-bingo-at-smyrna-public-library-2/2026-01-20/
LOCATION:Smyrna Public Library\, 400 Enon Springs Rd W\, Smyrna\, TN\, 37167\, United States
CATEGORIES:Kids and Family,Smyrna Public Libary,Smyrna Youth Services
ATTACH;FMTTYPE=image/png:https://rclstn.org/wp-content/uploads/2024/11/Peachjar_SightWord_SnackAttack-3.png
ORGANIZER;CN="Smyrna Youth Services":MAILTO:smyrnays@rclstn.org
END:VEVENT
BEGIN:VEVENT
DTSTART;TZID=America/Chicago:20260121T100000
DTEND;TZID=America/Chicago:20260121T110000
DTSTAMP:20260423T030541
CREATED:20251124T213101Z
LAST-MODIFIED:20260414T181658Z
UID:10018674-1768989600-1768993200@rclstn.org
SUMMARY:All Ages Story Time at Smyrna Library
DESCRIPTION:Join us at Smyrna Public Library for All Ages Story Time where we will read stories\, sing songs\, and play fun games to enhance early literacy.   *Programs close 10 minutes after start time.
URL:https://rclstn.org/event/all-ages-story-time-at-smyrna-library-2-2/2026-01-21/
LOCATION:Smyrna Public Library\, 400 Enon Springs Rd W\, Smyrna\, TN\, 37167\, United States
CATEGORIES:Kids and Family,Smyrna Public Libary,Smyrna Youth Services,Story Time
ATTACH;FMTTYPE=image/png:https://rclstn.org/wp-content/uploads/2024/10/family-story-time-11-×-8.5-in.png
ORGANIZER;CN="Smyrna Youth Services":MAILTO:smyrnays@rclstn.org
END:VEVENT
BEGIN:VEVENT
DTSTART;TZID=America/Chicago:20260121T153000
DTEND;TZID=America/Chicago:20260121T170000
DTSTAMP:20260423T030541
CREATED:20260107T212833Z
LAST-MODIFIED:20260319T184831Z
UID:10022774-1769009400-1769014800@rclstn.org
SUMMARY:Preteen D&D at Smyrna (Full)
DESCRIPTION:Join us for our Preteen Dungeons and Dragons Pirate Campaign. \nHelp build confidence\, critical thinking\, problem solving\, teamwork\, and conflict resolution skills. \nRegister on our website to join our waitlist!
URL:https://rclstn.org/event/preteen-dd-at-smyrna-full/2026-01-21/
LOCATION:TN
CATEGORIES:Smyrna Public Libary,Smyrna Youth Services
ATTACH;FMTTYPE=image/png:https://rclstn.org/wp-content/uploads/2026/01/smy-Pre-Teen-DD-2026-1-1.png
END:VEVENT
BEGIN:VEVENT
DTSTART;TZID=America/Chicago:20260122T100000
DTEND;TZID=America/Chicago:20260122T100000
DTSTAMP:20260423T030541
CREATED:20250717T185023Z
LAST-MODIFIED:20260414T182315Z
UID:10016367-1769076000-1769076000@rclstn.org
SUMMARY:Baby Time at Smyrna Public Library
DESCRIPTION:Join us for Baby Time at Smyrna Public Library on Thursdays at 10:00 am. Baby Time is a story time adventure designed for caregivers and babies aged 0-24 months. Snuggle up for a gentle story\, interactive rhymes\, singing and sensory play in a supportive environment that fosters early literacy and bonding. Programs close 10 minutes after start time.
URL:https://rclstn.org/event/baby-time-at-smyrna-public-library-2-2/2026-01-22/
LOCATION:Smyrna Public Library\, 400 Enon Springs Rd W\, Smyrna\, TN\, 37167\, United States
CATEGORIES:Kids and Family,Smyrna Public Libary,Smyrna Youth Services,Story Time
ATTACH;FMTTYPE=image/jpeg:https://rclstn.org/wp-content/uploads/2024/08/smy_baby-time-whale-4.jpg
ORGANIZER;CN="Smyrna Youth Services":MAILTO:smyrnays@rclstn.org
END:VEVENT
BEGIN:VEVENT
DTSTART;TZID=America/Chicago:20260127T151500
DTEND;TZID=America/Chicago:20260127T154500
DTSTAMP:20260423T030541
CREATED:20251027T144858Z
LAST-MODIFIED:20251219T193510Z
UID:10022106-1769526900-1769528700@rclstn.org
SUMMARY:Sight Word Snack Attack at Smyrna Public Library
DESCRIPTION:Join us for a Sight Word Snack Attack at Smyrna Public Library Tuesdays at 3:15 p.m. \nAt Sight Word Snack Attack  children receive a snack and water\, play a round of Sight Word Bingo\, then choose from a variety of fun sight word games to play! Geared toward preschool-3rd grade. Adult participation is highly recommended. \nSight words are common words that kids recognize instantly without sounding them out. Recognizing words by sight helps kids become faster\, more fluent readers.
URL:https://rclstn.org/event/sight-word-snack-attack-bingo-at-smyrna-public-library-2/2026-01-27/
LOCATION:Smyrna Public Library\, 400 Enon Springs Rd W\, Smyrna\, TN\, 37167\, United States
CATEGORIES:Kids and Family,Smyrna Public Libary,Smyrna Youth Services
ATTACH;FMTTYPE=image/png:https://rclstn.org/wp-content/uploads/2024/11/Peachjar_SightWord_SnackAttack-3.png
ORGANIZER;CN="Smyrna Youth Services":MAILTO:smyrnays@rclstn.org
END:VEVENT
BEGIN:VEVENT
DTSTART;TZID=America/Chicago:20260128T100000
DTEND;TZID=America/Chicago:20260128T110000
DTSTAMP:20260423T030541
CREATED:20251124T213101Z
LAST-MODIFIED:20260414T181658Z
UID:10018675-1769594400-1769598000@rclstn.org
SUMMARY:All Ages Story Time at Smyrna Library
DESCRIPTION:Join us at Smyrna Public Library for All Ages Story Time where we will read stories\, sing songs\, and play fun games to enhance early literacy.   *Programs close 10 minutes after start time.
URL:https://rclstn.org/event/all-ages-story-time-at-smyrna-library-2-2/2026-01-28/
LOCATION:Smyrna Public Library\, 400 Enon Springs Rd W\, Smyrna\, TN\, 37167\, United States
CATEGORIES:Kids and Family,Smyrna Public Libary,Smyrna Youth Services,Story Time
ATTACH;FMTTYPE=image/png:https://rclstn.org/wp-content/uploads/2024/10/family-story-time-11-×-8.5-in.png
ORGANIZER;CN="Smyrna Youth Services":MAILTO:smyrnays@rclstn.org
END:VEVENT
END:VCALENDAR