BEGIN:VCALENDAR
VERSION:2.0
PRODID:-//RCLS+ - ECPv6.15.20//NONSGML v1.0//EN
CALSCALE:GREGORIAN
METHOD:PUBLISH
X-WR-CALNAME:RCLS+
X-ORIGINAL-URL:https://rclstn.org
X-WR-CALDESC:Events for RCLS+
REFRESH-INTERVAL;VALUE=DURATION:PT1H
X-Robots-Tag:noindex
X-PUBLISHED-TTL:PT1H
BEGIN:VTIMEZONE
TZID:America/Chicago
BEGIN:DAYLIGHT
TZOFFSETFROM:-0600
TZOFFSETTO:-0500
TZNAME:CDT
DTSTART:20250309T080000
END:DAYLIGHT
BEGIN:STANDARD
TZOFFSETFROM:-0500
TZOFFSETTO:-0600
TZNAME:CST
DTSTART:20251102T070000
END:STANDARD
BEGIN:DAYLIGHT
TZOFFSETFROM:-0600
TZOFFSETTO:-0500
TZNAME:CDT
DTSTART:20260308T080000
END:DAYLIGHT
BEGIN:STANDARD
TZOFFSETFROM:-0500
TZOFFSETTO:-0600
TZNAME:CST
DTSTART:20261101T070000
END:STANDARD
BEGIN:DAYLIGHT
TZOFFSETFROM:-0600
TZOFFSETTO:-0500
TZNAME:CDT
DTSTART:20270314T080000
END:DAYLIGHT
BEGIN:STANDARD
TZOFFSETFROM:-0500
TZOFFSETTO:-0600
TZNAME:CST
DTSTART:20271107T070000
END:STANDARD
END:VTIMEZONE
BEGIN:VEVENT
DTSTART;TZID=America/Chicago:20260218T100000
DTEND;TZID=America/Chicago:20260218T110000
DTSTAMP:20260422T014755
CREATED:20251124T213101Z
LAST-MODIFIED:20260414T181658Z
UID:10018678-1771408800-1771412400@rclstn.org
SUMMARY:All Ages Story Time at Smyrna Library
DESCRIPTION:Join us at Smyrna Public Library for All Ages Story Time where we will read stories\, sing songs\, and play fun games to enhance early literacy.   *Programs close 10 minutes after start time.
URL:https://rclstn.org/event/all-ages-story-time-at-smyrna-library-2-2/2026-02-18/
LOCATION:Smyrna Public Library\, 400 Enon Springs Rd W\, Smyrna\, TN\, 37167\, United States
CATEGORIES:Kids and Family,Smyrna Public Libary,Smyrna Youth Services,Story Time
ATTACH;FMTTYPE=image/png:https://rclstn.org/wp-content/uploads/2024/10/family-story-time-11-×-8.5-in.png
ORGANIZER;CN="Smyrna Youth Services":MAILTO:smyrnays@rclstn.org
END:VEVENT
BEGIN:VEVENT
DTSTART;TZID=America/Chicago:20260218T140000
DTEND;TZID=America/Chicago:20260218T150000
DTSTAMP:20260422T014755
CREATED:20260123T153149Z
LAST-MODIFIED:20260123T153149Z
UID:10023767-1771423200-1771426800@rclstn.org
SUMMARY:Artificial Intelligence: Marvel\, Menace\, or Marketing Gimmick @ Smyrna
DESCRIPTION:AI is in the news! Are you curious about the pros and cons of Artificial Intelligence? Is it just a marketing gimmick? Is it going to change the way we do everything? Come to this class to learn more about the current state of AI.
URL:https://rclstn.org/event/artificial-intelligence-marvel-menace-or-marketing-gimmick-smyrna/
LOCATION:Smyrna Public Library\, 400 Enon Springs Rd W\, Smyrna\, TN\, 37167\, United States
CATEGORIES:Computer/Tech Classes,Smyrna Public Libary
ATTACH;FMTTYPE=image/png:https://rclstn.org/wp-content/uploads/2026/01/2026-february-computer-classes.png
ORGANIZER;CN="Trey":MAILTO:tgwinn@rclstn.org
END:VEVENT
BEGIN:VEVENT
DTSTART;TZID=America/Chicago:20260218T153000
DTEND;TZID=America/Chicago:20260218T170000
DTSTAMP:20260422T014755
CREATED:20260107T212833Z
LAST-MODIFIED:20260319T184831Z
UID:10022775-1771428600-1771434000@rclstn.org
SUMMARY:Preteen D&D at Smyrna (Full)
DESCRIPTION:Join us for our Preteen Dungeons and Dragons Pirate Campaign. \nHelp build confidence\, critical thinking\, problem solving\, teamwork\, and conflict resolution skills. \nRegister on our website to join our waitlist!
URL:https://rclstn.org/event/preteen-dd-at-smyrna-full/2026-02-18/
LOCATION:TN
CATEGORIES:Smyrna Public Libary,Smyrna Youth Services
ATTACH;FMTTYPE=image/png:https://rclstn.org/wp-content/uploads/2026/01/smy-Pre-Teen-DD-2026-1-1.png
END:VEVENT
BEGIN:VEVENT
DTSTART;TZID=America/Chicago:20260218T173000
DTEND;TZID=America/Chicago:20260218T193000
DTSTAMP:20260422T014755
CREATED:20260116T015631Z
LAST-MODIFIED:20260116T015632Z
UID:10022852-1771435800-1771443000@rclstn.org
SUMMARY:Writing Workshop @ Smyrna Library
DESCRIPTION:The Smyrna Library’s Writing Workshop will be a monthly event where you can come to explore and hone your writing skills! We will explore different techniques and styles each session\, as well as have structured time to workshop pieces you’ve been working on. \nThis is a great opportunity for both new and seasoned writers alike to work together to create polished pieces and bring ideas to life! \nIf you have any questions about this event\, please email wmacready@rclstn.org
URL:https://rclstn.org/event/written-mosaic-writing-workshop-3-2/2026-02-18/
LOCATION:Smyrna Public Library\, 400 Enon Springs Rd W\, Smyrna\, TN\, 37167\, United States
CATEGORIES:Adult,Arts and Crafts,Class,Club,Smyrna Public Libary,Teen,Teen/Adult,Writing Group
ATTACH;FMTTYPE=image/png:https://rclstn.org/wp-content/uploads/2026/01/Smyrna-Writing-Workshop.png
END:VEVENT
BEGIN:VEVENT
DTSTART;TZID=America/Chicago:20260219T100000
DTEND;TZID=America/Chicago:20260219T100000
DTSTAMP:20260422T014755
CREATED:20250717T185023Z
LAST-MODIFIED:20260414T182315Z
UID:10016371-1771495200-1771495200@rclstn.org
SUMMARY:Baby Time at Smyrna Public Library
DESCRIPTION:Join us for Baby Time at Smyrna Public Library on Thursdays at 10:00 am. Baby Time is a story time adventure designed for caregivers and babies aged 0-24 months. Snuggle up for a gentle story\, interactive rhymes\, singing and sensory play in a supportive environment that fosters early literacy and bonding. Programs close 10 minutes after start time.
URL:https://rclstn.org/event/baby-time-at-smyrna-public-library-2-2/2026-02-19/
LOCATION:Smyrna Public Library\, 400 Enon Springs Rd W\, Smyrna\, TN\, 37167\, United States
CATEGORIES:Kids and Family,Smyrna Public Libary,Smyrna Youth Services,Story Time
ATTACH;FMTTYPE=image/jpeg:https://rclstn.org/wp-content/uploads/2024/08/smy_baby-time-whale-4.jpg
ORGANIZER;CN="Smyrna Youth Services":MAILTO:smyrnays@rclstn.org
END:VEVENT
BEGIN:VEVENT
DTSTART;TZID=America/Chicago:20260219T160000
DTEND;TZID=America/Chicago:20260219T180000
DTSTAMP:20260422T014755
CREATED:20260115T205159Z
LAST-MODIFIED:20260115T205357Z
UID:10023205-1771516800-1771524000@rclstn.org
SUMMARY:Teen D&D at Smyrna Library
DESCRIPTION:Join us for Teen Dungeons & Dragons! \nRecommended Age is 13-17 \nWe are playing 5th edition game in a classic fantasy setting. Help save the realm from a group of insidious tyrants! \nThis is an ongoing campaign but new players may join the group. \nCharacter sheets and dice are provided upon request. We meet every first and third Thursday of the month from 4pm-6pm. \nThe session is currently at capacity but we may have slots open up or begin a second table. Please email TLOVE@RCLSTN.ORG to be added to the waitlist!
URL:https://rclstn.org/event/teen-dd-at-smyrna-library/2026-02-19/
LOCATION:TN
CATEGORIES:Club,Smyrna Public Libary,Smyrna Youth Services,Teen
ATTACH;FMTTYPE=image/png:https://rclstn.org/wp-content/uploads/2026/01/TEEN-DND-1.png
END:VEVENT
BEGIN:VEVENT
DTSTART;TZID=America/Chicago:20260219T181500
DTEND;TZID=America/Chicago:20260219T184500
DTSTAMP:20260422T014755
CREATED:20250827T003523Z
LAST-MODIFIED:20260414T184336Z
UID:10018832-1771524900-1771526700@rclstn.org
SUMMARY:Pajama Story Time at Smyrna Library
DESCRIPTION:Bring your stuffed animal friends and wear your cozy pajamas to this delightful evening story time. We’ll read books\, sing songs and maybe learn something along the way. All ages welcome; geared towards pre-schoolers-1st grade.
URL:https://rclstn.org/event/pajama-story-time-at-smyrna-library-2/2026-02-19/
LOCATION:Smyrna Public Library\, 400 Enon Springs Rd W\, Smyrna\, TN\, 37167\, United States
CATEGORIES:Kids and Family,Smyrna Public Libary,Story Time
ATTACH;FMTTYPE=image/png:https://rclstn.org/wp-content/uploads/2025/08/Copy-of-Pajama-Story-Time-only-2.png
ORGANIZER;CN="Smyrna Youth Services":MAILTO:smyrnays@rclstn.org
END:VEVENT
BEGIN:VEVENT
DTSTART;TZID=America/Chicago:20260220T130000
DTEND;TZID=America/Chicago:20260220T140000
DTSTAMP:20260422T014755
CREATED:20250717T184458Z
LAST-MODIFIED:20260417T174953Z
UID:10016340-1771592400-1771596000@rclstn.org
SUMMARY:Chair Yoga at Smyrna Library
DESCRIPTION:Chair Yoga is an exercise and stretch class designed to be done with the support of a chair. It’s an ideal exercise for those who don’t want to get on the floor or who can benefit from a chair to support their balance. It’s typically practiced by older adults or people recovering from injuries. Try it out for free at Smyrna Public Library!
URL:https://rclstn.org/event/chair-yoga-at-smyrna-library-2/2026-02-20/
LOCATION:Smyrna Public Library\, 400 Enon Springs Rd W\, Smyrna\, TN\, 37167\, United States
CATEGORIES:Adult,Class,Kids and Family,Smyrna Public Libary,Teen,Teen/Adult,Tween/Teen
ATTACH;FMTTYPE=image/png:https://rclstn.org/wp-content/uploads/2025/07/All-Ages-Chair-Yoga-Fridays-1.png
END:VEVENT
BEGIN:VEVENT
DTSTART;TZID=America/Chicago:20260220T153000
DTEND;TZID=America/Chicago:20260220T170000
DTSTAMP:20260422T014755
CREATED:20260115T174012Z
LAST-MODIFIED:20260115T174108Z
UID:10022926-1771601400-1771606800@rclstn.org
SUMMARY:Cryptid Crafternoon at Smyrna
DESCRIPTION:Join us for a Cryptid Crafternoon and create your own cryptid masterpiece with our Collage event! This is an all-ages event. Supplies and fun cryptid videos will be provided.
URL:https://rclstn.org/event/cryptid-crafternoon-at-smyrna/
LOCATION:Smyrna Public Library\, 400 Enon Springs Rd W\, Smyrna\, TN\, 37167\, United States
CATEGORIES:Adult,Arts and Crafts,Club,Kids and Family,Smyrna Public Libary,Teen,Teen/Adult,Tween/Teen
ATTACH;FMTTYPE=image/png:https://rclstn.org/wp-content/uploads/2026/01/cryptid-crafternoon-collage.png
END:VEVENT
BEGIN:VEVENT
DTSTART;TZID=America/Chicago:20260221T120000
DTEND;TZID=America/Chicago:20260221T130000
DTSTAMP:20260422T014755
CREATED:20260120T202045Z
LAST-MODIFIED:20260120T220931Z
UID:10023657-1771675200-1771678800@rclstn.org
SUMMARY:Teen Self Care Saturday
DESCRIPTION:Teens join us Saturday February 21st. @ Smyrna public library for our Self Care Saturday. Enjoy a movie\, snacks\, and cozy coloring!
URL:https://rclstn.org/event/teen-self-care-saturday/
LOCATION:Smyrna Public Library\, 400 Enon Springs Rd W\, Smyrna\, TN\, 37167\, United States
CATEGORIES:Smyrna Public Libary,Smyrna Youth Services,Teen
ATTACH;FMTTYPE=image/png:https://rclstn.org/wp-content/uploads/2026/01/Self-Care-Saturday-1.png
END:VEVENT
BEGIN:VEVENT
DTSTART;TZID=America/Chicago:20260221T123000
DTEND;TZID=America/Chicago:20260221T133000
DTSTAMP:20260422T014755
CREATED:20251029T165117Z
LAST-MODIFIED:20251231T220731Z
UID:10021892-1771677000-1771680600@rclstn.org
SUMMARY:TINKERCAD 101 (Design Your Own 3D Printable at Smyrna)
DESCRIPTION:Come learn how to design your own 3D printables at Smyrna Public Library on the third Saturday of the month from 12:30 to 1:30 PM.  \nThis is not a 3D Printer Class or Orientation\, but a great way to better understand Tinkercad before (or after) you take the orientation! \nTinkercad is a free browser based Computer Aided Design program. You can design and share your own printables and 3d models. \nWe will learn the basics of this program and use those skills to make a keychain that we will print here at the library for you to keep! \nThis event is for ages 8 and up.  \nAny library patron under the age of 13 must be accompanied by a minor. \nRegistration required. \n 
URL:https://rclstn.org/event/design-your-own-3d-printable-at-smyrna-2/2026-02-21/
LOCATION:Smyrna Public Library\, 400 Enon Springs Rd W\, Smyrna\, TN\, 37167\, United States
CATEGORIES:Adult,Class,Computer/Tech Classes,Smyrna Public Libary,Teen,Teen/Adult
ATTACH;FMTTYPE=image/png:https://rclstn.org/wp-content/uploads/2025/10/TinkerCad_Smyrna-Instagram-Post-45.png
END:VEVENT
BEGIN:VEVENT
DTSTART;TZID=America/Chicago:20260221T140000
DTEND;TZID=America/Chicago:20260221T150000
DTSTAMP:20260422T014755
CREATED:20260115T174604Z
LAST-MODIFIED:20260115T174604Z
UID:10022929-1771682400-1771686000@rclstn.org
SUMMARY:VR Career Fair at Smyrna
DESCRIPTION:Explore your next career in a virtual reality setting at Smyrna Public Library with VR technology provided by Rutherford Works of the Rutherford County Chamber of Commerce. This is a 16+ event and is a great way to learn a new skill or find your next opportunity!
URL:https://rclstn.org/event/vr-career-fair-at-smyrna/
LOCATION:Smyrna Public Library\, 400 Enon Springs Rd W\, Smyrna\, TN\, 37167\, United States
CATEGORIES:Adult,Class,Smyrna Public Libary,STEM,Teen,Teen/Adult
ATTACH;FMTTYPE=image/png:https://rclstn.org/wp-content/uploads/2026/01/smy-career-vr.png
END:VEVENT
BEGIN:VEVENT
DTSTART;TZID=America/Chicago:20260221T140000
DTEND;TZID=America/Chicago:20260221T150000
DTSTAMP:20260422T014755
CREATED:20260212T231457Z
LAST-MODIFIED:20260409T173713Z
UID:10024402-1771682400-1771686000@rclstn.org
SUMMARY:Saturday Crafternoon at Smyrna
DESCRIPTION:Join us Saturday @ 2:00 pm for our themed Crafternoon event. Materials will be provided!
URL:https://rclstn.org/event/saturday-crafternoon/2026-02-21/
LOCATION:Smyrna Public Library\, 400 Enon Springs Rd W\, Smyrna\, TN\, 37167\, United States
CATEGORIES:Smyrna Public Libary,Smyrna Youth Services
END:VEVENT
BEGIN:VEVENT
DTSTART;TZID=America/Chicago:20260221T153000
DTEND;TZID=America/Chicago:20260221T163000
DTSTAMP:20260422T014755
CREATED:20251231T001019Z
LAST-MODIFIED:20260312T161904Z
UID:10023661-1771687800-1771691400@rclstn.org
SUMMARY:Adult Mindfulness at Smyrna Public Library
DESCRIPTION:Join us for our Adult Mindfulness Club at Smyrna Public Library. \nThis event is to promote wellness\, mindfulness\, and mental growth in adults 18 and up.
URL:https://rclstn.org/event/adult-mindfulness-at-smyrna-public-library/2026-02-21/
LOCATION:Smyrna Public Library\, 400 Enon Springs Rd W\, Smyrna\, TN\, 37167\, United States
CATEGORIES:Adult,Club,Smyrna Public Libary
ATTACH;FMTTYPE=image/png:https://rclstn.org/wp-content/uploads/2025/12/Adult-Mindfulness-Club-SMY-TC.png
END:VEVENT
BEGIN:VEVENT
DTSTART;TZID=America/Chicago:20260223T100000
DTEND;TZID=America/Chicago:20260223T103000
DTSTAMP:20260422T014755
CREATED:20260211T200500Z
LAST-MODIFIED:20260414T175926Z
UID:10023873-1771840800-1771842600@rclstn.org
SUMMARY:Silly Song & Dance at Smyrna Public Library
DESCRIPTION:Join Ms. Nicole for Silly Song and Dance Mondays at 10 A.M. at Smyrna Public Library.  This is an exciting high energy program for all ages. Our songs are geared for toddlers and preschoolers to stretch\, dance\, and sing! We will learn about shapes\, colors\, letters\, and numbers while singing and dancing. Adult participation is encouraged! **Programs close at ten minutes after start time.
URL:https://rclstn.org/event/silly-song-dance-at-smyrna-public-library/2026-02-23/
LOCATION:Smyrna Public Library\, 400 Enon Springs Rd W\, Smyrna\, TN\, 37167\, United States
CATEGORIES:Smyrna Public Libary,Smyrna Youth Services
ATTACH;FMTTYPE=image/png:https://rclstn.org/wp-content/uploads/2026/02/Silly-Song-Dance-11-×-8.5-in-8.5-×-11-in-11-×-8.5-in-1.png
END:VEVENT
BEGIN:VEVENT
DTSTART;TZID=America/Chicago:20260223T151500
DTEND;TZID=America/Chicago:20260223T154500
DTSTAMP:20260422T014755
CREATED:20260115T220211Z
LAST-MODIFIED:20260414T183118Z
UID:10023518-1771859700-1771861500@rclstn.org
SUMMARY:Pokémon Club at Smyrna Library
DESCRIPTION:Join us @ Smyrna Public Library 3:15pm for our Pokémon Club.  Bring your cards and hang out with fellow Pokémon fans! \nShow and trade Pokémon cards. \nWatch classic episodes to learn more about Pokémon and Ash’s adventures \nAges: 5+ \n*Trading is allowed with parents’ permission. \n*Every 2nd and 4th Monday of the Month.
URL:https://rclstn.org/event/pokemon-club/2026-02-23/
LOCATION:Smyrna Public Library\, 400 Enon Springs Rd W\, Smyrna\, TN\, 37167\, United States
CATEGORIES:Kids and Family,Smyrna Public Libary,Smyrna Youth Services
ATTACH;FMTTYPE=image/png:https://rclstn.org/wp-content/uploads/2026/01/Smy-YS-Pokemon-Club-10.png
END:VEVENT
BEGIN:VEVENT
DTSTART;TZID=America/Chicago:20260223T160000
DTEND;TZID=America/Chicago:20260223T170000
DTSTAMP:20260422T014755
CREATED:20250515T183424Z
LAST-MODIFIED:20260312T180957Z
UID:10013342-1771862400-1771866000@rclstn.org
SUMMARY:Hooked on Yarn at Smyrna Public Library
DESCRIPTION:This will be a space for any fiber crafter- crochet\, knitting\, embroidery\, etc.- to work on projects and talk with other artists at Smyrna Public Library. \nSupplies will be provided\, but you can also bring your own supplies. \nThis event meets every 4th Monday in the Conference Room from 4p-5p at the Smyrna Public Library.
URL:https://rclstn.org/event/hooked-on-yarn-at-smyrna-public-library-3/2026-02-23/
LOCATION:Smyrna Public Library\, 400 Enon Springs Rd W\, Smyrna\, TN\, 37167\, United States
CATEGORIES:Adult,Arts and Crafts,Club,Smyrna Public Libary
ATTACH;FMTTYPE=image/png:https://rclstn.org/wp-content/uploads/2025/05/HOOKED-ON-YARN.png
END:VEVENT
BEGIN:VEVENT
DTSTART;TZID=America/Chicago:20260224T151500
DTEND;TZID=America/Chicago:20260224T154500
DTSTAMP:20260422T014755
CREATED:20251027T144858Z
LAST-MODIFIED:20251219T193510Z
UID:10022110-1771946100-1771947900@rclstn.org
SUMMARY:Sight Word Snack Attack at Smyrna Public Library
DESCRIPTION:Join us for a Sight Word Snack Attack at Smyrna Public Library Tuesdays at 3:15 p.m. \nAt Sight Word Snack Attack  children receive a snack and water\, play a round of Sight Word Bingo\, then choose from a variety of fun sight word games to play! Geared toward preschool-3rd grade. Adult participation is highly recommended. \nSight words are common words that kids recognize instantly without sounding them out. Recognizing words by sight helps kids become faster\, more fluent readers.
URL:https://rclstn.org/event/sight-word-snack-attack-bingo-at-smyrna-public-library-2/2026-02-24/
LOCATION:Smyrna Public Library\, 400 Enon Springs Rd W\, Smyrna\, TN\, 37167\, United States
CATEGORIES:Kids and Family,Smyrna Public Libary,Smyrna Youth Services
ATTACH;FMTTYPE=image/png:https://rclstn.org/wp-content/uploads/2024/11/Peachjar_SightWord_SnackAttack-3.png
ORGANIZER;CN="Smyrna Youth Services":MAILTO:smyrnays@rclstn.org
END:VEVENT
BEGIN:VEVENT
DTSTART;TZID=America/Chicago:20260225T100000
DTEND;TZID=America/Chicago:20260225T110000
DTSTAMP:20260422T014755
CREATED:20251124T213101Z
LAST-MODIFIED:20260414T181658Z
UID:10018679-1772013600-1772017200@rclstn.org
SUMMARY:All Ages Story Time at Smyrna Library
DESCRIPTION:Join us at Smyrna Public Library for All Ages Story Time where we will read stories\, sing songs\, and play fun games to enhance early literacy.   *Programs close 10 minutes after start time.
URL:https://rclstn.org/event/all-ages-story-time-at-smyrna-library-2-2/2026-02-25/
LOCATION:Smyrna Public Library\, 400 Enon Springs Rd W\, Smyrna\, TN\, 37167\, United States
CATEGORIES:Kids and Family,Smyrna Public Libary,Smyrna Youth Services,Story Time
ATTACH;FMTTYPE=image/png:https://rclstn.org/wp-content/uploads/2024/10/family-story-time-11-×-8.5-in.png
ORGANIZER;CN="Smyrna Youth Services":MAILTO:smyrnays@rclstn.org
END:VEVENT
BEGIN:VEVENT
DTSTART;TZID=America/Chicago:20260225T130000
DTEND;TZID=America/Chicago:20260225T150000
DTSTAMP:20260422T014755
CREATED:20260123T150751Z
LAST-MODIFIED:20260123T150751Z
UID:10023752-1772024400-1772031600@rclstn.org
SUMMARY:One on One Tech Help @ Smyrna Public Library
DESCRIPTION:Need some help with your smart phone\, laptop\, or resume? Come to One on One Tech Help! First come\, first served.
URL:https://rclstn.org/event/one-on-one-tech-help-smyrna-public-library-5/2026-02-25/
LOCATION:Smyrna Public Library\, 400 Enon Springs Rd W\, Smyrna\, TN\, 37167\, United States
CATEGORIES:Computer/Tech Classes,Smyrna Public Libary
ATTACH;FMTTYPE=image/png:https://rclstn.org/wp-content/uploads/2026/01/10.png
ORGANIZER;CN="Trey":MAILTO:tgwinn@rclstn.org
END:VEVENT
BEGIN:VEVENT
DTSTART;TZID=America/Chicago:20260225T173000
DTEND;TZID=America/Chicago:20260225T193000
DTSTAMP:20260422T014755
CREATED:20251230T233848Z
LAST-MODIFIED:20260319T211030Z
UID:10023451-1772040600-1772047800@rclstn.org
SUMMARY:Adult D&D at Smyrna Library
DESCRIPTION:“An adventure where every player is a thief\, the land is wild and names have power” \nSmyrna Library is relaunching our Adult D&D program with our new DM\, Wolfe! Space is limited so please reach out by email Wmacready@rclstn.org to reserve a seat! Sessions will be held on the second and fourth Wednesday of each month.
URL:https://rclstn.org/event/adult-dd-at-smyrna-2/2026-02-25/
LOCATION:TN
CATEGORIES:Adult,Smyrna Public Libary
ATTACH;FMTTYPE=image/png:https://rclstn.org/wp-content/uploads/2025/08/Copy-of-Adult-DD-Sept.-2025.png
END:VEVENT
BEGIN:VEVENT
DTSTART;TZID=America/Chicago:20260226T100000
DTEND;TZID=America/Chicago:20260226T100000
DTSTAMP:20260422T014755
CREATED:20250717T185023Z
LAST-MODIFIED:20260414T182315Z
UID:10016372-1772100000-1772100000@rclstn.org
SUMMARY:Baby Time at Smyrna Public Library
DESCRIPTION:Join us for Baby Time at Smyrna Public Library on Thursdays at 10:00 am. Baby Time is a story time adventure designed for caregivers and babies aged 0-24 months. Snuggle up for a gentle story\, interactive rhymes\, singing and sensory play in a supportive environment that fosters early literacy and bonding. Programs close 10 minutes after start time.
URL:https://rclstn.org/event/baby-time-at-smyrna-public-library-2-2/2026-02-26/
LOCATION:Smyrna Public Library\, 400 Enon Springs Rd W\, Smyrna\, TN\, 37167\, United States
CATEGORIES:Kids and Family,Smyrna Public Libary,Smyrna Youth Services,Story Time
ATTACH;FMTTYPE=image/jpeg:https://rclstn.org/wp-content/uploads/2024/08/smy_baby-time-whale-4.jpg
ORGANIZER;CN="Smyrna Youth Services":MAILTO:smyrnays@rclstn.org
END:VEVENT
BEGIN:VEVENT
DTSTART;TZID=America/Chicago:20260226T181500
DTEND;TZID=America/Chicago:20260226T184500
DTSTAMP:20260422T014755
CREATED:20250827T003523Z
LAST-MODIFIED:20260414T184336Z
UID:10018833-1772129700-1772131500@rclstn.org
SUMMARY:Pajama Story Time at Smyrna Library
DESCRIPTION:Bring your stuffed animal friends and wear your cozy pajamas to this delightful evening story time. We’ll read books\, sing songs and maybe learn something along the way. All ages welcome; geared towards pre-schoolers-1st grade.
URL:https://rclstn.org/event/pajama-story-time-at-smyrna-library-2/2026-02-26/
LOCATION:Smyrna Public Library\, 400 Enon Springs Rd W\, Smyrna\, TN\, 37167\, United States
CATEGORIES:Kids and Family,Smyrna Public Libary,Story Time
ATTACH;FMTTYPE=image/png:https://rclstn.org/wp-content/uploads/2025/08/Copy-of-Pajama-Story-Time-only-2.png
ORGANIZER;CN="Smyrna Youth Services":MAILTO:smyrnays@rclstn.org
END:VEVENT
BEGIN:VEVENT
DTSTART;TZID=America/Chicago:20260227T130000
DTEND;TZID=America/Chicago:20260227T140000
DTSTAMP:20260422T014755
CREATED:20250717T184458Z
LAST-MODIFIED:20260417T174953Z
UID:10016341-1772197200-1772200800@rclstn.org
SUMMARY:Chair Yoga at Smyrna Library
DESCRIPTION:Chair Yoga is an exercise and stretch class designed to be done with the support of a chair. It’s an ideal exercise for those who don’t want to get on the floor or who can benefit from a chair to support their balance. It’s typically practiced by older adults or people recovering from injuries. Try it out for free at Smyrna Public Library!
URL:https://rclstn.org/event/chair-yoga-at-smyrna-library-2/2026-02-27/
LOCATION:Smyrna Public Library\, 400 Enon Springs Rd W\, Smyrna\, TN\, 37167\, United States
CATEGORIES:Adult,Class,Kids and Family,Smyrna Public Libary,Teen,Teen/Adult,Tween/Teen
ATTACH;FMTTYPE=image/png:https://rclstn.org/wp-content/uploads/2025/07/All-Ages-Chair-Yoga-Fridays-1.png
END:VEVENT
BEGIN:VEVENT
DTSTART;TZID=America/Chicago:20260227T140000
DTEND;TZID=America/Chicago:20260227T150000
DTSTAMP:20260422T014755
CREATED:20251230T211910Z
LAST-MODIFIED:20260409T173432Z
UID:10022928-1772200800-1772204400@rclstn.org
SUMMARY:Phone Photography 101 at Smyrna
DESCRIPTION:New Year\, New Skill! Unlock the full potential of your smartphone to capture stunning photographs through expert guidance on camera settings\, composition techniques\, and editing strategies. Become a master photographer and join us at Smyrna Public Library for Phone Photography 101. This is an all-ages event; however\, any child under the age of 13 must have a parent present and some knowledge of smartphones in order to attend.
URL:https://rclstn.org/event/phone-photography-101-at-smyrna/2026-02-27/
LOCATION:Smyrna Public Library\, 400 Enon Springs Rd W\, Smyrna\, TN\, 37167\, United States
CATEGORIES:Adult,Class,Smyrna Public Libary,Teen,Teen/Adult,Tween/Teen
ATTACH;FMTTYPE=image/png:https://rclstn.org/wp-content/uploads/2025/12/SMY_Photography101-1.png
END:VEVENT
BEGIN:VEVENT
DTSTART;TZID=America/Chicago:20260227T170000
DTEND;TZID=America/Chicago:20260227T190000
DTSTAMP:20260422T014755
CREATED:20260121T013923Z
LAST-MODIFIED:20260121T013923Z
UID:10023721-1772211600-1772218800@rclstn.org
SUMMARY:After Hours at Smyrna Library
DESCRIPTION:Join us after hours for classic tabletop games free for all! \nThis meetup will feature the following options: \n\nChess\nCheckers\nSternhalma (Chinese Checkers)\nDice\nDominos\nPlaying cards\n\nThis is an 18 and up event.
URL:https://rclstn.org/event/after-hours-at-smyrna-library/
LOCATION:TN
CATEGORIES:Adult,Smyrna Public Libary,Teen/Adult
ATTACH;FMTTYPE=image/png:https://rclstn.org/wp-content/uploads/2026/01/FEB-After-Hours-at-Smyrna-Library.png
END:VEVENT
BEGIN:VEVENT
DTSTART;TZID=America/Chicago:20260228T090000
DTEND;TZID=America/Chicago:20260228T120000
DTSTAMP:20260422T014755
CREATED:20260115T175320Z
LAST-MODIFIED:20260214T145345Z
UID:10022930-1772269200-1772280000@rclstn.org
SUMMARY:Free Community Closet at Smyrna
DESCRIPTION:Visit Smyrna Public Library on Saturday\, the 28th\, for a Free Community Closet sponsored by Say Cheese\, a non-profit that provides free thrifted clothes to adults in need. This is a great chance to stop in and learn how to help out your community or get yourself some sweet thrifty finds. Clothing options are for adults\, so this is a teen and adult free closet event. Stay tuned for more!
URL:https://rclstn.org/event/free-community-closet-at-smyrna/
LOCATION:Smyrna Public Library\, 400 Enon Springs Rd W\, Smyrna\, TN\, 37167\, United States
CATEGORIES:Adult,Smyrna Public Libary,Teen,Teen/Adult
ATTACH;FMTTYPE=image/png:https://rclstn.org/wp-content/uploads/2026/01/Say-Cheese-1.png
END:VEVENT
BEGIN:VEVENT
DTSTART;TZID=America/Chicago:20260228T140000
DTEND;TZID=America/Chicago:20260228T160000
DTSTAMP:20260422T014755
CREATED:20260113T000253Z
LAST-MODIFIED:20260113T000253Z
UID:10022850-1772287200-1772294400@rclstn.org
SUMMARY:Gilmore Girls Celebration
DESCRIPTION:Get ready for a big fat happy sunshine day at Smyrna Public Library! It’s the 25th anniversary of Gilmore Girls\, so we’re celebrating with a marathon of the show\, coffee (of course)\, as well as bingo and crafts for all ages. So oy\, with the poodles already! Join us on Saturday\, February 28th for a cozy afternoon with the Gilmore Girls. \nThank you to Scooter’s Coffee for their donation.
URL:https://rclstn.org/event/gilmore-girls-celebration/
LOCATION:Smyrna Public Library\, 400 Enon Springs Rd W\, Smyrna\, TN\, 37167\, United States
CATEGORIES:Adult,Kids and Family,Smyrna Public Libary
ATTACH;FMTTYPE=image/png:https://rclstn.org/wp-content/uploads/2026/01/SMY-Gilmore-Girls-Event.png
END:VEVENT
BEGIN:VEVENT
DTSTART;TZID=America/Chicago:20260302T151500
DTEND;TZID=America/Chicago:20260302T154500
DTSTAMP:20260422T014755
CREATED:20260217T211026Z
LAST-MODIFIED:20260414T183342Z
UID:10024537-1772464500-1772466300@rclstn.org
SUMMARY:LEGO Block Party at Smyrna Library
DESCRIPTION:Join us at the Smyrna Public Library for half an hour of Lego free play! \n\nBuild whatever you can imagine\nMeet other Lego enthusiasts\nBolster Creativity\n\nLegos must remain at the library in order for us to save your build between events. This way\, you can continue to work on your masterpiece during future events.
URL:https://rclstn.org/event/lego-block-party-at-smyrna-library-5/2026-03-02/
LOCATION:Smyrna Public Library\, 400 Enon Springs Rd W\, Smyrna\, TN\, 37167\, United States
CATEGORIES:Kids and Family,Smyrna Public Libary,Smyrna Youth Services
ATTACH;FMTTYPE=image/png:https://rclstn.org/wp-content/uploads/2025/10/SMY_LEGOBLOCK-PARTY-4.png
END:VEVENT
BEGIN:VEVENT
DTSTART;TZID=America/Chicago:20260303T151500
DTEND;TZID=America/Chicago:20260303T154500
DTSTAMP:20260422T014755
CREATED:20251027T144858Z
LAST-MODIFIED:20251219T193510Z
UID:10022111-1772550900-1772552700@rclstn.org
SUMMARY:Sight Word Snack Attack at Smyrna Public Library
DESCRIPTION:Join us for a Sight Word Snack Attack at Smyrna Public Library Tuesdays at 3:15 p.m. \nAt Sight Word Snack Attack  children receive a snack and water\, play a round of Sight Word Bingo\, then choose from a variety of fun sight word games to play! Geared toward preschool-3rd grade. Adult participation is highly recommended. \nSight words are common words that kids recognize instantly without sounding them out. Recognizing words by sight helps kids become faster\, more fluent readers.
URL:https://rclstn.org/event/sight-word-snack-attack-bingo-at-smyrna-public-library-2/2026-03-03/
LOCATION:Smyrna Public Library\, 400 Enon Springs Rd W\, Smyrna\, TN\, 37167\, United States
CATEGORIES:Kids and Family,Smyrna Public Libary,Smyrna Youth Services
ATTACH;FMTTYPE=image/png:https://rclstn.org/wp-content/uploads/2024/11/Peachjar_SightWord_SnackAttack-3.png
ORGANIZER;CN="Smyrna Youth Services":MAILTO:smyrnays@rclstn.org
END:VEVENT
END:VCALENDAR