BEGIN:VCALENDAR
VERSION:2.0
PRODID:-//RCLS+ - ECPv6.15.20//NONSGML v1.0//EN
CALSCALE:GREGORIAN
METHOD:PUBLISH
X-ORIGINAL-URL:https://rclstn.org
X-WR-CALDESC:Events for RCLS+
REFRESH-INTERVAL;VALUE=DURATION:PT1H
X-Robots-Tag:noindex
X-PUBLISHED-TTL:PT1H
BEGIN:VTIMEZONE
TZID:America/Chicago
BEGIN:DAYLIGHT
TZOFFSETFROM:-0600
TZOFFSETTO:-0500
TZNAME:CDT
DTSTART:20250309T080000
END:DAYLIGHT
BEGIN:STANDARD
TZOFFSETFROM:-0500
TZOFFSETTO:-0600
TZNAME:CST
DTSTART:20251102T070000
END:STANDARD
BEGIN:DAYLIGHT
TZOFFSETFROM:-0600
TZOFFSETTO:-0500
TZNAME:CDT
DTSTART:20260308T080000
END:DAYLIGHT
BEGIN:STANDARD
TZOFFSETFROM:-0500
TZOFFSETTO:-0600
TZNAME:CST
DTSTART:20261101T070000
END:STANDARD
BEGIN:DAYLIGHT
TZOFFSETFROM:-0600
TZOFFSETTO:-0500
TZNAME:CDT
DTSTART:20270314T080000
END:DAYLIGHT
BEGIN:STANDARD
TZOFFSETFROM:-0500
TZOFFSETTO:-0600
TZNAME:CST
DTSTART:20271107T070000
END:STANDARD
END:VTIMEZONE
BEGIN:VEVENT
DTSTART;TZID=America/Chicago:20260509T100000
DTEND;TZID=America/Chicago:20260509T110000
DTSTAMP:20260422T051603
CREATED:20260420T203157Z
LAST-MODIFIED:20260420T203157Z
UID:10025516-1778320800-1778324400@rclstn.org
SUMMARY:Bookin' It at Smyrna
DESCRIPTION:Pick out an audiobook and visit Smyrna Public Library for a chance to read while enjoying warm weather and the company of other readers! (meet in the library lobby)
URL:https://rclstn.org/event/bookin-it-at-smyrna/
LOCATION:Smyrna Public Library\, 400 Enon Springs Rd W\, Smyrna\, TN\, 37167\, United States
CATEGORIES:Adult,Book Group,Smyrna Public Libary,Teen,Teen/Adult
ATTACH;FMTTYPE=image/png:https://rclstn.org/wp-content/uploads/2026/04/SMY-Bookin-It.png
END:VEVENT
BEGIN:VEVENT
DTSTART;TZID=America/Chicago:20260509T120000
DTEND;TZID=America/Chicago:20260509T133000
DTSTAMP:20260422T051603
CREATED:20260420T203945Z
LAST-MODIFIED:20260420T203945Z
UID:10025517-1778328000-1778333400@rclstn.org
SUMMARY:Novel Nerds at Smyrna
DESCRIPTION:For May\, Novel Nerds will be meeting to discuss The Four Winds by Kristin Hannah. You can find this book in our collection at explore.rclstn.org as a physical copy\, large print and CD book. It is also available as an ebook and audiobook on Libby.
URL:https://rclstn.org/event/novel-nerds-at-smyrna/
LOCATION:Smyrna Public Library\, 400 Enon Springs Rd W\, Smyrna\, TN\, 37167\, United States
CATEGORIES:Adult,Book Group,Smyrna Public Libary
ATTACH;FMTTYPE=image/png:https://rclstn.org/wp-content/uploads/2026/04/May-Events-2026-Amanda-2.png
END:VEVENT
BEGIN:VEVENT
DTSTART;TZID=America/Chicago:20260509T140000
DTEND;TZID=America/Chicago:20260509T150000
DTSTAMP:20260422T051603
CREATED:20240216T192250Z
LAST-MODIFIED:20260409T173554Z
UID:10002708-1778335200-1778338800@rclstn.org
SUMMARY:TAB at Smyrna Public Library
DESCRIPTION:Teen Advisory Board\, or T.A.B. for short\, is open to anyone ages 13-18 who is interested in creating the change they would like to see in their library and their community. T.A.B. meets one time each month on the second Saturday at 2:00 p.m. to share ideas and information regarding the teen space\, collection\, programming\, and vision for the future.
URL:https://rclstn.org/event/t-a-b-at-smyrna-library/2026-05-09/
LOCATION:Smyrna Public Library\, 400 Enon Springs Rd W\, Smyrna\, TN\, 37167\, United States
CATEGORIES:Smyrna Public Libary,Smyrna Youth Services,Teen
ATTACH;FMTTYPE=image/jpeg:https://rclstn.org/wp-content/uploads/2024/02/TAB-6.jpg
ORGANIZER;CN="Smyrna Youth Services":MAILTO:smyrnays@rclstn.org
END:VEVENT
END:VCALENDAR