BEGIN:VCALENDAR
VERSION:2.0
PRODID:-//RCLS+ - ECPv6.15.20//NONSGML v1.0//EN
CALSCALE:GREGORIAN
METHOD:PUBLISH
X-WR-CALNAME:RCLS+
X-ORIGINAL-URL:https://rclstn.org
X-WR-CALDESC:Events for RCLS+
REFRESH-INTERVAL;VALUE=DURATION:PT1H
X-Robots-Tag:noindex
X-PUBLISHED-TTL:PT1H
BEGIN:VTIMEZONE
TZID:America/Chicago
BEGIN:DAYLIGHT
TZOFFSETFROM:-0600
TZOFFSETTO:-0500
TZNAME:CDT
DTSTART:20250309T080000
END:DAYLIGHT
BEGIN:STANDARD
TZOFFSETFROM:-0500
TZOFFSETTO:-0600
TZNAME:CST
DTSTART:20251102T070000
END:STANDARD
BEGIN:DAYLIGHT
TZOFFSETFROM:-0600
TZOFFSETTO:-0500
TZNAME:CDT
DTSTART:20260308T080000
END:DAYLIGHT
BEGIN:STANDARD
TZOFFSETFROM:-0500
TZOFFSETTO:-0600
TZNAME:CST
DTSTART:20261101T070000
END:STANDARD
BEGIN:DAYLIGHT
TZOFFSETFROM:-0600
TZOFFSETTO:-0500
TZNAME:CDT
DTSTART:20270314T080000
END:DAYLIGHT
BEGIN:STANDARD
TZOFFSETFROM:-0500
TZOFFSETTO:-0600
TZNAME:CST
DTSTART:20271107T070000
END:STANDARD
END:VTIMEZONE
BEGIN:VEVENT
DTSTART;VALUE=DATE:20260502
DTEND;VALUE=DATE:20260503
DTSTAMP:20260422T065240
CREATED:20260416T010304Z
LAST-MODIFIED:20260416T010304Z
UID:10025470-1777680000-1777766399@rclstn.org
SUMMARY:Free Comic Book Day at Smyrna
DESCRIPTION:Join us for an exciting day of free comic book fun! From 9 AM to 11 AM\, we’ll have trivia\, games\, and activities in the Conference Room. Cosplayers will be available for a Meet-and-Greet at 10 AM. In the afternoon\, don’t miss our special Movie Matinee featuring the latest Superman film. Throughout the day\, we’ll also be giving away free comics for all ages\, while supplies last!
URL:https://rclstn.org/event/free-comic-book-day-at-smyrna/
LOCATION:Smyrna Public Library\, 400 Enon Springs Rd W\, Smyrna\, TN\, 37167\, United States
CATEGORIES:Adult,Family,Kids and Family,Movie,Smyrna Public Libary,Teen,Teen/Adult,Tween/Teen
ATTACH;FMTTYPE=image/png:https://rclstn.org/wp-content/uploads/2026/04/SMY-FCBD-2026.png
END:VEVENT
BEGIN:VEVENT
DTSTART;TZID=America/Chicago:20260502T140000
DTEND;TZID=America/Chicago:20260502T160000
DTSTAMP:20260422T065240
CREATED:20260410T140141Z
LAST-MODIFIED:20260410T140141Z
UID:10025439-1777730400-1777737600@rclstn.org
SUMMARY:Free Comic Book Day Movie Matinee at Smyrna
DESCRIPTION:Come join us at the Smyrna Library for a special Free Comic Book Day showing of Superman (2025)! \nSuperman must reconcile his alien Kryptonian heritage with his human upbringing as reporter Clark Kent. As the embodiment of truth\, justice and the American way\, he soon finds himself in a world that views these as old-fashioned. \nBring your favorite movie snacks! \nThis film is rated PG-13 for violence\, action and language.
URL:https://rclstn.org/event/free-comic-book-day-movie-matinee-at-smyrna-2/
LOCATION:Smyrna Public Library\, 400 Enon Springs Rd W\, Smyrna\, TN\, 37167\, United States
CATEGORIES:Adult,Kids and Family,Movie,Smyrna Public Libary,Teen,Teen/Adult,Tween/Teen
ATTACH;FMTTYPE=image/png:https://rclstn.org/wp-content/uploads/2026/04/SUPERMAN_2025_poster-plain.png
END:VEVENT
END:VCALENDAR