BEGIN:VCALENDAR
VERSION:2.0
PRODID:-//RCLS+ - ECPv6.15.20//NONSGML v1.0//EN
CALSCALE:GREGORIAN
METHOD:PUBLISH
X-WR-CALNAME:RCLS+
X-ORIGINAL-URL:https://rclstn.org
X-WR-CALDESC:Events for RCLS+
REFRESH-INTERVAL;VALUE=DURATION:PT1H
X-Robots-Tag:noindex
X-PUBLISHED-TTL:PT1H
BEGIN:VTIMEZONE
TZID:America/Chicago
BEGIN:DAYLIGHT
TZOFFSETFROM:-0600
TZOFFSETTO:-0500
TZNAME:CDT
DTSTART:20250309T080000
END:DAYLIGHT
BEGIN:STANDARD
TZOFFSETFROM:-0500
TZOFFSETTO:-0600
TZNAME:CST
DTSTART:20251102T070000
END:STANDARD
BEGIN:DAYLIGHT
TZOFFSETFROM:-0600
TZOFFSETTO:-0500
TZNAME:CDT
DTSTART:20260308T080000
END:DAYLIGHT
BEGIN:STANDARD
TZOFFSETFROM:-0500
TZOFFSETTO:-0600
TZNAME:CST
DTSTART:20261101T070000
END:STANDARD
BEGIN:DAYLIGHT
TZOFFSETFROM:-0600
TZOFFSETTO:-0500
TZNAME:CDT
DTSTART:20270314T080000
END:DAYLIGHT
BEGIN:STANDARD
TZOFFSETFROM:-0500
TZOFFSETTO:-0600
TZNAME:CST
DTSTART:20271107T070000
END:STANDARD
END:VTIMEZONE
BEGIN:VEVENT
DTSTART;TZID=America/Chicago:20260317T140000
DTEND;TZID=America/Chicago:20260317T150000
DTSTAMP:20260422T065239
CREATED:20260219T212152Z
LAST-MODIFIED:20260226T175119Z
UID:10024756-1773756000-1773759600@rclstn.org
SUMMARY:Scam Awareness for Seniors at Smyrna Public Library
DESCRIPTION:This free class at the public library helps senior citizens recognize common scams\, protect their personal information\, and confidently navigate phone calls\, emails\, and online offers that may be fraudulent. Participants will learn practical safety tips\, hear real-world examples\, and gain confidence to explore the internet without fear.
URL:https://rclstn.org/event/scam-awareness-for-seniors-at-linebaugh-public-library-3/
LOCATION:Smyrna Public Library\, 400 Enon Springs Rd W\, Smyrna\, TN\, 37167\, United States
CATEGORIES:Computer/Tech Classes,Smyrna Public Libary
ATTACH;FMTTYPE=image/png:https://rclstn.org/wp-content/uploads/2026/02/12.png
ORGANIZER;CN="Trey":MAILTO:tgwinn@rclstn.org
END:VEVENT
BEGIN:VEVENT
DTSTART;TZID=America/Chicago:20260317T151500
DTEND;TZID=America/Chicago:20260317T154500
DTSTAMP:20260422T065239
CREATED:20251027T144858Z
LAST-MODIFIED:20251219T193510Z
UID:10022113-1773760500-1773762300@rclstn.org
SUMMARY:Sight Word Snack Attack at Smyrna Public Library
DESCRIPTION:Join us for a Sight Word Snack Attack at Smyrna Public Library Tuesdays at 3:15 p.m. \nAt Sight Word Snack Attack  children receive a snack and water\, play a round of Sight Word Bingo\, then choose from a variety of fun sight word games to play! Geared toward preschool-3rd grade. Adult participation is highly recommended. \nSight words are common words that kids recognize instantly without sounding them out. Recognizing words by sight helps kids become faster\, more fluent readers.
URL:https://rclstn.org/event/sight-word-snack-attack-bingo-at-smyrna-public-library-2/2026-03-17/
LOCATION:Smyrna Public Library\, 400 Enon Springs Rd W\, Smyrna\, TN\, 37167\, United States
CATEGORIES:Kids and Family,Smyrna Public Libary,Smyrna Youth Services
ATTACH;FMTTYPE=image/png:https://rclstn.org/wp-content/uploads/2024/11/Peachjar_SightWord_SnackAttack-3.png
ORGANIZER;CN="Smyrna Youth Services":MAILTO:smyrnays@rclstn.org
END:VEVENT
END:VCALENDAR