BEGIN:VCALENDAR
VERSION:2.0
PRODID:-//RCLS+ - ECPv6.15.20//NONSGML v1.0//EN
CALSCALE:GREGORIAN
METHOD:PUBLISH
X-ORIGINAL-URL:https://rclstn.org
X-WR-CALDESC:Events for RCLS+
REFRESH-INTERVAL;VALUE=DURATION:PT1H
X-Robots-Tag:noindex
X-PUBLISHED-TTL:PT1H
BEGIN:VTIMEZONE
TZID:America/Chicago
BEGIN:DAYLIGHT
TZOFFSETFROM:-0600
TZOFFSETTO:-0500
TZNAME:CDT
DTSTART:20250309T080000
END:DAYLIGHT
BEGIN:STANDARD
TZOFFSETFROM:-0500
TZOFFSETTO:-0600
TZNAME:CST
DTSTART:20251102T070000
END:STANDARD
BEGIN:DAYLIGHT
TZOFFSETFROM:-0600
TZOFFSETTO:-0500
TZNAME:CDT
DTSTART:20260308T080000
END:DAYLIGHT
BEGIN:STANDARD
TZOFFSETFROM:-0500
TZOFFSETTO:-0600
TZNAME:CST
DTSTART:20261101T070000
END:STANDARD
BEGIN:DAYLIGHT
TZOFFSETFROM:-0600
TZOFFSETTO:-0500
TZNAME:CDT
DTSTART:20270314T080000
END:DAYLIGHT
BEGIN:STANDARD
TZOFFSETFROM:-0500
TZOFFSETTO:-0600
TZNAME:CST
DTSTART:20271107T070000
END:STANDARD
END:VTIMEZONE
BEGIN:VEVENT
DTSTART;TZID=America/Chicago:20260304T100000
DTEND;TZID=America/Chicago:20260304T110000
DTSTAMP:20260421T201106
CREATED:20251124T213101Z
LAST-MODIFIED:20260414T181658Z
UID:10018680-1772618400-1772622000@rclstn.org
SUMMARY:All Ages Story Time at Smyrna Library
DESCRIPTION:Join us at Smyrna Public Library for All Ages Story Time where we will read stories\, sing songs\, and play fun games to enhance early literacy.   *Programs close 10 minutes after start time.
URL:https://rclstn.org/event/all-ages-story-time-at-smyrna-library-2-2/2026-03-04/
LOCATION:Smyrna Public Library\, 400 Enon Springs Rd W\, Smyrna\, TN\, 37167\, United States
CATEGORIES:Kids and Family,Smyrna Public Libary,Smyrna Youth Services,Story Time
ATTACH;FMTTYPE=image/png:https://rclstn.org/wp-content/uploads/2024/10/family-story-time-11-×-8.5-in.png
ORGANIZER;CN="Smyrna Youth Services":MAILTO:smyrnays@rclstn.org
END:VEVENT
BEGIN:VEVENT
DTSTART;TZID=America/Chicago:20260304T153000
DTEND;TZID=America/Chicago:20260304T170000
DTSTAMP:20260421T201106
CREATED:20260107T212737Z
LAST-MODIFIED:20260319T184601Z
UID:10022684-1772638200-1772643600@rclstn.org
SUMMARY:Preteen D&D at Smyrna (Full)
DESCRIPTION:Join us for our Preteen Dungeons and Dragons Pirate Campaign. \nHelp build confidence\, critical thinking\, problem solving\, teamwork\, and conflict resolution skills. \nRegister on our website to join our waitlist!
URL:https://rclstn.org/event/preteen-dd-full-2/2026-03-04/
LOCATION:TN
CATEGORIES:Smyrna Public Libary,Smyrna Youth Services
ATTACH;FMTTYPE=image/png:https://rclstn.org/wp-content/uploads/2026/01/smy-Pre-Teen-DD-2026-1-1.png
END:VEVENT
END:VCALENDAR