BEGIN:VCALENDAR
VERSION:2.0
PRODID:-//RCLS+ - ECPv6.15.20//NONSGML v1.0//EN
CALSCALE:GREGORIAN
METHOD:PUBLISH
X-ORIGINAL-URL:https://rclstn.org
X-WR-CALDESC:Events for RCLS+
REFRESH-INTERVAL;VALUE=DURATION:PT1H
X-Robots-Tag:noindex
X-PUBLISHED-TTL:PT1H
BEGIN:VTIMEZONE
TZID:America/Chicago
BEGIN:DAYLIGHT
TZOFFSETFROM:-0600
TZOFFSETTO:-0500
TZNAME:CDT
DTSTART:20240310T080000
END:DAYLIGHT
BEGIN:STANDARD
TZOFFSETFROM:-0500
TZOFFSETTO:-0600
TZNAME:CST
DTSTART:20241103T070000
END:STANDARD
BEGIN:DAYLIGHT
TZOFFSETFROM:-0600
TZOFFSETTO:-0500
TZNAME:CDT
DTSTART:20250309T080000
END:DAYLIGHT
BEGIN:STANDARD
TZOFFSETFROM:-0500
TZOFFSETTO:-0600
TZNAME:CST
DTSTART:20251102T070000
END:STANDARD
BEGIN:DAYLIGHT
TZOFFSETFROM:-0600
TZOFFSETTO:-0500
TZNAME:CDT
DTSTART:20260308T080000
END:DAYLIGHT
BEGIN:STANDARD
TZOFFSETFROM:-0500
TZOFFSETTO:-0600
TZNAME:CST
DTSTART:20261101T070000
END:STANDARD
END:VTIMEZONE
BEGIN:VEVENT
DTSTART;TZID=America/Chicago:20251218T170000
DTEND;TZID=America/Chicago:20251218T190000
DTSTAMP:20260422T140254
CREATED:20251126T011005Z
LAST-MODIFIED:20251126T011005Z
UID:10019412-1766077200-1766084400@rclstn.org
SUMMARY:Writing Workshop @ Smyrna Library
DESCRIPTION:Join us for our monthly adult writing workshop where we will do some introductory writing exercises\, focus on a specific writing topic\, and spend some time workshopping pieces if anyone has anything they’d like to share! December’s special topic will be: Writing Better Dialog. \nAges 16 and up\, December 18th starting at 5pm” \nPlan to bring : \n\na notebook\na writing utensil\nall of your imagination and creativity!\n\nIf you have any questions about this event\, please email wmacready@rclstn.org
URL:https://rclstn.org/event/written-mosaic-writing-workshop-2/
LOCATION:Smyrna Public Library\, 400 Enon Springs Rd W\, Smyrna\, TN\, 37167\, United States
CATEGORIES:Adult,Class,Club,Smyrna Public Libary,Teen,Teen/Adult,Writing Group
END:VEVENT
END:VCALENDAR