BEGIN:VCALENDAR
VERSION:2.0
PRODID:-//RCLS+ - ECPv6.15.20//NONSGML v1.0//EN
CALSCALE:GREGORIAN
METHOD:PUBLISH
X-ORIGINAL-URL:https://rclstn.org
X-WR-CALDESC:Events for RCLS+
REFRESH-INTERVAL;VALUE=DURATION:PT1H
X-Robots-Tag:noindex
X-PUBLISHED-TTL:PT1H
BEGIN:VTIMEZONE
TZID:America/Chicago
BEGIN:DAYLIGHT
TZOFFSETFROM:-0600
TZOFFSETTO:-0500
TZNAME:CDT
DTSTART:20240310T080000
END:DAYLIGHT
BEGIN:STANDARD
TZOFFSETFROM:-0500
TZOFFSETTO:-0600
TZNAME:CST
DTSTART:20241103T070000
END:STANDARD
BEGIN:DAYLIGHT
TZOFFSETFROM:-0600
TZOFFSETTO:-0500
TZNAME:CDT
DTSTART:20250309T080000
END:DAYLIGHT
BEGIN:STANDARD
TZOFFSETFROM:-0500
TZOFFSETTO:-0600
TZNAME:CST
DTSTART:20251102T070000
END:STANDARD
BEGIN:DAYLIGHT
TZOFFSETFROM:-0600
TZOFFSETTO:-0500
TZNAME:CDT
DTSTART:20260308T080000
END:DAYLIGHT
BEGIN:STANDARD
TZOFFSETFROM:-0500
TZOFFSETTO:-0600
TZNAME:CST
DTSTART:20261101T070000
END:STANDARD
END:VTIMEZONE
BEGIN:VEVENT
DTSTART;TZID=America/Chicago:20251121T130000
DTEND;TZID=America/Chicago:20251121T140000
DTSTAMP:20260422T212254
CREATED:20250717T184458Z
LAST-MODIFIED:20260417T174953Z
UID:10016327-1763730000-1763733600@rclstn.org
SUMMARY:Chair Yoga at Smyrna Library
DESCRIPTION:Chair Yoga is an exercise and stretch class designed to be done with the support of a chair. It’s an ideal exercise for those who don’t want to get on the floor or who can benefit from a chair to support their balance. It’s typically practiced by older adults or people recovering from injuries. Try it out for free at Smyrna Public Library!
URL:https://rclstn.org/event/chair-yoga-at-smyrna-library-2/2025-11-21/
LOCATION:Smyrna Public Library\, 400 Enon Springs Rd W\, Smyrna\, TN\, 37167\, United States
CATEGORIES:Adult,Class,Kids and Family,Smyrna Public Libary,Teen,Teen/Adult,Tween/Teen
ATTACH;FMTTYPE=image/png:https://rclstn.org/wp-content/uploads/2025/07/All-Ages-Chair-Yoga-Fridays-1.png
END:VEVENT
BEGIN:VEVENT
DTSTART;TZID=America/Chicago:20251121T153000
DTEND;TZID=America/Chicago:20251121T160000
DTSTAMP:20260422T212254
CREATED:20251027T144458Z
LAST-MODIFIED:20260115T215338Z
UID:10019903-1763739000-1763740800@rclstn.org
SUMMARY:Kids Yoga at Smyrna Public Library
DESCRIPTION:Kids yoga sessions allow kids the chance to move\, breathe and imagine! Come out after school and start the weekend well. We’ll feature classic yoga poses and flows\, songs\, and stories. Bring your own mat if you have one\, or borrow one of ours. \n***programs close 10 minutes after the start time***
URL:https://rclstn.org/event/kids-yoga-at-smyrna-public-library-2/
LOCATION:TN
CATEGORIES:Kids and Family,Smyrna Public Libary,Smyrna Youth Services,Story Time
ATTACH;FMTTYPE=image/png:https://rclstn.org/wp-content/uploads/2025/10/KIDS-YOGA.png
END:VEVENT
END:VCALENDAR