BEGIN:VCALENDAR
VERSION:2.0
PRODID:-//RCLS+ - ECPv6.15.20//NONSGML v1.0//EN
CALSCALE:GREGORIAN
METHOD:PUBLISH
X-ORIGINAL-URL:https://rclstn.org
X-WR-CALDESC:Events for RCLS+
REFRESH-INTERVAL;VALUE=DURATION:PT1H
X-Robots-Tag:noindex
X-PUBLISHED-TTL:PT1H
BEGIN:VTIMEZONE
TZID:America/Chicago
BEGIN:DAYLIGHT
TZOFFSETFROM:-0600
TZOFFSETTO:-0500
TZNAME:CDT
DTSTART:20240310T080000
END:DAYLIGHT
BEGIN:STANDARD
TZOFFSETFROM:-0500
TZOFFSETTO:-0600
TZNAME:CST
DTSTART:20241103T070000
END:STANDARD
BEGIN:DAYLIGHT
TZOFFSETFROM:-0600
TZOFFSETTO:-0500
TZNAME:CDT
DTSTART:20250309T080000
END:DAYLIGHT
BEGIN:STANDARD
TZOFFSETFROM:-0500
TZOFFSETTO:-0600
TZNAME:CST
DTSTART:20251102T070000
END:STANDARD
BEGIN:DAYLIGHT
TZOFFSETFROM:-0600
TZOFFSETTO:-0500
TZNAME:CDT
DTSTART:20260308T080000
END:DAYLIGHT
BEGIN:STANDARD
TZOFFSETFROM:-0500
TZOFFSETTO:-0600
TZNAME:CST
DTSTART:20261101T070000
END:STANDARD
END:VTIMEZONE
BEGIN:VEVENT
DTSTART;TZID=America/Chicago:20251120T100000
DTEND;TZID=America/Chicago:20251120T100000
DTSTAMP:20260422T165849
CREATED:20250717T185023Z
LAST-MODIFIED:20260414T182315Z
UID:10016358-1763632800-1763632800@rclstn.org
SUMMARY:Baby Time at Smyrna Public Library
DESCRIPTION:Join us for Baby Time at Smyrna Public Library on Thursdays at 10:00 am. Baby Time is a story time adventure designed for caregivers and babies aged 0-24 months. Snuggle up for a gentle story\, interactive rhymes\, singing and sensory play in a supportive environment that fosters early literacy and bonding. Programs close 10 minutes after start time.
URL:https://rclstn.org/event/baby-time-at-smyrna-public-library-2-2/2025-11-20/
LOCATION:Smyrna Public Library\, 400 Enon Springs Rd W\, Smyrna\, TN\, 37167\, United States
CATEGORIES:Kids and Family,Smyrna Public Libary,Smyrna Youth Services,Story Time
ATTACH;FMTTYPE=image/jpeg:https://rclstn.org/wp-content/uploads/2024/08/smy_baby-time-whale-4.jpg
ORGANIZER;CN="Smyrna Youth Services":MAILTO:smyrnays@rclstn.org
END:VEVENT
BEGIN:VEVENT
DTSTART;TZID=America/Chicago:20251120T150000
DTEND;TZID=America/Chicago:20251120T163000
DTSTAMP:20260422T165850
CREATED:20250828T223204Z
LAST-MODIFIED:20260129T222845Z
UID:10018734-1763650800-1763656200@rclstn.org
SUMMARY:Tales to Tails at Smyrna Library--Caroline
DESCRIPTION:Join us for Tales to Tails a heartwarming library program at Smyrna Public Library designed to combine the joy of reading with the therapeutic benefits of spending time with dogs. In this paw-some program\, participants are invited to come to the library to read aloud to our friendly therapy dogs in a relaxed and supportive environment.  Ten minute slots are available on Thursdays starting at 3:00 p.m. Call 615-459-4884 or email smyrnays@rclstn.org to reserve your spot.
URL:https://rclstn.org/event/tales-to-tails-at-smyrna-library-caroline/2025-11-20/
LOCATION:Smyrna Public Library\, 400 Enon Springs Rd W\, Smyrna\, TN\, 37167\, United States
CATEGORIES:Kids and Family,Smyrna Public Libary,Smyrna Youth Services,Tween/Teen
ATTACH;FMTTYPE=image/png:https://rclstn.org/wp-content/uploads/2025/03/Tales-to-Tails-11-×-8.5-in.png
ORGANIZER;CN="Smyrna Youth Services":MAILTO:smyrnays@rclstn.org
END:VEVENT
BEGIN:VEVENT
DTSTART;TZID=America/Chicago:20251120T160000
DTEND;TZID=America/Chicago:20251120T180000
DTSTAMP:20260422T165850
CREATED:20250904T205004Z
LAST-MODIFIED:20250911T235420Z
UID:10019411-1763654400-1763661600@rclstn.org
SUMMARY:Written Mosaic Writing Workshop @ Smyrna Library
DESCRIPTION:Join Smyrna Public Library for a writing workshop open to ages 16 and up! September is our first session. \nWe all have sparks of creativity in us. Shards of ideas. Pieces of potential.  \nWritten mosaic brings together creatives and their bits and pieces to form a beautiful written mosaic in a workshop environment. \nPlan to bring : \n\na notebook\na writing utensil\nall of your imagination and creativity!\n\nIf you have any questions about this event\, please email wmacready@rclstn.org
URL:https://rclstn.org/event/written-mosaic-writing-workshop/2025-11-20/
LOCATION:Smyrna Public Library\, 400 Enon Springs Rd W\, Smyrna\, TN\, 37167\, United States
CATEGORIES:Adult,Arts and Crafts,Class,Club,Smyrna Public Libary,Teen,Teen/Adult,Writing Group
ATTACH;FMTTYPE=image/png:https://rclstn.org/wp-content/uploads/2025/09/Written-Mosaic-take-2.png
END:VEVENT
BEGIN:VEVENT
DTSTART;TZID=America/Chicago:20251120T181500
DTEND;TZID=America/Chicago:20251120T184500
DTSTAMP:20260422T165850
CREATED:20250827T003523Z
LAST-MODIFIED:20260414T184336Z
UID:10018819-1763662500-1763664300@rclstn.org
SUMMARY:Pajama Story Time at Smyrna Library
DESCRIPTION:Bring your stuffed animal friends and wear your cozy pajamas to this delightful evening story time. We’ll read books\, sing songs and maybe learn something along the way. All ages welcome; geared towards pre-schoolers-1st grade.
URL:https://rclstn.org/event/pajama-story-time-at-smyrna-library-2/2025-11-20/
LOCATION:Smyrna Public Library\, 400 Enon Springs Rd W\, Smyrna\, TN\, 37167\, United States
CATEGORIES:Kids and Family,Smyrna Public Libary,Story Time
ATTACH;FMTTYPE=image/png:https://rclstn.org/wp-content/uploads/2025/08/Copy-of-Pajama-Story-Time-only-2.png
ORGANIZER;CN="Smyrna Youth Services":MAILTO:smyrnays@rclstn.org
END:VEVENT
END:VCALENDAR