BEGIN:VCALENDAR
VERSION:2.0
PRODID:-//RCLS+ - ECPv6.15.20//NONSGML v1.0//EN
CALSCALE:GREGORIAN
METHOD:PUBLISH
X-ORIGINAL-URL:https://rclstn.org
X-WR-CALDESC:Events for RCLS+
REFRESH-INTERVAL;VALUE=DURATION:PT1H
X-Robots-Tag:noindex
X-PUBLISHED-TTL:PT1H
BEGIN:VTIMEZONE
TZID:America/Chicago
BEGIN:DAYLIGHT
TZOFFSETFROM:-0600
TZOFFSETTO:-0500
TZNAME:CDT
DTSTART:20240310T080000
END:DAYLIGHT
BEGIN:STANDARD
TZOFFSETFROM:-0500
TZOFFSETTO:-0600
TZNAME:CST
DTSTART:20241103T070000
END:STANDARD
BEGIN:DAYLIGHT
TZOFFSETFROM:-0600
TZOFFSETTO:-0500
TZNAME:CDT
DTSTART:20250309T080000
END:DAYLIGHT
BEGIN:STANDARD
TZOFFSETFROM:-0500
TZOFFSETTO:-0600
TZNAME:CST
DTSTART:20251102T070000
END:STANDARD
BEGIN:DAYLIGHT
TZOFFSETFROM:-0600
TZOFFSETTO:-0500
TZNAME:CDT
DTSTART:20260308T080000
END:DAYLIGHT
BEGIN:STANDARD
TZOFFSETFROM:-0500
TZOFFSETTO:-0600
TZNAME:CST
DTSTART:20261101T070000
END:STANDARD
END:VTIMEZONE
BEGIN:VEVENT
DTSTART;TZID=America/Chicago:20251025T103000
DTEND;TZID=America/Chicago:20251025T130000
DTSTAMP:20260423T024242
CREATED:20250910T214741Z
LAST-MODIFIED:20250910T224113Z
UID:10019407-1761388200-1761397200@rclstn.org
SUMMARY:2025 Local Author Fair at Smyrna
DESCRIPTION:Save the date! This year’s Local Author Fair\, sponsored by the Friends of Smyrna Library\, will be held on Saturday\, October 25\, 2025\, from 10 AM to 1 PM at Smyrna Public Library. With 18 local authors highlighting their work\, swing by the library and pick up a new book! This is an all-ages event free and open to the public. Have questions? Please email friendsofsmyrnalibrary1987@gmail.com.
URL:https://rclstn.org/event/2025-local-author-fair-at-smyrna/
LOCATION:Smyrna Public Library\, 400 Enon Springs Rd W\, Smyrna\, TN\, 37167\, United States
CATEGORIES:Smyrna Public Libary
ATTACH;FMTTYPE=image/jpeg:https://rclstn.org/wp-content/uploads/2025/09/539815731_1162798259214242_4550290485025137944_n-1.jpg
END:VEVENT
END:VCALENDAR