BEGIN:VCALENDAR
VERSION:2.0
PRODID:-//RCLS+ - ECPv6.15.20//NONSGML v1.0//EN
CALSCALE:GREGORIAN
METHOD:PUBLISH
X-WR-CALNAME:RCLS+
X-ORIGINAL-URL:https://rclstn.org
X-WR-CALDESC:Events for RCLS+
REFRESH-INTERVAL;VALUE=DURATION:PT1H
X-Robots-Tag:noindex
X-PUBLISHED-TTL:PT1H
BEGIN:VTIMEZONE
TZID:America/Chicago
BEGIN:DAYLIGHT
TZOFFSETFROM:-0600
TZOFFSETTO:-0500
TZNAME:CDT
DTSTART:20240310T080000
END:DAYLIGHT
BEGIN:STANDARD
TZOFFSETFROM:-0500
TZOFFSETTO:-0600
TZNAME:CST
DTSTART:20241103T070000
END:STANDARD
BEGIN:DAYLIGHT
TZOFFSETFROM:-0600
TZOFFSETTO:-0500
TZNAME:CDT
DTSTART:20250309T080000
END:DAYLIGHT
BEGIN:STANDARD
TZOFFSETFROM:-0500
TZOFFSETTO:-0600
TZNAME:CST
DTSTART:20251102T070000
END:STANDARD
BEGIN:DAYLIGHT
TZOFFSETFROM:-0600
TZOFFSETTO:-0500
TZNAME:CDT
DTSTART:20260308T080000
END:DAYLIGHT
BEGIN:STANDARD
TZOFFSETFROM:-0500
TZOFFSETTO:-0600
TZNAME:CST
DTSTART:20261101T070000
END:STANDARD
END:VTIMEZONE
BEGIN:VEVENT
DTSTART;TZID=America/Chicago:20251024T100000
DTEND;TZID=America/Chicago:20251024T230000
DTSTAMP:20260425T222818
CREATED:20250904T194416Z
LAST-MODIFIED:20251027T160633Z
UID:10019203-1761300000-1761346800@rclstn.org
SUMMARY:Sensory Storytime @ Smyrna Public Library
DESCRIPTION:Join us for our Sensory Story Time! \nA Multisensory and Inclusive Learning Experience. \nSponsored by Key Autism Services.
URL:https://rclstn.org/event/sensory-storytime/2025-10-24/
LOCATION:TN
CATEGORIES:Smyrna Public Libary,Smyrna Youth Services,Story Time
ATTACH;FMTTYPE=application/pdf:https://rclstn.org/wp-content/uploads/2025/09/Sensory-Story-Time.pdf
END:VEVENT
BEGIN:VEVENT
DTSTART;TZID=America/Chicago:20251024T130000
DTEND;TZID=America/Chicago:20251024T140000
DTSTAMP:20260425T222818
CREATED:20250717T184458Z
LAST-MODIFIED:20260417T174953Z
UID:10016323-1761310800-1761314400@rclstn.org
SUMMARY:Chair Yoga at Smyrna Library
DESCRIPTION:Chair Yoga is an exercise and stretch class designed to be done with the support of a chair. It’s an ideal exercise for those who don’t want to get on the floor or who can benefit from a chair to support their balance. It’s typically practiced by older adults or people recovering from injuries. Try it out for free at Smyrna Public Library!
URL:https://rclstn.org/event/chair-yoga-at-smyrna-library-2/2025-10-24/
LOCATION:Smyrna Public Library\, 400 Enon Springs Rd W\, Smyrna\, TN\, 37167\, United States
CATEGORIES:Adult,Class,Kids and Family,Smyrna Public Libary,Teen,Teen/Adult,Tween/Teen
ATTACH;FMTTYPE=image/png:https://rclstn.org/wp-content/uploads/2025/07/All-Ages-Chair-Yoga-Fridays-1.png
END:VEVENT
BEGIN:VEVENT
DTSTART;TZID=America/Chicago:20251024T153000
DTEND;TZID=America/Chicago:20251024T170000
DTSTAMP:20260425T222818
CREATED:20250910T213012Z
LAST-MODIFIED:20250911T230705Z
UID:10019406-1761319800-1761325200@rclstn.org
SUMMARY:Cryptid Club: Squonk Expert at Smyrna Library
DESCRIPTION:Join us on October 25th for a presentation and storytime from local Squonk expert\, Lisa Russell. Squonk is a very famous cryptid in Pennsylvania\, but is making itself known down south and throughout Appalachia. This will be a fun event for all ages with a Squonk craft! Children under the age of 13 must have a parent or legal guardian accompany them. No registration required. This event is free and open to the public.  \n 
URL:https://rclstn.org/event/cryptid-club-squonk-expert-2/
LOCATION:Smyrna Public Library\, 400 Enon Springs Rd W\, Smyrna\, TN\, 37167\, United States
CATEGORIES:Adult,Arts and Crafts,Club,Smyrna Public Libary,Teen,Teen/Adult,Tween/Teen
ATTACH;FMTTYPE=image/png:https://rclstn.org/wp-content/uploads/2025/09/October-Squonk.png
END:VEVENT
BEGIN:VEVENT
DTSTART;TZID=America/Chicago:20251024T170000
DTEND;TZID=America/Chicago:20251024T190000
DTSTAMP:20260425T222818
CREATED:20250911T235433Z
LAST-MODIFIED:20250915T195107Z
UID:10019469-1761325200-1761332400@rclstn.org
SUMMARY:Spooky After Hours Adult Game Night @ Smyrna Library
DESCRIPTION:Join us for a game of werewolf and spooky refreshments. Ages 18 and up @ SMYRNA PUBLIC LIBRARY
URL:https://rclstn.org/event/spooky-after-hours-adult-game-night-smyrna-library/
LOCATION:Smyrna Public Library\, 400 Enon Springs Rd W\, Smyrna\, TN\, 37167\, United States
CATEGORIES:Adult,Smyrna Public Libary
ATTACH;FMTTYPE=image/png:https://rclstn.org/wp-content/uploads/2025/09/AFTER-HOURS-GAME-NIGHT.png
END:VEVENT
END:VCALENDAR