BEGIN:VCALENDAR
VERSION:2.0
PRODID:-//RCLS+ - ECPv6.15.20//NONSGML v1.0//EN
CALSCALE:GREGORIAN
METHOD:PUBLISH
X-ORIGINAL-URL:https://rclstn.org
X-WR-CALDESC:Events for RCLS+
REFRESH-INTERVAL;VALUE=DURATION:PT1H
X-Robots-Tag:noindex
X-PUBLISHED-TTL:PT1H
BEGIN:VTIMEZONE
TZID:America/Chicago
BEGIN:DAYLIGHT
TZOFFSETFROM:-0600
TZOFFSETTO:-0500
TZNAME:CDT
DTSTART:20240310T080000
END:DAYLIGHT
BEGIN:STANDARD
TZOFFSETFROM:-0500
TZOFFSETTO:-0600
TZNAME:CST
DTSTART:20241103T070000
END:STANDARD
BEGIN:DAYLIGHT
TZOFFSETFROM:-0600
TZOFFSETTO:-0500
TZNAME:CDT
DTSTART:20250309T080000
END:DAYLIGHT
BEGIN:STANDARD
TZOFFSETFROM:-0500
TZOFFSETTO:-0600
TZNAME:CST
DTSTART:20251102T070000
END:STANDARD
BEGIN:DAYLIGHT
TZOFFSETFROM:-0600
TZOFFSETTO:-0500
TZNAME:CDT
DTSTART:20260308T080000
END:DAYLIGHT
BEGIN:STANDARD
TZOFFSETFROM:-0500
TZOFFSETTO:-0600
TZNAME:CST
DTSTART:20261101T070000
END:STANDARD
END:VTIMEZONE
BEGIN:VEVENT
DTSTART;TZID=America/Chicago:20250926T100000
DTEND;TZID=America/Chicago:20250926T230000
DTSTAMP:20260423T023605
CREATED:20250904T194416Z
LAST-MODIFIED:20251027T160633Z
UID:10019206-1758880800-1758927600@rclstn.org
SUMMARY:Sensory Storytime @ Smyrna Public Library
DESCRIPTION:Join us for our Sensory Story Time! \nA Multisensory and Inclusive Learning Experience. \nSponsored by Key Autism Services.
URL:https://rclstn.org/event/sensory-storytime/2025-09-26/
LOCATION:TN
CATEGORIES:Smyrna Public Libary,Smyrna Youth Services,Story Time
ATTACH;FMTTYPE=application/pdf:https://rclstn.org/wp-content/uploads/2025/09/Sensory-Story-Time.pdf
END:VEVENT
BEGIN:VEVENT
DTSTART;TZID=America/Chicago:20250926T173000
DTEND;TZID=America/Chicago:20250926T193000
DTSTAMP:20260423T023605
CREATED:20250823T214212Z
LAST-MODIFIED:20250823T214212Z
UID:10018510-1758907800-1758915000@rclstn.org
SUMMARY:After Hours Game Night at Smyrna Library
DESCRIPTION:After Hours Game Night is YOUR ticket to fun. Join us in Smyrna to play our featured game\, Ticket to Ride! This event is open to ages 18 and up.
URL:https://rclstn.org/event/after-hours-game-night-at-smyrna-library/
LOCATION:Smyrna Public Library\, 400 Enon Springs Rd W\, Smyrna\, TN\, 37167\, United States
CATEGORIES:Adult,Smyrna Public Libary
ATTACH;FMTTYPE=image/png:https://rclstn.org/wp-content/uploads/2025/08/September-Events-2025_Amanda-C-11.png
END:VEVENT
END:VCALENDAR