BEGIN:VCALENDAR
VERSION:2.0
PRODID:-//RCLS+ - ECPv6.15.20//NONSGML v1.0//EN
CALSCALE:GREGORIAN
METHOD:PUBLISH
X-ORIGINAL-URL:https://rclstn.org
X-WR-CALDESC:Events for RCLS+
REFRESH-INTERVAL;VALUE=DURATION:PT1H
X-Robots-Tag:noindex
X-PUBLISHED-TTL:PT1H
BEGIN:VTIMEZONE
TZID:America/Chicago
BEGIN:DAYLIGHT
TZOFFSETFROM:-0600
TZOFFSETTO:-0500
TZNAME:CDT
DTSTART:20240310T080000
END:DAYLIGHT
BEGIN:STANDARD
TZOFFSETFROM:-0500
TZOFFSETTO:-0600
TZNAME:CST
DTSTART:20241103T070000
END:STANDARD
BEGIN:DAYLIGHT
TZOFFSETFROM:-0600
TZOFFSETTO:-0500
TZNAME:CDT
DTSTART:20250309T080000
END:DAYLIGHT
BEGIN:STANDARD
TZOFFSETFROM:-0500
TZOFFSETTO:-0600
TZNAME:CST
DTSTART:20251102T070000
END:STANDARD
BEGIN:DAYLIGHT
TZOFFSETFROM:-0600
TZOFFSETTO:-0500
TZNAME:CDT
DTSTART:20260308T080000
END:DAYLIGHT
BEGIN:STANDARD
TZOFFSETFROM:-0500
TZOFFSETTO:-0600
TZNAME:CST
DTSTART:20261101T070000
END:STANDARD
END:VTIMEZONE
BEGIN:VEVENT
DTSTART;TZID=America/Chicago:20250711T173000
DTEND;TZID=America/Chicago:20250711T193000
DTSTAMP:20260425T175531
CREATED:20250609T153602Z
LAST-MODIFIED:20250707T215731Z
UID:10016125-1752255000-1752262200@rclstn.org
SUMMARY:***CANCELED*** Adult Murder Mystery at Smyrna Library
DESCRIPTION:Welcome to Heathcliff Manor\, where Lord Heathcliff is hosting a dinner party to celebrate his recent marriage. But before anyone can toast his happiness\, Lord Heathcliff is killed with the candlestick in the pool room. Host your own party to find who snuffed out his candle! \n  \nJoin us at Smyrna Library for this fun whodunit game! Get into character\, and be prepared to find the murderer- or\, possibly even BE the murderer!
URL:https://rclstn.org/event/adult-murder-mystery-at-smyrna-library-2/
LOCATION:Smyrna Public Library\, 400 Enon Springs Rd W\, Smyrna\, TN\, 37167\, United States
CATEGORIES:Adult,Smyrna Public Libary
END:VEVENT
END:VCALENDAR