BEGIN:VCALENDAR
VERSION:2.0
PRODID:-//RCLS+ - ECPv6.15.20//NONSGML v1.0//EN
CALSCALE:GREGORIAN
METHOD:PUBLISH
X-ORIGINAL-URL:https://rclstn.org
X-WR-CALDESC:Events for RCLS+
REFRESH-INTERVAL;VALUE=DURATION:PT1H
X-Robots-Tag:noindex
X-PUBLISHED-TTL:PT1H
BEGIN:VTIMEZONE
TZID:America/Chicago
BEGIN:DAYLIGHT
TZOFFSETFROM:-0600
TZOFFSETTO:-0500
TZNAME:CDT
DTSTART:20240310T080000
END:DAYLIGHT
BEGIN:STANDARD
TZOFFSETFROM:-0500
TZOFFSETTO:-0600
TZNAME:CST
DTSTART:20241103T070000
END:STANDARD
BEGIN:DAYLIGHT
TZOFFSETFROM:-0600
TZOFFSETTO:-0500
TZNAME:CDT
DTSTART:20250309T080000
END:DAYLIGHT
BEGIN:STANDARD
TZOFFSETFROM:-0500
TZOFFSETTO:-0600
TZNAME:CST
DTSTART:20251102T070000
END:STANDARD
BEGIN:DAYLIGHT
TZOFFSETFROM:-0600
TZOFFSETTO:-0500
TZNAME:CDT
DTSTART:20260308T080000
END:DAYLIGHT
BEGIN:STANDARD
TZOFFSETFROM:-0500
TZOFFSETTO:-0600
TZNAME:CST
DTSTART:20261101T070000
END:STANDARD
END:VTIMEZONE
BEGIN:VEVENT
DTSTART;TZID=America/Chicago:20250903T100000
DTEND;TZID=America/Chicago:20250903T110000
DTSTAMP:20260422T170706
CREATED:20250828T174009Z
LAST-MODIFIED:20251117T162016Z
UID:10015392-1756893600-1756897200@rclstn.org
SUMMARY:All Ages Story Time at Smyrna Library
DESCRIPTION:Join us at Smyrna Public Library for All Ages Story Time where we will read stories\, sing songs\, and play fun games to enhance early literacy.   *Programs close 10 minutes after start time.
URL:https://rclstn.org/event/all-ages-story-time-at-smyrna-library-2/2025-09-03/
LOCATION:Smyrna Public Library\, 400 Enon Springs Rd W\, Smyrna\, TN\, 37167\, United States
CATEGORIES:Kids and Family,Smyrna Public Libary,Smyrna Youth Services,Story Time
ATTACH;FMTTYPE=image/png:https://rclstn.org/wp-content/uploads/2024/10/family-story-time-11-×-8.5-in.png
ORGANIZER;CN="Smyrna Youth Services":MAILTO:smyrnays@rclstn.org
END:VEVENT
BEGIN:VEVENT
DTSTART;TZID=America/Chicago:20250904T100000
DTEND;TZID=America/Chicago:20250904T100000
DTSTAMP:20260422T170706
CREATED:20250717T185023Z
LAST-MODIFIED:20260414T182315Z
UID:10021435-1756980000-1756980000@rclstn.org
SUMMARY:Baby Time at Smyrna Public Library
DESCRIPTION:Join us for Baby Time at Smyrna Public Library on Thursdays at 10:00 am. Baby Time is a story time adventure designed for caregivers and babies aged 0-24 months. Snuggle up for a gentle story\, interactive rhymes\, singing and sensory play in a supportive environment that fosters early literacy and bonding. Programs close 10 minutes after start time.
URL:https://rclstn.org/event/baby-time-at-smyrna-public-library-2-2/2025-09-04/
LOCATION:Smyrna Public Library\, 400 Enon Springs Rd W\, Smyrna\, TN\, 37167\, United States
CATEGORIES:Kids and Family,Smyrna Public Libary,Smyrna Youth Services,Story Time
ATTACH;FMTTYPE=image/jpeg:https://rclstn.org/wp-content/uploads/2024/08/smy_baby-time-whale-4.jpg
ORGANIZER;CN="Smyrna Youth Services":MAILTO:smyrnays@rclstn.org
END:VEVENT
BEGIN:VEVENT
DTSTART;TZID=America/Chicago:20250904T150000
DTEND;TZID=America/Chicago:20250904T163000
DTSTAMP:20260422T170706
CREATED:20250311T214254Z
LAST-MODIFIED:20260227T211420Z
UID:10014760-1756998000-1757003400@rclstn.org
SUMMARY:Tales to Tails at Smyrna Library - Bella
DESCRIPTION:Join us for Tales to Tails a heartwarming library program at Smyrna Public Library designed to combine the joy of reading with the therapeutic benefits of spending time with dogs. In this paw-some program\, participants are invited to come to the library to read aloud to our friendly therapy dogs in a relaxed and supportive environment.  Ten minute slots are available on Thursdays starting at 3:00 p.m. Call 615-459-4884 or email smyrnays@rclstn.org to reserve your spot.
URL:https://rclstn.org/event/tales-to-tails-at-smyrna-library-bella/2025-09-04/
LOCATION:TN
CATEGORIES:Kids and Family,Smyrna Public Libary,Smyrna Youth Services
ATTACH;FMTTYPE=image/png:https://rclstn.org/wp-content/uploads/2025/03/Tales-to-Tails-11-×-8.5-in-1.png
ORGANIZER;CN="Smyrna Youth Services":MAILTO:smyrnays@rclstn.org
END:VEVENT
BEGIN:VEVENT
DTSTART;TZID=America/Chicago:20250904T181500
DTEND;TZID=America/Chicago:20250904T184500
DTSTAMP:20260422T170706
CREATED:20250827T003523Z
LAST-MODIFIED:20260414T184336Z
UID:10018560-1757009700-1757011500@rclstn.org
SUMMARY:Pajama Story Time at Smyrna Library
DESCRIPTION:Bring your stuffed animal friends and wear your cozy pajamas to this delightful evening story time. We’ll read books\, sing songs and maybe learn something along the way. All ages welcome; geared towards pre-schoolers-1st grade.
URL:https://rclstn.org/event/pajama-story-time-at-smyrna-library-2/2025-09-04/
LOCATION:Smyrna Public Library\, 400 Enon Springs Rd W\, Smyrna\, TN\, 37167\, United States
CATEGORIES:Kids and Family,Smyrna Public Libary,Story Time
ATTACH;FMTTYPE=image/png:https://rclstn.org/wp-content/uploads/2025/08/Copy-of-Pajama-Story-Time-only-2.png
ORGANIZER;CN="Smyrna Youth Services":MAILTO:smyrnays@rclstn.org
END:VEVENT
BEGIN:VEVENT
DTSTART;TZID=America/Chicago:20250905T130000
DTEND;TZID=America/Chicago:20250905T140000
DTSTAMP:20260422T170706
CREATED:20250717T184458Z
LAST-MODIFIED:20260417T174953Z
UID:10016316-1757077200-1757080800@rclstn.org
SUMMARY:Chair Yoga at Smyrna Library
DESCRIPTION:Chair Yoga is an exercise and stretch class designed to be done with the support of a chair. It’s an ideal exercise for those who don’t want to get on the floor or who can benefit from a chair to support their balance. It’s typically practiced by older adults or people recovering from injuries. Try it out for free at Smyrna Public Library!
URL:https://rclstn.org/event/chair-yoga-at-smyrna-library-2/2025-09-05/
LOCATION:Smyrna Public Library\, 400 Enon Springs Rd W\, Smyrna\, TN\, 37167\, United States
CATEGORIES:Adult,Class,Kids and Family,Smyrna Public Libary,Teen,Teen/Adult,Tween/Teen
ATTACH;FMTTYPE=image/png:https://rclstn.org/wp-content/uploads/2025/07/All-Ages-Chair-Yoga-Fridays-1.png
END:VEVENT
BEGIN:VEVENT
DTSTART;TZID=America/Chicago:20250906T140000
DTEND;TZID=America/Chicago:20250906T160000
DTSTAMP:20260422T170706
CREATED:20250813T163447Z
LAST-MODIFIED:20250813T163447Z
UID:10018203-1757167200-1757174400@rclstn.org
SUMMARY:Movie Matinee at Smyrna
DESCRIPTION:Come join us at the Smyrna Library for a showing of A Minecraft Movie! \nFour misfits are suddenly pulled through a mysterious portal into a bizarre cubic wonderland that thrives on imagination. To get back home they’ll have to master this world while embarking on a quest with an unexpected expert crafter. \nBring your favorite movie snacks! \nThis film is rated PG for violence/action\, language\, suggestive/rude humor and some scary images.
URL:https://rclstn.org/event/movie-matinee-at-smyrna-7/
LOCATION:Smyrna Public Library\, 400 Enon Springs Rd W\, Smyrna\, TN\, 37167\, United States
CATEGORIES:Kids and Family,Movie,Smyrna Public Libary,Teen,Teen/Adult,Tween/Teen
ATTACH;FMTTYPE=image/png:https://rclstn.org/wp-content/uploads/2025/08/A-Minecraft-Movie-plain.png
END:VEVENT
BEGIN:VEVENT
DTSTART;TZID=America/Chicago:20250910T100000
DTEND;TZID=America/Chicago:20250910T110000
DTSTAMP:20260422T170706
CREATED:20250828T174009Z
LAST-MODIFIED:20251117T162016Z
UID:10018655-1757498400-1757502000@rclstn.org
SUMMARY:All Ages Story Time at Smyrna Library
DESCRIPTION:Join us at Smyrna Public Library for All Ages Story Time where we will read stories\, sing songs\, and play fun games to enhance early literacy.   *Programs close 10 minutes after start time.
URL:https://rclstn.org/event/all-ages-story-time-at-smyrna-library-2/2025-09-10/
LOCATION:Smyrna Public Library\, 400 Enon Springs Rd W\, Smyrna\, TN\, 37167\, United States
CATEGORIES:Kids and Family,Smyrna Public Libary,Smyrna Youth Services,Story Time
ATTACH;FMTTYPE=image/png:https://rclstn.org/wp-content/uploads/2024/10/family-story-time-11-×-8.5-in.png
ORGANIZER;CN="Smyrna Youth Services":MAILTO:smyrnays@rclstn.org
END:VEVENT
BEGIN:VEVENT
DTSTART;TZID=America/Chicago:20250910T140000
DTEND;TZID=America/Chicago:20250910T150000
DTSTAMP:20260422T170706
CREATED:20250827T153552Z
LAST-MODIFIED:20250827T153552Z
UID:10018630-1757512800-1757516400@rclstn.org
SUMMARY:One on One Tech Help @ Smyrna Public Library
DESCRIPTION:Need some help with your iPad\, iPhone\, Android phone\, laptop? Need help writing a resume? Come to one on one tech help! First come\, first served.
URL:https://rclstn.org/event/one-on-one-tech-help-smyrna-public-library-2/2025-09-10/
LOCATION:Smyrna Public Library\, 400 Enon Springs Rd W\, Smyrna\, TN\, 37167\, United States
CATEGORIES:Computer/Tech Classes,Smyrna Public Libary
ATTACH;FMTTYPE=image/png:https://rclstn.org/wp-content/uploads/2025/08/8.png
ORGANIZER;CN="Trey":MAILTO:tgwinn@rclstn.org
END:VEVENT
BEGIN:VEVENT
DTSTART;TZID=America/Chicago:20250910T153000
DTEND;TZID=America/Chicago:20250910T170000
DTSTAMP:20260422T170706
CREATED:20250904T193612Z
LAST-MODIFIED:20251117T160719Z
UID:10019070-1757518200-1757523600@rclstn.org
SUMMARY:Preteen D&D (Full)
DESCRIPTION:Join us for our Preteen Dungeons and Dragons Pirate Campaign. \nHelp build confidence\, critical thinking\, problem solving\, teamwork\, and conflict resolution skills. \nRegister on our website to join our waitlist!
URL:https://rclstn.org/event/preteen-dd-full/2025-09-10/
LOCATION:TN
CATEGORIES:Smyrna Public Libary,Smyrna Youth Services
ATTACH;FMTTYPE=image/png:https://rclstn.org/wp-content/uploads/2025/09/SMY-YS-June-DD-6.png
END:VEVENT
BEGIN:VEVENT
DTSTART;TZID=America/Chicago:20250910T160000
DTEND;TZID=America/Chicago:20250910T164500
DTSTAMP:20260422T170707
CREATED:20250313T000917Z
LAST-MODIFIED:20250923T204016Z
UID:10019939-1757520000-1757522700@rclstn.org
SUMMARY:Teen and Preteen Yoga at Smyrna Library
DESCRIPTION:Join us for a 45 minute yoga class for teens.  We’ll breathe\, stretch\, and exercise. You’ll come away more relaxed and ready to face the rest of your week! Wear comfortable clothes and feel free to bring your own mat or borrow one of ours. Namaste!
URL:https://rclstn.org/event/teen-and-preteen-yoga-at-smyrna-library/2025-09-10/
LOCATION:TN
CATEGORIES:Smyrna Public Libary,Smyrna Youth Services,Tween/Teen
ATTACH;FMTTYPE=image/png:https://rclstn.org/wp-content/uploads/2025/03/TEEN-YOGA.png
ORGANIZER;CN="Smyrna Youth Services":MAILTO:smyrnays@rclstn.org
END:VEVENT
BEGIN:VEVENT
DTSTART;TZID=America/Chicago:20250910T173000
DTEND;TZID=America/Chicago:20250910T193000
DTSTAMP:20260422T170707
CREATED:20250828T212504Z
LAST-MODIFIED:20251105T153901Z
UID:10018720-1757525400-1757532600@rclstn.org
SUMMARY:Adult D&D at Smyrna Library
DESCRIPTION:“An adventure where every player is a thief\, the land is wild and names have power” \nSmyrna Library is relaunching our Adult D&D program with our new DM\, Wolfe! Space is limited so please reach out by email Wmacready@rclstn.org to reserve a seat! Sessions will be held on the second and fourth Wednesday of each month.
URL:https://rclstn.org/event/adult-dd-at-smyrna/2025-09-10/
LOCATION:TN
CATEGORIES:Adult,Smyrna Public Libary
ATTACH;FMTTYPE=image/png:https://rclstn.org/wp-content/uploads/2025/08/Copy-of-Adult-DD-Sept.-2025.png
END:VEVENT
BEGIN:VEVENT
DTSTART;TZID=America/Chicago:20250911T100000
DTEND;TZID=America/Chicago:20250911T100000
DTSTAMP:20260422T170707
CREATED:20250717T185023Z
LAST-MODIFIED:20260414T182315Z
UID:10016348-1757584800-1757584800@rclstn.org
SUMMARY:Baby Time at Smyrna Public Library
DESCRIPTION:Join us for Baby Time at Smyrna Public Library on Thursdays at 10:00 am. Baby Time is a story time adventure designed for caregivers and babies aged 0-24 months. Snuggle up for a gentle story\, interactive rhymes\, singing and sensory play in a supportive environment that fosters early literacy and bonding. Programs close 10 minutes after start time.
URL:https://rclstn.org/event/baby-time-at-smyrna-public-library-2-2/2025-09-11/
LOCATION:Smyrna Public Library\, 400 Enon Springs Rd W\, Smyrna\, TN\, 37167\, United States
CATEGORIES:Kids and Family,Smyrna Public Libary,Smyrna Youth Services,Story Time
ATTACH;FMTTYPE=image/jpeg:https://rclstn.org/wp-content/uploads/2024/08/smy_baby-time-whale-4.jpg
ORGANIZER;CN="Smyrna Youth Services":MAILTO:smyrnays@rclstn.org
END:VEVENT
BEGIN:VEVENT
DTSTART;TZID=America/Chicago:20250911T140000
DTEND;TZID=America/Chicago:20250911T150000
DTSTAMP:20260422T170707
CREATED:20250827T155137Z
LAST-MODIFIED:20250911T121238Z
UID:10018639-1757599200-1757602800@rclstn.org
SUMMARY:Cancelled: AI: Marvel\, Menace\, or Marketing Gimmick @ Smyrna Public Library
DESCRIPTION:Are you AI curious? Come learn about the positives\, negatives\, and usefulness of generative Artificial Intelligence.
URL:https://rclstn.org/event/ai-marvel-menace-or-marketing-gimmick-smyrna-public-library/
LOCATION:Smyrna Public Library\, 400 Enon Springs Rd W\, Smyrna\, TN\, 37167\, United States
CATEGORIES:Computer/Tech Classes,Smyrna Public Libary
ATTACH;FMTTYPE=image/png:https://rclstn.org/wp-content/uploads/2025/08/9.png
ORGANIZER;CN="Trey":MAILTO:tgwinn@rclstn.org
END:VEVENT
BEGIN:VEVENT
DTSTART;TZID=America/Chicago:20250911T181500
DTEND;TZID=America/Chicago:20250911T184500
DTSTAMP:20260422T170707
CREATED:20250827T003523Z
LAST-MODIFIED:20260414T184336Z
UID:10018561-1757614500-1757616300@rclstn.org
SUMMARY:Pajama Story Time at Smyrna Library
DESCRIPTION:Bring your stuffed animal friends and wear your cozy pajamas to this delightful evening story time. We’ll read books\, sing songs and maybe learn something along the way. All ages welcome; geared towards pre-schoolers-1st grade.
URL:https://rclstn.org/event/pajama-story-time-at-smyrna-library-2/2025-09-11/
LOCATION:Smyrna Public Library\, 400 Enon Springs Rd W\, Smyrna\, TN\, 37167\, United States
CATEGORIES:Kids and Family,Smyrna Public Libary,Story Time
ATTACH;FMTTYPE=image/png:https://rclstn.org/wp-content/uploads/2025/08/Copy-of-Pajama-Story-Time-only-2.png
ORGANIZER;CN="Smyrna Youth Services":MAILTO:smyrnays@rclstn.org
END:VEVENT
BEGIN:VEVENT
DTSTART;TZID=America/Chicago:20250912T130000
DTEND;TZID=America/Chicago:20250912T140000
DTSTAMP:20260422T170707
CREATED:20250717T184458Z
LAST-MODIFIED:20260417T174953Z
UID:10016317-1757682000-1757685600@rclstn.org
SUMMARY:Chair Yoga at Smyrna Library
DESCRIPTION:Chair Yoga is an exercise and stretch class designed to be done with the support of a chair. It’s an ideal exercise for those who don’t want to get on the floor or who can benefit from a chair to support their balance. It’s typically practiced by older adults or people recovering from injuries. Try it out for free at Smyrna Public Library!
URL:https://rclstn.org/event/chair-yoga-at-smyrna-library-2/2025-09-12/
LOCATION:Smyrna Public Library\, 400 Enon Springs Rd W\, Smyrna\, TN\, 37167\, United States
CATEGORIES:Adult,Class,Kids and Family,Smyrna Public Libary,Teen,Teen/Adult,Tween/Teen
ATTACH;FMTTYPE=image/png:https://rclstn.org/wp-content/uploads/2025/07/All-Ages-Chair-Yoga-Fridays-1.png
END:VEVENT
BEGIN:VEVENT
DTSTART;TZID=America/Chicago:20250913T140000
DTEND;TZID=America/Chicago:20250913T150000
DTSTAMP:20260422T170707
CREATED:20240216T192250Z
LAST-MODIFIED:20260409T173554Z
UID:10002700-1757772000-1757775600@rclstn.org
SUMMARY:TAB at Smyrna Public Library
DESCRIPTION:Teen Advisory Board\, or T.A.B. for short\, is open to anyone ages 13-18 who is interested in creating the change they would like to see in their library and their community. T.A.B. meets one time each month on the second Saturday at 2:00 p.m. to share ideas and information regarding the teen space\, collection\, programming\, and vision for the future.
URL:https://rclstn.org/event/t-a-b-at-smyrna-library/2025-09-13/
LOCATION:Smyrna Public Library\, 400 Enon Springs Rd W\, Smyrna\, TN\, 37167\, United States
CATEGORIES:Smyrna Public Libary,Smyrna Youth Services,Teen
ATTACH;FMTTYPE=image/jpeg:https://rclstn.org/wp-content/uploads/2024/02/TAB-6.jpg
ORGANIZER;CN="Smyrna Youth Services":MAILTO:smyrnays@rclstn.org
END:VEVENT
BEGIN:VEVENT
DTSTART;TZID=America/Chicago:20250916T140000
DTEND;TZID=America/Chicago:20250916T150000
DTSTAMP:20260422T170707
CREATED:20250827T154009Z
LAST-MODIFIED:20250827T154009Z
UID:10018634-1758031200-1758034800@rclstn.org
SUMMARY:Intermediate Canva @ Smyrna Public Library
DESCRIPTION:Ready to take your Canva skills to the next level? Come to this class to learn tips and tricks to make your designs pop off the page.
URL:https://rclstn.org/event/intermediate-canva-smyrna-public-library-2/
LOCATION:Smyrna Public Library\, 400 Enon Springs Rd W\, Smyrna\, TN\, 37167\, United States
CATEGORIES:Computer/Tech Classes,Smyrna Public Libary
ATTACH;FMTTYPE=image/png:https://rclstn.org/wp-content/uploads/2025/08/9.png
ORGANIZER;CN="Trey":MAILTO:tgwinn@rclstn.org
END:VEVENT
BEGIN:VEVENT
DTSTART;TZID=America/Chicago:20250917T100000
DTEND;TZID=America/Chicago:20250917T110000
DTSTAMP:20260422T170707
CREATED:20250828T174009Z
LAST-MODIFIED:20251117T162016Z
UID:10018656-1758103200-1758106800@rclstn.org
SUMMARY:All Ages Story Time at Smyrna Library
DESCRIPTION:Join us at Smyrna Public Library for All Ages Story Time where we will read stories\, sing songs\, and play fun games to enhance early literacy.   *Programs close 10 minutes after start time.
URL:https://rclstn.org/event/all-ages-story-time-at-smyrna-library-2/2025-09-17/
LOCATION:Smyrna Public Library\, 400 Enon Springs Rd W\, Smyrna\, TN\, 37167\, United States
CATEGORIES:Kids and Family,Smyrna Public Libary,Smyrna Youth Services,Story Time
ATTACH;FMTTYPE=image/png:https://rclstn.org/wp-content/uploads/2024/10/family-story-time-11-×-8.5-in.png
ORGANIZER;CN="Smyrna Youth Services":MAILTO:smyrnays@rclstn.org
END:VEVENT
BEGIN:VEVENT
DTSTART;TZID=America/Chicago:20250918T100000
DTEND;TZID=America/Chicago:20250918T100000
DTSTAMP:20260422T170707
CREATED:20250717T185023Z
LAST-MODIFIED:20260414T182315Z
UID:10016349-1758189600-1758189600@rclstn.org
SUMMARY:Baby Time at Smyrna Public Library
DESCRIPTION:Join us for Baby Time at Smyrna Public Library on Thursdays at 10:00 am. Baby Time is a story time adventure designed for caregivers and babies aged 0-24 months. Snuggle up for a gentle story\, interactive rhymes\, singing and sensory play in a supportive environment that fosters early literacy and bonding. Programs close 10 minutes after start time.
URL:https://rclstn.org/event/baby-time-at-smyrna-public-library-2-2/2025-09-18/
LOCATION:Smyrna Public Library\, 400 Enon Springs Rd W\, Smyrna\, TN\, 37167\, United States
CATEGORIES:Kids and Family,Smyrna Public Libary,Smyrna Youth Services,Story Time
ATTACH;FMTTYPE=image/jpeg:https://rclstn.org/wp-content/uploads/2024/08/smy_baby-time-whale-4.jpg
ORGANIZER;CN="Smyrna Youth Services":MAILTO:smyrnays@rclstn.org
END:VEVENT
BEGIN:VEVENT
DTSTART;TZID=America/Chicago:20250918T150000
DTEND;TZID=America/Chicago:20250918T163000
DTSTAMP:20260422T170707
CREATED:20250828T223204Z
LAST-MODIFIED:20260129T222845Z
UID:10018732-1758207600-1758213000@rclstn.org
SUMMARY:Tales to Tails at Smyrna Library--Caroline
DESCRIPTION:Join us for Tales to Tails a heartwarming library program at Smyrna Public Library designed to combine the joy of reading with the therapeutic benefits of spending time with dogs. In this paw-some program\, participants are invited to come to the library to read aloud to our friendly therapy dogs in a relaxed and supportive environment.  Ten minute slots are available on Thursdays starting at 3:00 p.m. Call 615-459-4884 or email smyrnays@rclstn.org to reserve your spot.
URL:https://rclstn.org/event/tales-to-tails-at-smyrna-library-caroline/2025-09-18/
LOCATION:Smyrna Public Library\, 400 Enon Springs Rd W\, Smyrna\, TN\, 37167\, United States
CATEGORIES:Kids and Family,Smyrna Public Libary,Smyrna Youth Services,Tween/Teen
ATTACH;FMTTYPE=image/png:https://rclstn.org/wp-content/uploads/2025/03/Tales-to-Tails-11-×-8.5-in.png
ORGANIZER;CN="Smyrna Youth Services":MAILTO:smyrnays@rclstn.org
END:VEVENT
BEGIN:VEVENT
DTSTART;TZID=America/Chicago:20250918T160000
DTEND;TZID=America/Chicago:20250918T180000
DTSTAMP:20260422T170707
CREATED:20250904T205004Z
LAST-MODIFIED:20250911T235420Z
UID:10019205-1758211200-1758218400@rclstn.org
SUMMARY:Written Mosaic Writing Workshop @ Smyrna Library
DESCRIPTION:Join Smyrna Public Library for a writing workshop open to ages 16 and up! September is our first session. \nWe all have sparks of creativity in us. Shards of ideas. Pieces of potential.  \nWritten mosaic brings together creatives and their bits and pieces to form a beautiful written mosaic in a workshop environment. \nPlan to bring : \n\na notebook\na writing utensil\nall of your imagination and creativity!\n\nIf you have any questions about this event\, please email wmacready@rclstn.org
URL:https://rclstn.org/event/written-mosaic-writing-workshop/2025-09-18/
LOCATION:Smyrna Public Library\, 400 Enon Springs Rd W\, Smyrna\, TN\, 37167\, United States
CATEGORIES:Adult,Arts and Crafts,Class,Club,Smyrna Public Libary,Teen,Teen/Adult,Writing Group
ATTACH;FMTTYPE=image/png:https://rclstn.org/wp-content/uploads/2025/09/Written-Mosaic-take-2.png
END:VEVENT
BEGIN:VEVENT
DTSTART;TZID=America/Chicago:20250918T181500
DTEND;TZID=America/Chicago:20250918T184500
DTSTAMP:20260422T170707
CREATED:20250827T003523Z
LAST-MODIFIED:20260414T184336Z
UID:10018562-1758219300-1758221100@rclstn.org
SUMMARY:Pajama Story Time at Smyrna Library
DESCRIPTION:Bring your stuffed animal friends and wear your cozy pajamas to this delightful evening story time. We’ll read books\, sing songs and maybe learn something along the way. All ages welcome; geared towards pre-schoolers-1st grade.
URL:https://rclstn.org/event/pajama-story-time-at-smyrna-library-2/2025-09-18/
LOCATION:Smyrna Public Library\, 400 Enon Springs Rd W\, Smyrna\, TN\, 37167\, United States
CATEGORIES:Kids and Family,Smyrna Public Libary,Story Time
ATTACH;FMTTYPE=image/png:https://rclstn.org/wp-content/uploads/2025/08/Copy-of-Pajama-Story-Time-only-2.png
ORGANIZER;CN="Smyrna Youth Services":MAILTO:smyrnays@rclstn.org
END:VEVENT
BEGIN:VEVENT
DTSTART;TZID=America/Chicago:20250919T100000
DTEND;TZID=America/Chicago:20250919T103000
DTSTAMP:20260422T170707
CREATED:20250828T223734Z
LAST-MODIFIED:20250828T224107Z
UID:10018792-1758276000-1758277800@rclstn.org
SUMMARY:Autumn Art at Smyrna Library
DESCRIPTION:Join us for a fun autumn themed craft! This event is hosted by youth services\, but all ages are welcome to participate. Let your creativity shine this season!
URL:https://rclstn.org/event/autumn-art-at-smyrna-library/
LOCATION:TN
CATEGORIES:Arts and Crafts,Kids and Family,Smyrna Public Libary,Smyrna Youth Services,Teen/Adult,Tween/Teen
ATTACH;FMTTYPE=image/png:https://rclstn.org/wp-content/uploads/2025/08/Autumn-1.png
END:VEVENT
BEGIN:VEVENT
DTSTART;TZID=America/Chicago:20250920T153000
DTEND;TZID=America/Chicago:20250920T163000
DTSTAMP:20260422T170707
CREATED:20250829T215625Z
LAST-MODIFIED:20250829T220103Z
UID:10018795-1758382200-1758385800@rclstn.org
SUMMARY:Rock Painting at Smyrna
DESCRIPTION:The Adult Mindfulness Club invites you to come unwind with us! Join us at the Smyrna Library for an afternoon of mindfulness. Paint a rock and listen to some chill ambient music. Adult coloring sheets and pencils will also be available. We are working on getting a therapy dog for attendees to dote on but they might not be present for this date. (updates on the dog will be forthcoming)
URL:https://rclstn.org/event/rock-painting-at-smyrna/
LOCATION:Smyrna Public Library\, 400 Enon Springs Rd W\, Smyrna\, TN\, 37167\, United States
CATEGORIES:Adult,Arts and Crafts,Smyrna Public Libary
ATTACH;FMTTYPE=image/png:https://rclstn.org/wp-content/uploads/2025/08/AMC-SEPT-SMY-TC-1.png
END:VEVENT
BEGIN:VEVENT
DTSTART;TZID=America/Chicago:20250922T160000
DTEND;TZID=America/Chicago:20250922T170000
DTSTAMP:20260422T170707
CREATED:20250515T183424Z
LAST-MODIFIED:20260312T180957Z
UID:10013337-1758556800-1758560400@rclstn.org
SUMMARY:Hooked on Yarn at Smyrna Public Library
DESCRIPTION:This will be a space for any fiber crafter- crochet\, knitting\, embroidery\, etc.- to work on projects and talk with other artists at Smyrna Public Library. \nSupplies will be provided\, but you can also bring your own supplies. \nThis event meets every 4th Monday in the Conference Room from 4p-5p at the Smyrna Public Library.
URL:https://rclstn.org/event/hooked-on-yarn-at-smyrna-public-library-3/2025-09-22/
LOCATION:Smyrna Public Library\, 400 Enon Springs Rd W\, Smyrna\, TN\, 37167\, United States
CATEGORIES:Adult,Arts and Crafts,Club,Smyrna Public Libary
ATTACH;FMTTYPE=image/png:https://rclstn.org/wp-content/uploads/2025/05/HOOKED-ON-YARN.png
END:VEVENT
BEGIN:VEVENT
DTSTART;TZID=America/Chicago:20250924T100000
DTEND;TZID=America/Chicago:20250924T110000
DTSTAMP:20260422T170707
CREATED:20250828T174009Z
LAST-MODIFIED:20251117T162016Z
UID:10018657-1758708000-1758711600@rclstn.org
SUMMARY:All Ages Story Time at Smyrna Library
DESCRIPTION:Join us at Smyrna Public Library for All Ages Story Time where we will read stories\, sing songs\, and play fun games to enhance early literacy.   *Programs close 10 minutes after start time.
URL:https://rclstn.org/event/all-ages-story-time-at-smyrna-library-2/2025-09-24/
LOCATION:Smyrna Public Library\, 400 Enon Springs Rd W\, Smyrna\, TN\, 37167\, United States
CATEGORIES:Kids and Family,Smyrna Public Libary,Smyrna Youth Services,Story Time
ATTACH;FMTTYPE=image/png:https://rclstn.org/wp-content/uploads/2024/10/family-story-time-11-×-8.5-in.png
ORGANIZER;CN="Smyrna Youth Services":MAILTO:smyrnays@rclstn.org
END:VEVENT
BEGIN:VEVENT
DTSTART;TZID=America/Chicago:20250924T140000
DTEND;TZID=America/Chicago:20250924T150000
DTSTAMP:20260422T170707
CREATED:20250827T153552Z
LAST-MODIFIED:20250827T153552Z
UID:10018631-1758722400-1758726000@rclstn.org
SUMMARY:One on One Tech Help @ Smyrna Public Library
DESCRIPTION:Need some help with your iPad\, iPhone\, Android phone\, laptop? Need help writing a resume? Come to one on one tech help! First come\, first served.
URL:https://rclstn.org/event/one-on-one-tech-help-smyrna-public-library-2/2025-09-24/
LOCATION:Smyrna Public Library\, 400 Enon Springs Rd W\, Smyrna\, TN\, 37167\, United States
CATEGORIES:Computer/Tech Classes,Smyrna Public Libary
ATTACH;FMTTYPE=image/png:https://rclstn.org/wp-content/uploads/2025/08/8.png
ORGANIZER;CN="Trey":MAILTO:tgwinn@rclstn.org
END:VEVENT
BEGIN:VEVENT
DTSTART;TZID=America/Chicago:20250924T153000
DTEND;TZID=America/Chicago:20250924T170000
DTSTAMP:20260422T170707
CREATED:20250904T193612Z
LAST-MODIFIED:20251117T160719Z
UID:10019071-1758727800-1758733200@rclstn.org
SUMMARY:Preteen D&D (Full)
DESCRIPTION:Join us for our Preteen Dungeons and Dragons Pirate Campaign. \nHelp build confidence\, critical thinking\, problem solving\, teamwork\, and conflict resolution skills. \nRegister on our website to join our waitlist!
URL:https://rclstn.org/event/preteen-dd-full/2025-09-24/
LOCATION:TN
CATEGORIES:Smyrna Public Libary,Smyrna Youth Services
ATTACH;FMTTYPE=image/png:https://rclstn.org/wp-content/uploads/2025/09/SMY-YS-June-DD-6.png
END:VEVENT
BEGIN:VEVENT
DTSTART;TZID=America/Chicago:20250924T160000
DTEND;TZID=America/Chicago:20250924T164500
DTSTAMP:20260422T170707
CREATED:20250313T000917Z
LAST-MODIFIED:20250923T204016Z
UID:10019940-1758729600-1758732300@rclstn.org
SUMMARY:Teen and Preteen Yoga at Smyrna Library
DESCRIPTION:Join us for a 45 minute yoga class for teens.  We’ll breathe\, stretch\, and exercise. You’ll come away more relaxed and ready to face the rest of your week! Wear comfortable clothes and feel free to bring your own mat or borrow one of ours. Namaste!
URL:https://rclstn.org/event/teen-and-preteen-yoga-at-smyrna-library/2025-09-24/
LOCATION:TN
CATEGORIES:Smyrna Public Libary,Smyrna Youth Services,Tween/Teen
ATTACH;FMTTYPE=image/png:https://rclstn.org/wp-content/uploads/2025/03/TEEN-YOGA.png
ORGANIZER;CN="Smyrna Youth Services":MAILTO:smyrnays@rclstn.org
END:VEVENT
BEGIN:VEVENT
DTSTART;TZID=America/Chicago:20250925T100000
DTEND;TZID=America/Chicago:20250925T100000
DTSTAMP:20260422T170707
CREATED:20250717T185023Z
LAST-MODIFIED:20260414T182315Z
UID:10016350-1758794400-1758794400@rclstn.org
SUMMARY:Baby Time at Smyrna Public Library
DESCRIPTION:Join us for Baby Time at Smyrna Public Library on Thursdays at 10:00 am. Baby Time is a story time adventure designed for caregivers and babies aged 0-24 months. Snuggle up for a gentle story\, interactive rhymes\, singing and sensory play in a supportive environment that fosters early literacy and bonding. Programs close 10 minutes after start time.
URL:https://rclstn.org/event/baby-time-at-smyrna-public-library-2-2/2025-09-25/
LOCATION:Smyrna Public Library\, 400 Enon Springs Rd W\, Smyrna\, TN\, 37167\, United States
CATEGORIES:Kids and Family,Smyrna Public Libary,Smyrna Youth Services,Story Time
ATTACH;FMTTYPE=image/jpeg:https://rclstn.org/wp-content/uploads/2024/08/smy_baby-time-whale-4.jpg
ORGANIZER;CN="Smyrna Youth Services":MAILTO:smyrnays@rclstn.org
END:VEVENT
END:VCALENDAR