BEGIN:VCALENDAR
VERSION:2.0
PRODID:-//RCLS+ - ECPv6.15.20//NONSGML v1.0//EN
CALSCALE:GREGORIAN
METHOD:PUBLISH
X-WR-CALNAME:RCLS+
X-ORIGINAL-URL:https://rclstn.org
X-WR-CALDESC:Events for RCLS+
REFRESH-INTERVAL;VALUE=DURATION:PT1H
X-Robots-Tag:noindex
X-PUBLISHED-TTL:PT1H
BEGIN:VTIMEZONE
TZID:America/Chicago
BEGIN:DAYLIGHT
TZOFFSETFROM:-0600
TZOFFSETTO:-0500
TZNAME:CDT
DTSTART:20240310T080000
END:DAYLIGHT
BEGIN:STANDARD
TZOFFSETFROM:-0500
TZOFFSETTO:-0600
TZNAME:CST
DTSTART:20241103T070000
END:STANDARD
BEGIN:DAYLIGHT
TZOFFSETFROM:-0600
TZOFFSETTO:-0500
TZNAME:CDT
DTSTART:20250309T080000
END:DAYLIGHT
BEGIN:STANDARD
TZOFFSETFROM:-0500
TZOFFSETTO:-0600
TZNAME:CST
DTSTART:20251102T070000
END:STANDARD
BEGIN:DAYLIGHT
TZOFFSETFROM:-0600
TZOFFSETTO:-0500
TZNAME:CDT
DTSTART:20260308T080000
END:DAYLIGHT
BEGIN:STANDARD
TZOFFSETFROM:-0500
TZOFFSETTO:-0600
TZNAME:CST
DTSTART:20261101T070000
END:STANDARD
END:VTIMEZONE
BEGIN:VEVENT
DTSTART;TZID=America/Chicago:20250807T100000
DTEND;TZID=America/Chicago:20250807T100000
DTSTAMP:20260423T021929
CREATED:20250717T185023Z
LAST-MODIFIED:20260414T182315Z
UID:10015404-1754560800-1754560800@rclstn.org
SUMMARY:Baby Time at Smyrna Public Library
DESCRIPTION:Join us for Baby Time at Smyrna Public Library on Thursdays at 10:00 am. Baby Time is a story time adventure designed for caregivers and babies aged 0-24 months. Snuggle up for a gentle story\, interactive rhymes\, singing and sensory play in a supportive environment that fosters early literacy and bonding. Programs close 10 minutes after start time.
URL:https://rclstn.org/event/baby-time-at-smyrna-public-library-2-2/2025-08-07/
LOCATION:Smyrna Public Library\, 400 Enon Springs Rd W\, Smyrna\, TN\, 37167\, United States
CATEGORIES:Kids and Family,Smyrna Public Libary,Smyrna Youth Services,Story Time
ATTACH;FMTTYPE=image/jpeg:https://rclstn.org/wp-content/uploads/2024/08/smy_baby-time-whale-4.jpg
ORGANIZER;CN="Smyrna Youth Services":MAILTO:smyrnays@rclstn.org
END:VEVENT
BEGIN:VEVENT
DTSTART;TZID=America/Chicago:20250807T130000
DTEND;TZID=America/Chicago:20250807T170000
DTSTAMP:20260423T021929
CREATED:20250721T151512Z
LAST-MODIFIED:20250807T215231Z
UID:10016629-1754571600-1754586000@rclstn.org
SUMMARY:Blood Drive at Smyrna Library (Sponsored by the American Red Cross)
DESCRIPTION:Join us at Smyrna Public Library for a Blood Drive organized by the American Red Cross from 1 PM to 5 PM on Thursday August 7\, 2025. To schedule an appointment\, log onto redcrossblood.org and enter the sponsor code: SmyrnaLibrary or call 1-800-RED-CROSS. \n  \nALL DONORS WILL RECEIVE A $15 eGIFT CARD BY EMAIL TO THE MERCHANT OF CHOICE! GIFT CARD IS AWARDED BY RED CROSS AND NOT THE LIBRARY.
URL:https://rclstn.org/event/blood-drive-at-smyrna-library-sponsered-by-the-american-red-cross/
LOCATION:Smyrna Public Library\, 400 Enon Springs Rd W\, Smyrna\, TN\, 37167\, United States
CATEGORIES:Smyrna Public Libary
ATTACH;FMTTYPE=image/png:https://rclstn.org/wp-content/uploads/2025/07/Blod-Drive-8-7-2025.png
END:VEVENT
BEGIN:VEVENT
DTSTART;TZID=America/Chicago:20250807T150000
DTEND;TZID=America/Chicago:20250807T163000
DTSTAMP:20260423T021929
CREATED:20250311T214254Z
LAST-MODIFIED:20260227T211420Z
UID:10014759-1754578800-1754584200@rclstn.org
SUMMARY:Tales to Tails at Smyrna Library - Bella
DESCRIPTION:Join us for Tales to Tails a heartwarming library program at Smyrna Public Library designed to combine the joy of reading with the therapeutic benefits of spending time with dogs. In this paw-some program\, participants are invited to come to the library to read aloud to our friendly therapy dogs in a relaxed and supportive environment.  Ten minute slots are available on Thursdays starting at 3:00 p.m. Call 615-459-4884 or email smyrnays@rclstn.org to reserve your spot.
URL:https://rclstn.org/event/tales-to-tails-at-smyrna-library-bella/2025-08-07/
LOCATION:TN
CATEGORIES:Kids and Family,Smyrna Public Libary,Smyrna Youth Services
ATTACH;FMTTYPE=image/png:https://rclstn.org/wp-content/uploads/2025/03/Tales-to-Tails-11-×-8.5-in-1.png
ORGANIZER;CN="Smyrna Youth Services":MAILTO:smyrnays@rclstn.org
END:VEVENT
BEGIN:VEVENT
DTSTART;TZID=America/Chicago:20250808T130000
DTEND;TZID=America/Chicago:20250808T140000
DTSTAMP:20260423T021929
CREATED:20250717T184458Z
LAST-MODIFIED:20260417T174953Z
UID:10011824-1754658000-1754661600@rclstn.org
SUMMARY:Chair Yoga at Smyrna Library
DESCRIPTION:Chair Yoga is an exercise and stretch class designed to be done with the support of a chair. It’s an ideal exercise for those who don’t want to get on the floor or who can benefit from a chair to support their balance. It’s typically practiced by older adults or people recovering from injuries. Try it out for free at Smyrna Public Library!
URL:https://rclstn.org/event/chair-yoga-at-smyrna-library-2/2025-08-08/
LOCATION:Smyrna Public Library\, 400 Enon Springs Rd W\, Smyrna\, TN\, 37167\, United States
CATEGORIES:Adult,Class,Kids and Family,Smyrna Public Libary,Teen,Teen/Adult,Tween/Teen
ATTACH;FMTTYPE=image/png:https://rclstn.org/wp-content/uploads/2025/07/All-Ages-Chair-Yoga-Fridays-1.png
END:VEVENT
BEGIN:VEVENT
DTSTART;TZID=America/Chicago:20250813T140000
DTEND;TZID=America/Chicago:20250813T150000
DTSTAMP:20260423T021929
CREATED:20250725T194621Z
LAST-MODIFIED:20250725T202252Z
UID:10016657-1755093600-1755097200@rclstn.org
SUMMARY:One on One Tech Help at Smyrna Public Library
DESCRIPTION:Need some one on one help with your phone or computer? Need to make a resume? Come to One on One Tech Help! Free and open to the public\, no reservation required.
URL:https://rclstn.org/event/one-on-one-tech-help-at-smyrna-public-library-4/2025-08-13/
LOCATION:Smyrna Public Library\, 400 Enon Springs Rd W\, Smyrna\, TN\, 37167\, United States
CATEGORIES:Computer/Tech Classes,Smyrna Public Libary
ATTACH;FMTTYPE=image/png:https://rclstn.org/wp-content/uploads/2025/07/2025-august-computer-classes.png
ORGANIZER;CN="Trey":MAILTO:tgwinn@rclstn.org
END:VEVENT
BEGIN:VEVENT
DTSTART;TZID=America/Chicago:20250813T160000
DTEND;TZID=America/Chicago:20250813T164500
DTSTAMP:20260423T021929
CREATED:20250313T000917Z
LAST-MODIFIED:20250923T204016Z
UID:10019937-1755100800-1755103500@rclstn.org
SUMMARY:Teen and Preteen Yoga at Smyrna Library
DESCRIPTION:Join us for a 45 minute yoga class for teens.  We’ll breathe\, stretch\, and exercise. You’ll come away more relaxed and ready to face the rest of your week! Wear comfortable clothes and feel free to bring your own mat or borrow one of ours. Namaste!
URL:https://rclstn.org/event/teen-and-preteen-yoga-at-smyrna-library/2025-08-13/
LOCATION:TN
CATEGORIES:Smyrna Public Libary,Smyrna Youth Services,Tween/Teen
ATTACH;FMTTYPE=image/png:https://rclstn.org/wp-content/uploads/2025/03/TEEN-YOGA.png
ORGANIZER;CN="Smyrna Youth Services":MAILTO:smyrnays@rclstn.org
END:VEVENT
BEGIN:VEVENT
DTSTART;TZID=America/Chicago:20250814T100000
DTEND;TZID=America/Chicago:20250814T100000
DTSTAMP:20260423T021929
CREATED:20250717T185023Z
LAST-MODIFIED:20260414T182315Z
UID:10016344-1755165600-1755165600@rclstn.org
SUMMARY:Baby Time at Smyrna Public Library
DESCRIPTION:Join us for Baby Time at Smyrna Public Library on Thursdays at 10:00 am. Baby Time is a story time adventure designed for caregivers and babies aged 0-24 months. Snuggle up for a gentle story\, interactive rhymes\, singing and sensory play in a supportive environment that fosters early literacy and bonding. Programs close 10 minutes after start time.
URL:https://rclstn.org/event/baby-time-at-smyrna-public-library-2-2/2025-08-14/
LOCATION:Smyrna Public Library\, 400 Enon Springs Rd W\, Smyrna\, TN\, 37167\, United States
CATEGORIES:Kids and Family,Smyrna Public Libary,Smyrna Youth Services,Story Time
ATTACH;FMTTYPE=image/jpeg:https://rclstn.org/wp-content/uploads/2024/08/smy_baby-time-whale-4.jpg
ORGANIZER;CN="Smyrna Youth Services":MAILTO:smyrnays@rclstn.org
END:VEVENT
BEGIN:VEVENT
DTSTART;TZID=America/Chicago:20250815T130000
DTEND;TZID=America/Chicago:20250815T140000
DTSTAMP:20260423T021929
CREATED:20250717T184458Z
LAST-MODIFIED:20260417T174953Z
UID:10016313-1755262800-1755266400@rclstn.org
SUMMARY:Chair Yoga at Smyrna Library
DESCRIPTION:Chair Yoga is an exercise and stretch class designed to be done with the support of a chair. It’s an ideal exercise for those who don’t want to get on the floor or who can benefit from a chair to support their balance. It’s typically practiced by older adults or people recovering from injuries. Try it out for free at Smyrna Public Library!
URL:https://rclstn.org/event/chair-yoga-at-smyrna-library-2/2025-08-15/
LOCATION:Smyrna Public Library\, 400 Enon Springs Rd W\, Smyrna\, TN\, 37167\, United States
CATEGORIES:Adult,Class,Kids and Family,Smyrna Public Libary,Teen,Teen/Adult,Tween/Teen
ATTACH;FMTTYPE=image/png:https://rclstn.org/wp-content/uploads/2025/07/All-Ages-Chair-Yoga-Fridays-1.png
END:VEVENT
BEGIN:VEVENT
DTSTART;TZID=America/Chicago:20250819T140000
DTEND;TZID=America/Chicago:20250819T150000
DTSTAMP:20260423T021929
CREATED:20250725T201535Z
LAST-MODIFIED:20250725T202145Z
UID:10016667-1755612000-1755615600@rclstn.org
SUMMARY:Microsoft Excel 101 at Smyrna Public Library
DESCRIPTION:Do you know the difference between Cells and Rows? Come learn about Microsoft’s signature spreadsheet program.
URL:https://rclstn.org/event/microsoft-excel-101-at-smyrna-public-library/
LOCATION:Smyrna Public Library\, 400 Enon Springs Rd W\, Smyrna\, TN\, 37167\, United States
CATEGORIES:Computer/Tech Classes,Smyrna Public Libary
ATTACH;FMTTYPE=image/png:https://rclstn.org/wp-content/uploads/2025/07/2025-august-computer-classes-1.png
ORGANIZER;CN="Trey":MAILTO:tgwinn@rclstn.org
END:VEVENT
BEGIN:VEVENT
DTSTART;TZID=America/Chicago:20250821T100000
DTEND;TZID=America/Chicago:20250821T100000
DTSTAMP:20260423T021929
CREATED:20250717T185023Z
LAST-MODIFIED:20260414T182315Z
UID:10016345-1755770400-1755770400@rclstn.org
SUMMARY:Baby Time at Smyrna Public Library
DESCRIPTION:Join us for Baby Time at Smyrna Public Library on Thursdays at 10:00 am. Baby Time is a story time adventure designed for caregivers and babies aged 0-24 months. Snuggle up for a gentle story\, interactive rhymes\, singing and sensory play in a supportive environment that fosters early literacy and bonding. Programs close 10 minutes after start time.
URL:https://rclstn.org/event/baby-time-at-smyrna-public-library-2-2/2025-08-21/
LOCATION:Smyrna Public Library\, 400 Enon Springs Rd W\, Smyrna\, TN\, 37167\, United States
CATEGORIES:Kids and Family,Smyrna Public Libary,Smyrna Youth Services,Story Time
ATTACH;FMTTYPE=image/jpeg:https://rclstn.org/wp-content/uploads/2024/08/smy_baby-time-whale-4.jpg
ORGANIZER;CN="Smyrna Youth Services":MAILTO:smyrnays@rclstn.org
END:VEVENT
BEGIN:VEVENT
DTSTART;TZID=America/Chicago:20250825T160000
DTEND;TZID=America/Chicago:20250825T170000
DTSTAMP:20260423T021929
CREATED:20250515T183424Z
LAST-MODIFIED:20260312T180957Z
UID:10013336-1756137600-1756141200@rclstn.org
SUMMARY:Hooked on Yarn at Smyrna Public Library
DESCRIPTION:This will be a space for any fiber crafter- crochet\, knitting\, embroidery\, etc.- to work on projects and talk with other artists at Smyrna Public Library. \nSupplies will be provided\, but you can also bring your own supplies. \nThis event meets every 4th Monday in the Conference Room from 4p-5p at the Smyrna Public Library.
URL:https://rclstn.org/event/hooked-on-yarn-at-smyrna-public-library-3/2025-08-25/
LOCATION:Smyrna Public Library\, 400 Enon Springs Rd W\, Smyrna\, TN\, 37167\, United States
CATEGORIES:Adult,Arts and Crafts,Club,Smyrna Public Libary
ATTACH;FMTTYPE=image/png:https://rclstn.org/wp-content/uploads/2025/05/HOOKED-ON-YARN.png
END:VEVENT
BEGIN:VEVENT
DTSTART;TZID=America/Chicago:20250827T140000
DTEND;TZID=America/Chicago:20250827T150000
DTSTAMP:20260423T021929
CREATED:20250725T194621Z
LAST-MODIFIED:20250725T202252Z
UID:10016658-1756303200-1756306800@rclstn.org
SUMMARY:One on One Tech Help at Smyrna Public Library
DESCRIPTION:Need some one on one help with your phone or computer? Need to make a resume? Come to One on One Tech Help! Free and open to the public\, no reservation required.
URL:https://rclstn.org/event/one-on-one-tech-help-at-smyrna-public-library-4/2025-08-27/
LOCATION:Smyrna Public Library\, 400 Enon Springs Rd W\, Smyrna\, TN\, 37167\, United States
CATEGORIES:Computer/Tech Classes,Smyrna Public Libary
ATTACH;FMTTYPE=image/png:https://rclstn.org/wp-content/uploads/2025/07/2025-august-computer-classes.png
ORGANIZER;CN="Trey":MAILTO:tgwinn@rclstn.org
END:VEVENT
BEGIN:VEVENT
DTSTART;TZID=America/Chicago:20250827T160000
DTEND;TZID=America/Chicago:20250827T164500
DTSTAMP:20260423T021929
CREATED:20250313T000917Z
LAST-MODIFIED:20250923T204016Z
UID:10019938-1756310400-1756313100@rclstn.org
SUMMARY:Teen and Preteen Yoga at Smyrna Library
DESCRIPTION:Join us for a 45 minute yoga class for teens.  We’ll breathe\, stretch\, and exercise. You’ll come away more relaxed and ready to face the rest of your week! Wear comfortable clothes and feel free to bring your own mat or borrow one of ours. Namaste!
URL:https://rclstn.org/event/teen-and-preteen-yoga-at-smyrna-library/2025-08-27/
LOCATION:TN
CATEGORIES:Smyrna Public Libary,Smyrna Youth Services,Tween/Teen
ATTACH;FMTTYPE=image/png:https://rclstn.org/wp-content/uploads/2025/03/TEEN-YOGA.png
ORGANIZER;CN="Smyrna Youth Services":MAILTO:smyrnays@rclstn.org
END:VEVENT
BEGIN:VEVENT
DTSTART;TZID=America/Chicago:20250828T100000
DTEND;TZID=America/Chicago:20250828T100000
DTSTAMP:20260423T021929
CREATED:20250717T185023Z
LAST-MODIFIED:20260414T182315Z
UID:10016346-1756375200-1756375200@rclstn.org
SUMMARY:Baby Time at Smyrna Public Library
DESCRIPTION:Join us for Baby Time at Smyrna Public Library on Thursdays at 10:00 am. Baby Time is a story time adventure designed for caregivers and babies aged 0-24 months. Snuggle up for a gentle story\, interactive rhymes\, singing and sensory play in a supportive environment that fosters early literacy and bonding. Programs close 10 minutes after start time.
URL:https://rclstn.org/event/baby-time-at-smyrna-public-library-2-2/2025-08-28/
LOCATION:Smyrna Public Library\, 400 Enon Springs Rd W\, Smyrna\, TN\, 37167\, United States
CATEGORIES:Kids and Family,Smyrna Public Libary,Smyrna Youth Services,Story Time
ATTACH;FMTTYPE=image/jpeg:https://rclstn.org/wp-content/uploads/2024/08/smy_baby-time-whale-4.jpg
ORGANIZER;CN="Smyrna Youth Services":MAILTO:smyrnays@rclstn.org
END:VEVENT
BEGIN:VEVENT
DTSTART;TZID=America/Chicago:20250829T130000
DTEND;TZID=America/Chicago:20250829T140000
DTSTAMP:20260423T021929
CREATED:20250717T184458Z
LAST-MODIFIED:20260417T174953Z
UID:10016315-1756472400-1756476000@rclstn.org
SUMMARY:Chair Yoga at Smyrna Library
DESCRIPTION:Chair Yoga is an exercise and stretch class designed to be done with the support of a chair. It’s an ideal exercise for those who don’t want to get on the floor or who can benefit from a chair to support their balance. It’s typically practiced by older adults or people recovering from injuries. Try it out for free at Smyrna Public Library!
URL:https://rclstn.org/event/chair-yoga-at-smyrna-library-2/2025-08-29/
LOCATION:Smyrna Public Library\, 400 Enon Springs Rd W\, Smyrna\, TN\, 37167\, United States
CATEGORIES:Adult,Class,Kids and Family,Smyrna Public Libary,Teen,Teen/Adult,Tween/Teen
ATTACH;FMTTYPE=image/png:https://rclstn.org/wp-content/uploads/2025/07/All-Ages-Chair-Yoga-Fridays-1.png
END:VEVENT
END:VCALENDAR