BEGIN:VCALENDAR
VERSION:2.0
PRODID:-//RCLS+ - ECPv6.15.20//NONSGML v1.0//EN
CALSCALE:GREGORIAN
METHOD:PUBLISH
X-ORIGINAL-URL:https://rclstn.org
X-WR-CALDESC:Events for RCLS+
REFRESH-INTERVAL;VALUE=DURATION:PT1H
X-Robots-Tag:noindex
X-PUBLISHED-TTL:PT1H
BEGIN:VTIMEZONE
TZID:America/Chicago
BEGIN:DAYLIGHT
TZOFFSETFROM:-0600
TZOFFSETTO:-0500
TZNAME:CDT
DTSTART:20250309T080000
END:DAYLIGHT
BEGIN:STANDARD
TZOFFSETFROM:-0500
TZOFFSETTO:-0600
TZNAME:CST
DTSTART:20251102T070000
END:STANDARD
BEGIN:DAYLIGHT
TZOFFSETFROM:-0600
TZOFFSETTO:-0500
TZNAME:CDT
DTSTART:20260308T080000
END:DAYLIGHT
BEGIN:STANDARD
TZOFFSETFROM:-0500
TZOFFSETTO:-0600
TZNAME:CST
DTSTART:20261101T070000
END:STANDARD
BEGIN:DAYLIGHT
TZOFFSETFROM:-0600
TZOFFSETTO:-0500
TZNAME:CDT
DTSTART:20270314T080000
END:DAYLIGHT
BEGIN:STANDARD
TZOFFSETFROM:-0500
TZOFFSETTO:-0600
TZNAME:CST
DTSTART:20271107T070000
END:STANDARD
END:VTIMEZONE
BEGIN:VEVENT
DTSTART;TZID=America/Chicago:20260323T100000
DTEND;TZID=America/Chicago:20260323T110000
DTSTAMP:20260422T225723
CREATED:20260217T160824Z
LAST-MODIFIED:20260406T165903Z
UID:10022530-1774260000-1774263600@rclstn.org
SUMMARY:Storybook Stompers at MGL Library
DESCRIPTION:Join us for Storybook Stompers at MGL Library! Every Monday and Tuesday at 10am\, be ready to get moving\, shake out your sillies\, and listen to a story! \nMGL Library is located inside of Patterson Park Community Center.
URL:https://rclstn.org/event/storybook-stompers-at-mgl-library-2-2-2/2026-03-23/
LOCATION:MGL\, 521 Dr. Martin Luther King Blvd\, Murfreesboro\, TN\, 37130\, United States
CATEGORIES:Kids and Family,MGL Youth Services,Myrtle-Glanton Lord (MGL) Library,Story Time
ATTACH;FMTTYPE=image/png:https://rclstn.org/wp-content/uploads/2025/12/mgl_Storybook-Stompers_2026-1.png
END:VEVENT
BEGIN:VEVENT
DTSTART;TZID=America/Chicago:20260320T100000
DTEND;TZID=America/Chicago:20260320T103000
DTSTAMP:20260422T225723
CREATED:20260227T175108Z
LAST-MODIFIED:20260227T175108Z
UID:10015455-1774000800-1774002600@rclstn.org
SUMMARY:Storytime at MGL Library
DESCRIPTION:Join us for stories\, songs\, and a craft every Friday morning at 10 am in MGL’s STEAM Room! All ages are welcome. \n  \nMarch storytimes: \nMar 6: Read Across America \nMar 13: St. Patrick’s Day \nMar 20: Farming \nMar 27: Springtime \n  \nMGL Library is located inside of Patterson Park Community Center.
URL:https://rclstn.org/event/mgl-storytime-4-2-2-2-2-2-2/2026-03-20/
LOCATION:MGL\, 521 Dr. Martin Luther King Blvd\, Murfreesboro\, TN\, 37130\, United States
CATEGORIES:Kids and Family,MGL Youth Services,Myrtle-Glanton Lord (MGL) Library,Story Time
ATTACH;FMTTYPE=image/png:https://rclstn.org/wp-content/uploads/2025/12/MGL_Storytimes_MAR-26.png
ORGANIZER;CN="Maddie":MAILTO:mhicks@rclstn.org
END:VEVENT
BEGIN:VEVENT
DTSTART;TZID=America/Chicago:20260319T150000
DTEND;TZID=America/Chicago:20260319T160000
DTSTAMP:20260422T225723
CREATED:20260319T154955Z
LAST-MODIFIED:20260319T154955Z
UID:10025256-1773932400-1773936000@rclstn.org
SUMMARY:Preteen Chef's Academy at MGL Library
DESCRIPTION:Preteens are invited to join us for a food demo and hands-on cooking experience provided in partnership with UT Extension! No registration required.
URL:https://rclstn.org/event/preteen-chefs-academy-at-mgl-library/
LOCATION:MGL\, 521 Dr. Martin Luther King Blvd\, Murfreesboro\, TN\, 37130\, United States
CATEGORIES:Class,MGL Youth Services,Myrtle-Glanton Lord (MGL) Library
ATTACH;FMTTYPE=image/png:https://rclstn.org/wp-content/uploads/2026/03/MGL_Chef-Academy_MAR-26.png
END:VEVENT
BEGIN:VEVENT
DTSTART;TZID=America/Chicago:20260318T150000
DTEND;TZID=America/Chicago:20260318T152500
DTSTAMP:20260422T225723
CREATED:20251231T002828Z
LAST-MODIFIED:20251231T002830Z
UID:10011068-1773846000-1773847500@rclstn.org
SUMMARY:STEAM Lab at MGL Library
DESCRIPTION:Enjoy hands on activities to engage your curiosity and creativity that spans science\, technology\, engineering\, art\, and math! All ages are welcome.
URL:https://rclstn.org/event/s-t-e-a-m-lab-38-2-2-2/2026-03-18/
LOCATION:MGL\, 521 Dr. Martin Luther King Blvd\, Murfreesboro\, TN\, 37130\, United States
CATEGORIES:Kids and Family,MGL Youth Services,Myrtle-Glanton Lord (MGL) Library,STEM
ATTACH;FMTTYPE=image/png:https://rclstn.org/wp-content/uploads/2025/07/MGL_January-STEAM_Social.png
ORGANIZER;CN="Maddie":MAILTO:mhicks@rclstn.org
END:VEVENT
BEGIN:VEVENT
DTSTART;TZID=America/Chicago:20260317T144500
DTEND;TZID=America/Chicago:20260317T154500
DTSTAMP:20260422T225723
CREATED:20251230T225928Z
LAST-MODIFIED:20251230T225929Z
UID:10022440-1773758700-1773762300@rclstn.org
SUMMARY:READing with Lucas at MGL Library
DESCRIPTION:Join us for READing with Lucas every Tuesday at 1pm at MGL Library! Lucas loves pets and belly rubs- and having a story read to him! Sign up by calling or visiting the library. All ages are welcome! \nMGL Library is proud to participate in the Reading Education Assistance Dogs (R.E.A.D) READing Paws Program. This program is dedicated to improving the reading skills of children using registered therapy teams as literacy mentors. \nMGL Library is located inside of Patterson Park Community Center.
URL:https://rclstn.org/event/reading-with-lucas-at-mgl-library-2/2026-03-17/
LOCATION:MGL\, 521 Dr. Martin Luther King Blvd\, Murfreesboro\, TN\, 37130\, United States
CATEGORIES:Book Group,MGL Youth Services,Myrtle-Glanton Lord (MGL) Library,Story Time
ATTACH;FMTTYPE=image/png:https://rclstn.org/wp-content/uploads/2025/08/MGL_Read-with-Lucas_2026.png
END:VEVENT
BEGIN:VEVENT
DTSTART;TZID=America/Chicago:20260317T100000
DTEND;TZID=America/Chicago:20260317T110000
DTSTAMP:20260422T225723
CREATED:20260217T160824Z
LAST-MODIFIED:20260406T165903Z
UID:10022529-1773741600-1773745200@rclstn.org
SUMMARY:Storybook Stompers at MGL Library
DESCRIPTION:Join us for Storybook Stompers at MGL Library! Every Monday and Tuesday at 10am\, be ready to get moving\, shake out your sillies\, and listen to a story! \nMGL Library is located inside of Patterson Park Community Center.
URL:https://rclstn.org/event/storybook-stompers-at-mgl-library-2-2-2/2026-03-17/
LOCATION:MGL\, 521 Dr. Martin Luther King Blvd\, Murfreesboro\, TN\, 37130\, United States
CATEGORIES:Kids and Family,MGL Youth Services,Myrtle-Glanton Lord (MGL) Library,Story Time
ATTACH;FMTTYPE=image/png:https://rclstn.org/wp-content/uploads/2025/12/mgl_Storybook-Stompers_2026-1.png
END:VEVENT
BEGIN:VEVENT
DTSTART;TZID=America/Chicago:20260316T100000
DTEND;TZID=America/Chicago:20260316T110000
DTSTAMP:20260422T225723
CREATED:20260217T160824Z
LAST-MODIFIED:20260406T165903Z
UID:10022528-1773655200-1773658800@rclstn.org
SUMMARY:Storybook Stompers at MGL Library
DESCRIPTION:Join us for Storybook Stompers at MGL Library! Every Monday and Tuesday at 10am\, be ready to get moving\, shake out your sillies\, and listen to a story! \nMGL Library is located inside of Patterson Park Community Center.
URL:https://rclstn.org/event/storybook-stompers-at-mgl-library-2-2-2/2026-03-16/
LOCATION:MGL\, 521 Dr. Martin Luther King Blvd\, Murfreesboro\, TN\, 37130\, United States
CATEGORIES:Kids and Family,MGL Youth Services,Myrtle-Glanton Lord (MGL) Library,Story Time
ATTACH;FMTTYPE=image/png:https://rclstn.org/wp-content/uploads/2025/12/mgl_Storybook-Stompers_2026-1.png
END:VEVENT
BEGIN:VEVENT
DTSTART;TZID=America/Chicago:20260313T100000
DTEND;TZID=America/Chicago:20260313T103000
DTSTAMP:20260422T225723
CREATED:20260227T175108Z
LAST-MODIFIED:20260227T175108Z
UID:10015454-1773396000-1773397800@rclstn.org
SUMMARY:Storytime at MGL Library
DESCRIPTION:Join us for stories\, songs\, and a craft every Friday morning at 10 am in MGL’s STEAM Room! All ages are welcome. \n  \nMarch storytimes: \nMar 6: Read Across America \nMar 13: St. Patrick’s Day \nMar 20: Farming \nMar 27: Springtime \n  \nMGL Library is located inside of Patterson Park Community Center.
URL:https://rclstn.org/event/mgl-storytime-4-2-2-2-2-2-2/2026-03-13/
LOCATION:MGL\, 521 Dr. Martin Luther King Blvd\, Murfreesboro\, TN\, 37130\, United States
CATEGORIES:Kids and Family,MGL Youth Services,Myrtle-Glanton Lord (MGL) Library,Story Time
ATTACH;FMTTYPE=image/png:https://rclstn.org/wp-content/uploads/2025/12/MGL_Storytimes_MAR-26.png
ORGANIZER;CN="Maddie":MAILTO:mhicks@rclstn.org
END:VEVENT
BEGIN:VEVENT
DTSTART;TZID=America/Chicago:20260311T150000
DTEND;TZID=America/Chicago:20260311T152500
DTSTAMP:20260422T225723
CREATED:20251231T002828Z
LAST-MODIFIED:20251231T002830Z
UID:10011067-1773241200-1773242700@rclstn.org
SUMMARY:STEAM Lab at MGL Library
DESCRIPTION:Enjoy hands on activities to engage your curiosity and creativity that spans science\, technology\, engineering\, art\, and math! All ages are welcome.
URL:https://rclstn.org/event/s-t-e-a-m-lab-38-2-2-2/2026-03-11/
LOCATION:MGL\, 521 Dr. Martin Luther King Blvd\, Murfreesboro\, TN\, 37130\, United States
CATEGORIES:Kids and Family,MGL Youth Services,Myrtle-Glanton Lord (MGL) Library,STEM
ATTACH;FMTTYPE=image/png:https://rclstn.org/wp-content/uploads/2025/07/MGL_January-STEAM_Social.png
ORGANIZER;CN="Maddie":MAILTO:mhicks@rclstn.org
END:VEVENT
BEGIN:VEVENT
DTSTART;TZID=America/Chicago:20260310T144500
DTEND;TZID=America/Chicago:20260310T154500
DTSTAMP:20260422T225723
CREATED:20251230T225928Z
LAST-MODIFIED:20251230T225929Z
UID:10022439-1773153900-1773157500@rclstn.org
SUMMARY:READing with Lucas at MGL Library
DESCRIPTION:Join us for READing with Lucas every Tuesday at 1pm at MGL Library! Lucas loves pets and belly rubs- and having a story read to him! Sign up by calling or visiting the library. All ages are welcome! \nMGL Library is proud to participate in the Reading Education Assistance Dogs (R.E.A.D) READing Paws Program. This program is dedicated to improving the reading skills of children using registered therapy teams as literacy mentors. \nMGL Library is located inside of Patterson Park Community Center.
URL:https://rclstn.org/event/reading-with-lucas-at-mgl-library-2/2026-03-10/
LOCATION:MGL\, 521 Dr. Martin Luther King Blvd\, Murfreesboro\, TN\, 37130\, United States
CATEGORIES:Book Group,MGL Youth Services,Myrtle-Glanton Lord (MGL) Library,Story Time
ATTACH;FMTTYPE=image/png:https://rclstn.org/wp-content/uploads/2025/08/MGL_Read-with-Lucas_2026.png
END:VEVENT
BEGIN:VEVENT
DTSTART;TZID=America/Chicago:20260310T100000
DTEND;TZID=America/Chicago:20260310T110000
DTSTAMP:20260422T225723
CREATED:20260217T160824Z
LAST-MODIFIED:20260406T165903Z
UID:10022527-1773136800-1773140400@rclstn.org
SUMMARY:Storybook Stompers at MGL Library
DESCRIPTION:Join us for Storybook Stompers at MGL Library! Every Monday and Tuesday at 10am\, be ready to get moving\, shake out your sillies\, and listen to a story! \nMGL Library is located inside of Patterson Park Community Center.
URL:https://rclstn.org/event/storybook-stompers-at-mgl-library-2-2-2/2026-03-10/
LOCATION:MGL\, 521 Dr. Martin Luther King Blvd\, Murfreesboro\, TN\, 37130\, United States
CATEGORIES:Kids and Family,MGL Youth Services,Myrtle-Glanton Lord (MGL) Library,Story Time
ATTACH;FMTTYPE=image/png:https://rclstn.org/wp-content/uploads/2025/12/mgl_Storybook-Stompers_2026-1.png
END:VEVENT
BEGIN:VEVENT
DTSTART;TZID=America/Chicago:20260309T150000
DTEND;TZID=America/Chicago:20260309T160000
DTSTAMP:20260422T225723
CREATED:20260227T180653Z
LAST-MODIFIED:20260227T180653Z
UID:10024831-1773068400-1773072000@rclstn.org
SUMMARY:Game On! Preteen Game Club at MGL Library
DESCRIPTION:Join us for Game On!\, a space for preteens to play board games\, card games\, and video games together at the library. \nFor March\, we will be playing One Night Ultimate Werewolf. Players are secretly assigned roles with special abilities\, and your goal is to identify and eliminate at least one werewolf before the night is over. Try to save your village! \nMGL Library is located inside of Patterson Park Community Center.
URL:https://rclstn.org/event/game-on-preteen-game-club-at-mgl-library/
LOCATION:MGL\, 521 Dr. Martin Luther King Blvd\, Murfreesboro\, TN\, 37130\, United States
CATEGORIES:Kids and Family,MGL Youth Services,Myrtle-Glanton Lord (MGL) Library,Teen,Teen/Adult,Tween/Teen
ATTACH;FMTTYPE=image/png:https://rclstn.org/wp-content/uploads/2026/02/MGL_MAR-26_PROMO.png
END:VEVENT
BEGIN:VEVENT
DTSTART;TZID=America/Chicago:20260309T100000
DTEND;TZID=America/Chicago:20260309T110000
DTSTAMP:20260422T225723
CREATED:20260217T160824Z
LAST-MODIFIED:20260406T165903Z
UID:10022526-1773050400-1773054000@rclstn.org
SUMMARY:Storybook Stompers at MGL Library
DESCRIPTION:Join us for Storybook Stompers at MGL Library! Every Monday and Tuesday at 10am\, be ready to get moving\, shake out your sillies\, and listen to a story! \nMGL Library is located inside of Patterson Park Community Center.
URL:https://rclstn.org/event/storybook-stompers-at-mgl-library-2-2-2/2026-03-09/
LOCATION:MGL\, 521 Dr. Martin Luther King Blvd\, Murfreesboro\, TN\, 37130\, United States
CATEGORIES:Kids and Family,MGL Youth Services,Myrtle-Glanton Lord (MGL) Library,Story Time
ATTACH;FMTTYPE=image/png:https://rclstn.org/wp-content/uploads/2025/12/mgl_Storybook-Stompers_2026-1.png
END:VEVENT
BEGIN:VEVENT
DTSTART;TZID=America/Chicago:20260306T100000
DTEND;TZID=America/Chicago:20260306T103000
DTSTAMP:20260422T225723
CREATED:20260227T175108Z
LAST-MODIFIED:20260227T175108Z
UID:10015453-1772791200-1772793000@rclstn.org
SUMMARY:Storytime at MGL Library
DESCRIPTION:Join us for stories\, songs\, and a craft every Friday morning at 10 am in MGL’s STEAM Room! All ages are welcome. \n  \nMarch storytimes: \nMar 6: Read Across America \nMar 13: St. Patrick’s Day \nMar 20: Farming \nMar 27: Springtime \n  \nMGL Library is located inside of Patterson Park Community Center.
URL:https://rclstn.org/event/mgl-storytime-4-2-2-2-2-2-2/2026-03-06/
LOCATION:MGL\, 521 Dr. Martin Luther King Blvd\, Murfreesboro\, TN\, 37130\, United States
CATEGORIES:Kids and Family,MGL Youth Services,Myrtle-Glanton Lord (MGL) Library,Story Time
ATTACH;FMTTYPE=image/png:https://rclstn.org/wp-content/uploads/2025/12/MGL_Storytimes_MAR-26.png
ORGANIZER;CN="Maddie":MAILTO:mhicks@rclstn.org
END:VEVENT
BEGIN:VEVENT
DTSTART;TZID=America/Chicago:20260304T150000
DTEND;TZID=America/Chicago:20260304T152500
DTSTAMP:20260422T225723
CREATED:20251231T002828Z
LAST-MODIFIED:20251231T002830Z
UID:10011066-1772636400-1772637900@rclstn.org
SUMMARY:STEAM Lab at MGL Library
DESCRIPTION:Enjoy hands on activities to engage your curiosity and creativity that spans science\, technology\, engineering\, art\, and math! All ages are welcome.
URL:https://rclstn.org/event/s-t-e-a-m-lab-38-2-2-2/2026-03-04/
LOCATION:MGL\, 521 Dr. Martin Luther King Blvd\, Murfreesboro\, TN\, 37130\, United States
CATEGORIES:Kids and Family,MGL Youth Services,Myrtle-Glanton Lord (MGL) Library,STEM
ATTACH;FMTTYPE=image/png:https://rclstn.org/wp-content/uploads/2025/07/MGL_January-STEAM_Social.png
ORGANIZER;CN="Maddie":MAILTO:mhicks@rclstn.org
END:VEVENT
BEGIN:VEVENT
DTSTART;TZID=America/Chicago:20260303T144500
DTEND;TZID=America/Chicago:20260303T154500
DTSTAMP:20260422T225723
CREATED:20251230T225928Z
LAST-MODIFIED:20251230T225929Z
UID:10022438-1772549100-1772552700@rclstn.org
SUMMARY:READing with Lucas at MGL Library
DESCRIPTION:Join us for READing with Lucas every Tuesday at 1pm at MGL Library! Lucas loves pets and belly rubs- and having a story read to him! Sign up by calling or visiting the library. All ages are welcome! \nMGL Library is proud to participate in the Reading Education Assistance Dogs (R.E.A.D) READing Paws Program. This program is dedicated to improving the reading skills of children using registered therapy teams as literacy mentors. \nMGL Library is located inside of Patterson Park Community Center.
URL:https://rclstn.org/event/reading-with-lucas-at-mgl-library-2/2026-03-03/
LOCATION:MGL\, 521 Dr. Martin Luther King Blvd\, Murfreesboro\, TN\, 37130\, United States
CATEGORIES:Book Group,MGL Youth Services,Myrtle-Glanton Lord (MGL) Library,Story Time
ATTACH;FMTTYPE=image/png:https://rclstn.org/wp-content/uploads/2025/08/MGL_Read-with-Lucas_2026.png
END:VEVENT
BEGIN:VEVENT
DTSTART;TZID=America/Chicago:20260303T100000
DTEND;TZID=America/Chicago:20260303T110000
DTSTAMP:20260422T225723
CREATED:20260217T160824Z
LAST-MODIFIED:20260406T165903Z
UID:10022525-1772532000-1772535600@rclstn.org
SUMMARY:Storybook Stompers at MGL Library
DESCRIPTION:Join us for Storybook Stompers at MGL Library! Every Monday and Tuesday at 10am\, be ready to get moving\, shake out your sillies\, and listen to a story! \nMGL Library is located inside of Patterson Park Community Center.
URL:https://rclstn.org/event/storybook-stompers-at-mgl-library-2-2-2/2026-03-03/
LOCATION:MGL\, 521 Dr. Martin Luther King Blvd\, Murfreesboro\, TN\, 37130\, United States
CATEGORIES:Kids and Family,MGL Youth Services,Myrtle-Glanton Lord (MGL) Library,Story Time
ATTACH;FMTTYPE=image/png:https://rclstn.org/wp-content/uploads/2025/12/mgl_Storybook-Stompers_2026-1.png
END:VEVENT
BEGIN:VEVENT
DTSTART;TZID=America/Chicago:20260302T100000
DTEND;TZID=America/Chicago:20260302T110000
DTSTAMP:20260422T225723
CREATED:20260217T160824Z
LAST-MODIFIED:20260406T165903Z
UID:10022524-1772445600-1772449200@rclstn.org
SUMMARY:Storybook Stompers at MGL Library
DESCRIPTION:Join us for Storybook Stompers at MGL Library! Every Monday and Tuesday at 10am\, be ready to get moving\, shake out your sillies\, and listen to a story! \nMGL Library is located inside of Patterson Park Community Center.
URL:https://rclstn.org/event/storybook-stompers-at-mgl-library-2-2-2/2026-03-02/
LOCATION:MGL\, 521 Dr. Martin Luther King Blvd\, Murfreesboro\, TN\, 37130\, United States
CATEGORIES:Kids and Family,MGL Youth Services,Myrtle-Glanton Lord (MGL) Library,Story Time
ATTACH;FMTTYPE=image/png:https://rclstn.org/wp-content/uploads/2025/12/mgl_Storybook-Stompers_2026-1.png
END:VEVENT
BEGIN:VEVENT
DTSTART;TZID=America/Chicago:20260227T100000
DTEND;TZID=America/Chicago:20260227T103000
DTSTAMP:20260422T225723
CREATED:20251230T225422Z
LAST-MODIFIED:20251230T225422Z
UID:10015452-1772186400-1772188200@rclstn.org
SUMMARY:Storytime at MGL Library
DESCRIPTION:Join us for stories\, songs\, and a craft every Friday morning at 10 am in MGL’s STEAM Room! All ages are welcome. \nMGL Library is located inside of Patterson Park Community Center.
URL:https://rclstn.org/event/mgl-storytime-4-2-2-2-2-2/2026-02-27/
LOCATION:MGL\, 521 Dr. Martin Luther King Blvd\, Murfreesboro\, TN\, 37130\, United States
CATEGORIES:Kids and Family,MGL Youth Services,Myrtle-Glanton Lord (MGL) Library,Story Time
ATTACH;FMTTYPE=image/png:https://rclstn.org/wp-content/uploads/2025/10/MGL-Jan-Storytimes-Flyer.png
ORGANIZER;CN="Maddie":MAILTO:mhicks@rclstn.org
END:VEVENT
BEGIN:VEVENT
DTSTART;TZID=America/Chicago:20260225T150000
DTEND;TZID=America/Chicago:20260225T152500
DTSTAMP:20260422T225723
CREATED:20251231T002828Z
LAST-MODIFIED:20251231T002830Z
UID:10011065-1772031600-1772033100@rclstn.org
SUMMARY:STEAM Lab at MGL Library
DESCRIPTION:Enjoy hands on activities to engage your curiosity and creativity that spans science\, technology\, engineering\, art\, and math! All ages are welcome.
URL:https://rclstn.org/event/s-t-e-a-m-lab-38-2-2-2/2026-02-25/
LOCATION:MGL\, 521 Dr. Martin Luther King Blvd\, Murfreesboro\, TN\, 37130\, United States
CATEGORIES:Kids and Family,MGL Youth Services,Myrtle-Glanton Lord (MGL) Library,STEM
ATTACH;FMTTYPE=image/png:https://rclstn.org/wp-content/uploads/2025/07/MGL_January-STEAM_Social.png
ORGANIZER;CN="Maddie":MAILTO:mhicks@rclstn.org
END:VEVENT
BEGIN:VEVENT
DTSTART;TZID=America/Chicago:20260224T144500
DTEND;TZID=America/Chicago:20260224T154500
DTSTAMP:20260422T225723
CREATED:20251230T225928Z
LAST-MODIFIED:20251230T225929Z
UID:10022437-1771944300-1771947900@rclstn.org
SUMMARY:READing with Lucas at MGL Library
DESCRIPTION:Join us for READing with Lucas every Tuesday at 1pm at MGL Library! Lucas loves pets and belly rubs- and having a story read to him! Sign up by calling or visiting the library. All ages are welcome! \nMGL Library is proud to participate in the Reading Education Assistance Dogs (R.E.A.D) READing Paws Program. This program is dedicated to improving the reading skills of children using registered therapy teams as literacy mentors. \nMGL Library is located inside of Patterson Park Community Center.
URL:https://rclstn.org/event/reading-with-lucas-at-mgl-library-2/2026-02-24/
LOCATION:MGL\, 521 Dr. Martin Luther King Blvd\, Murfreesboro\, TN\, 37130\, United States
CATEGORIES:Book Group,MGL Youth Services,Myrtle-Glanton Lord (MGL) Library,Story Time
ATTACH;FMTTYPE=image/png:https://rclstn.org/wp-content/uploads/2025/08/MGL_Read-with-Lucas_2026.png
END:VEVENT
BEGIN:VEVENT
DTSTART;TZID=America/Chicago:20260224T100000
DTEND;TZID=America/Chicago:20260224T110000
DTSTAMP:20260422T225723
CREATED:20260217T160824Z
LAST-MODIFIED:20260406T165903Z
UID:10022523-1771927200-1771930800@rclstn.org
SUMMARY:Storybook Stompers at MGL Library
DESCRIPTION:Join us for Storybook Stompers at MGL Library! Every Monday and Tuesday at 10am\, be ready to get moving\, shake out your sillies\, and listen to a story! \nMGL Library is located inside of Patterson Park Community Center.
URL:https://rclstn.org/event/storybook-stompers-at-mgl-library-2-2-2/2026-02-24/
LOCATION:MGL\, 521 Dr. Martin Luther King Blvd\, Murfreesboro\, TN\, 37130\, United States
CATEGORIES:Kids and Family,MGL Youth Services,Myrtle-Glanton Lord (MGL) Library,Story Time
ATTACH;FMTTYPE=image/png:https://rclstn.org/wp-content/uploads/2025/12/mgl_Storybook-Stompers_2026-1.png
END:VEVENT
BEGIN:VEVENT
DTSTART;TZID=America/Chicago:20260223T100000
DTEND;TZID=America/Chicago:20260223T110000
DTSTAMP:20260422T225723
CREATED:20260217T160824Z
LAST-MODIFIED:20260406T165903Z
UID:10022522-1771840800-1771844400@rclstn.org
SUMMARY:Storybook Stompers at MGL Library
DESCRIPTION:Join us for Storybook Stompers at MGL Library! Every Monday and Tuesday at 10am\, be ready to get moving\, shake out your sillies\, and listen to a story! \nMGL Library is located inside of Patterson Park Community Center.
URL:https://rclstn.org/event/storybook-stompers-at-mgl-library-2-2-2/2026-02-23/
LOCATION:MGL\, 521 Dr. Martin Luther King Blvd\, Murfreesboro\, TN\, 37130\, United States
CATEGORIES:Kids and Family,MGL Youth Services,Myrtle-Glanton Lord (MGL) Library,Story Time
ATTACH;FMTTYPE=image/png:https://rclstn.org/wp-content/uploads/2025/12/mgl_Storybook-Stompers_2026-1.png
END:VEVENT
BEGIN:VEVENT
DTSTART;TZID=America/Chicago:20260220T100000
DTEND;TZID=America/Chicago:20260220T103000
DTSTAMP:20260422T225723
CREATED:20251230T225422Z
LAST-MODIFIED:20251230T225422Z
UID:10015451-1771581600-1771583400@rclstn.org
SUMMARY:Storytime at MGL Library
DESCRIPTION:Join us for stories\, songs\, and a craft every Friday morning at 10 am in MGL’s STEAM Room! All ages are welcome. \nMGL Library is located inside of Patterson Park Community Center.
URL:https://rclstn.org/event/mgl-storytime-4-2-2-2-2-2/2026-02-20/
LOCATION:MGL\, 521 Dr. Martin Luther King Blvd\, Murfreesboro\, TN\, 37130\, United States
CATEGORIES:Kids and Family,MGL Youth Services,Myrtle-Glanton Lord (MGL) Library,Story Time
ATTACH;FMTTYPE=image/png:https://rclstn.org/wp-content/uploads/2025/10/MGL-Jan-Storytimes-Flyer.png
ORGANIZER;CN="Maddie":MAILTO:mhicks@rclstn.org
END:VEVENT
BEGIN:VEVENT
DTSTART;TZID=America/Chicago:20260218T150000
DTEND;TZID=America/Chicago:20260218T152500
DTSTAMP:20260422T225723
CREATED:20251231T002828Z
LAST-MODIFIED:20251231T002830Z
UID:10011064-1771426800-1771428300@rclstn.org
SUMMARY:STEAM Lab at MGL Library
DESCRIPTION:Enjoy hands on activities to engage your curiosity and creativity that spans science\, technology\, engineering\, art\, and math! All ages are welcome.
URL:https://rclstn.org/event/s-t-e-a-m-lab-38-2-2-2/2026-02-18/
LOCATION:MGL\, 521 Dr. Martin Luther King Blvd\, Murfreesboro\, TN\, 37130\, United States
CATEGORIES:Kids and Family,MGL Youth Services,Myrtle-Glanton Lord (MGL) Library,STEM
ATTACH;FMTTYPE=image/png:https://rclstn.org/wp-content/uploads/2025/07/MGL_January-STEAM_Social.png
ORGANIZER;CN="Maddie":MAILTO:mhicks@rclstn.org
END:VEVENT
BEGIN:VEVENT
DTSTART;TZID=America/Chicago:20260217T100000
DTEND;TZID=America/Chicago:20260217T110000
DTSTAMP:20260422T225723
CREATED:20260217T160824Z
LAST-MODIFIED:20260406T165903Z
UID:10022521-1771322400-1771326000@rclstn.org
SUMMARY:Storybook Stompers at MGL Library
DESCRIPTION:Join us for Storybook Stompers at MGL Library! Every Monday and Tuesday at 10am\, be ready to get moving\, shake out your sillies\, and listen to a story! \nMGL Library is located inside of Patterson Park Community Center.
URL:https://rclstn.org/event/storybook-stompers-at-mgl-library-2-2-2/2026-02-17/
LOCATION:MGL\, 521 Dr. Martin Luther King Blvd\, Murfreesboro\, TN\, 37130\, United States
CATEGORIES:Kids and Family,MGL Youth Services,Myrtle-Glanton Lord (MGL) Library,Story Time
ATTACH;FMTTYPE=image/png:https://rclstn.org/wp-content/uploads/2025/12/mgl_Storybook-Stompers_2026-1.png
END:VEVENT
BEGIN:VEVENT
DTSTART;TZID=America/Chicago:20260213T100000
DTEND;TZID=America/Chicago:20260213T103000
DTSTAMP:20260422T225723
CREATED:20251230T225422Z
LAST-MODIFIED:20251230T225422Z
UID:10015450-1770976800-1770978600@rclstn.org
SUMMARY:Storytime at MGL Library
DESCRIPTION:Join us for stories\, songs\, and a craft every Friday morning at 10 am in MGL’s STEAM Room! All ages are welcome. \nMGL Library is located inside of Patterson Park Community Center.
URL:https://rclstn.org/event/mgl-storytime-4-2-2-2-2-2/2026-02-13/
LOCATION:MGL\, 521 Dr. Martin Luther King Blvd\, Murfreesboro\, TN\, 37130\, United States
CATEGORIES:Kids and Family,MGL Youth Services,Myrtle-Glanton Lord (MGL) Library,Story Time
ATTACH;FMTTYPE=image/png:https://rclstn.org/wp-content/uploads/2025/10/MGL-Jan-Storytimes-Flyer.png
ORGANIZER;CN="Maddie":MAILTO:mhicks@rclstn.org
END:VEVENT
BEGIN:VEVENT
DTSTART;TZID=America/Chicago:20260212T150000
DTEND;TZID=America/Chicago:20260212T160000
DTSTAMP:20260422T225723
CREATED:20260123T152128Z
LAST-MODIFIED:20260123T152128Z
UID:10023759-1770908400-1770912000@rclstn.org
SUMMARY:After School Book Club at MGL Library
DESCRIPTION:Read something cool lately? Join us for After School Book Club\, a new youth book group at MGL Library! Kids of all ages are invited to come relax\, talk about what they’re reading and meet new friends along the way! On Thursday\, February 12th\, we will be discussing any book with a red cover!\n\n\nMGL Library is located inside of Patterson Park Community Center.
URL:https://rclstn.org/event/after-school-book-club-at-mgl-library-2/
LOCATION:MGL\, 521 Dr. Martin Luther King Blvd\, Murfreesboro\, TN\, 37130\, United States
CATEGORIES:Book Group,Kids and Family,MGL Youth Services,Myrtle-Glanton Lord (MGL) Library,Tween/Teen
ATTACH;FMTTYPE=image/png:https://rclstn.org/wp-content/uploads/2026/01/MGL_Afterschool-Book-Club_FEB-26.png
END:VEVENT
BEGIN:VEVENT
DTSTART;TZID=America/Chicago:20260211T150000
DTEND;TZID=America/Chicago:20260211T152500
DTSTAMP:20260422T225723
CREATED:20251231T002828Z
LAST-MODIFIED:20251231T002830Z
UID:10011063-1770822000-1770823500@rclstn.org
SUMMARY:STEAM Lab at MGL Library
DESCRIPTION:Enjoy hands on activities to engage your curiosity and creativity that spans science\, technology\, engineering\, art\, and math! All ages are welcome.
URL:https://rclstn.org/event/s-t-e-a-m-lab-38-2-2-2/2026-02-11/
LOCATION:MGL\, 521 Dr. Martin Luther King Blvd\, Murfreesboro\, TN\, 37130\, United States
CATEGORIES:Kids and Family,MGL Youth Services,Myrtle-Glanton Lord (MGL) Library,STEM
ATTACH;FMTTYPE=image/png:https://rclstn.org/wp-content/uploads/2025/07/MGL_January-STEAM_Social.png
ORGANIZER;CN="Maddie":MAILTO:mhicks@rclstn.org
END:VEVENT
BEGIN:VEVENT
DTSTART;TZID=America/Chicago:20260210T144500
DTEND;TZID=America/Chicago:20260210T154500
DTSTAMP:20260422T225723
CREATED:20251230T225928Z
LAST-MODIFIED:20251230T225929Z
UID:10022435-1770734700-1770738300@rclstn.org
SUMMARY:READing with Lucas at MGL Library
DESCRIPTION:Join us for READing with Lucas every Tuesday at 1pm at MGL Library! Lucas loves pets and belly rubs- and having a story read to him! Sign up by calling or visiting the library. All ages are welcome! \nMGL Library is proud to participate in the Reading Education Assistance Dogs (R.E.A.D) READing Paws Program. This program is dedicated to improving the reading skills of children using registered therapy teams as literacy mentors. \nMGL Library is located inside of Patterson Park Community Center.
URL:https://rclstn.org/event/reading-with-lucas-at-mgl-library-2/2026-02-10/
LOCATION:MGL\, 521 Dr. Martin Luther King Blvd\, Murfreesboro\, TN\, 37130\, United States
CATEGORIES:Book Group,MGL Youth Services,Myrtle-Glanton Lord (MGL) Library,Story Time
ATTACH;FMTTYPE=image/png:https://rclstn.org/wp-content/uploads/2025/08/MGL_Read-with-Lucas_2026.png
END:VEVENT
END:VCALENDAR