BEGIN:VCALENDAR
VERSION:2.0
PRODID:-//RCLS+ - ECPv6.15.20//NONSGML v1.0//EN
CALSCALE:GREGORIAN
METHOD:PUBLISH
X-WR-CALNAME:RCLS+
X-ORIGINAL-URL:https://rclstn.org
X-WR-CALDESC:Events for RCLS+
REFRESH-INTERVAL;VALUE=DURATION:PT1H
X-Robots-Tag:noindex
X-PUBLISHED-TTL:PT1H
BEGIN:VTIMEZONE
TZID:America/Chicago
BEGIN:DAYLIGHT
TZOFFSETFROM:-0600
TZOFFSETTO:-0500
TZNAME:CDT
DTSTART:20250309T080000
END:DAYLIGHT
BEGIN:STANDARD
TZOFFSETFROM:-0500
TZOFFSETTO:-0600
TZNAME:CST
DTSTART:20251102T070000
END:STANDARD
BEGIN:DAYLIGHT
TZOFFSETFROM:-0600
TZOFFSETTO:-0500
TZNAME:CDT
DTSTART:20260308T080000
END:DAYLIGHT
BEGIN:STANDARD
TZOFFSETFROM:-0500
TZOFFSETTO:-0600
TZNAME:CST
DTSTART:20261101T070000
END:STANDARD
BEGIN:DAYLIGHT
TZOFFSETFROM:-0600
TZOFFSETTO:-0500
TZNAME:CDT
DTSTART:20270314T080000
END:DAYLIGHT
BEGIN:STANDARD
TZOFFSETFROM:-0500
TZOFFSETTO:-0600
TZNAME:CST
DTSTART:20271107T070000
END:STANDARD
END:VTIMEZONE
BEGIN:VEVENT
DTSTART;VALUE=DATE:20260202
DTEND;VALUE=DATE:20260315
DTSTAMP:20260422T222116
CREATED:20260116T191556Z
LAST-MODIFIED:20260116T191817Z
UID:10023642-1769990400-1773532799@rclstn.org
SUMMARY:MGL Winter Reading Bingo!
DESCRIPTION:Have you heard? MGL Library has Winter Reading Bingo! From February 2nd through March 14th\, you can complete 6 unique\, fun reading challenges by reading 6 different books. Challenges like… “Read a book with a blue cover”\, “Read a book with a friend”\, “Read a book set in space”\, and so many more! Over the course of 6 weeks\, complete your reading challenges by March 14th and turn in your Bingo board at MGL to claim your prize! This reading challenge is meant to encourage literacy and life-long reading habits. By reading 30 minutes a day\, every day\, you are setting yourself up for success! \n\nYou can pick up a Bingo board at MGL starting Monday\, January 26th!\nParticipants who complete any 6 reading challenges from their board will receive a Winter Reading Completion Prize and one Grand Prize entry.\nBring your completed Bingo Board back to MGL Library claim your prize!\nFor additional Grand Prize drawing entries\, complete additional reading challenges from your Bingo board! One prize entry per challenge.\n\nBingo Boards must be picked up and returned at MGL Library inside Patterson Park Community Center.
URL:https://rclstn.org/event/mgl-winter-reading-bingo/
LOCATION:MGL\, 521 Dr. Martin Luther King Blvd\, Murfreesboro\, TN\, 37130\, United States
CATEGORIES:Adult,Family,Kids and Family,MGL Youth Services,Myrtle-Glanton Lord (MGL) Library
ATTACH;FMTTYPE=image/png:https://rclstn.org/wp-content/uploads/2026/01/MGL-WRP_Social-1.png
END:VEVENT
BEGIN:VEVENT
DTSTART;TZID=America/Chicago:20260206T100000
DTEND;TZID=America/Chicago:20260206T103000
DTSTAMP:20260422T222116
CREATED:20251230T225422Z
LAST-MODIFIED:20251230T225422Z
UID:10015449-1770372000-1770373800@rclstn.org
SUMMARY:Storytime at MGL Library
DESCRIPTION:Join us for stories\, songs\, and a craft every Friday morning at 10 am in MGL’s STEAM Room! All ages are welcome. \nMGL Library is located inside of Patterson Park Community Center.
URL:https://rclstn.org/event/mgl-storytime-4-2-2-2-2-2/2026-02-06/
LOCATION:MGL\, 521 Dr. Martin Luther King Blvd\, Murfreesboro\, TN\, 37130\, United States
CATEGORIES:Kids and Family,MGL Youth Services,Myrtle-Glanton Lord (MGL) Library,Story Time
ATTACH;FMTTYPE=image/png:https://rclstn.org/wp-content/uploads/2025/10/MGL-Jan-Storytimes-Flyer.png
ORGANIZER;CN="Maddie":MAILTO:mhicks@rclstn.org
END:VEVENT
BEGIN:VEVENT
DTSTART;TZID=America/Chicago:20260206T173000
DTEND;TZID=America/Chicago:20260206T190000
DTSTAMP:20260422T222117
CREATED:20260121T170746Z
LAST-MODIFIED:20260130T162327Z
UID:10023724-1770399000-1770404400@rclstn.org
SUMMARY:Books and Brushes at MGL Library
DESCRIPTION:THIS IS A RESCHEDULED EVENT\, originally scheduled for Friday\, January 30th! \nJoin us for Books and Brushes at MGL Library! This month\, we will be painting a Wintery Night landscape! We will meet Friday\, February 6th at 5:30pm. This is an after-hours event! \nAges 16+. It is $2 to register (cash only)\, and registration is open now. Visit the library in-person to pay this small fee for a great night!
URL:https://rclstn.org/event/books-and-brushes-at-mgl-library-4/
LOCATION:MGL\, 521 Dr. Martin Luther King Blvd\, Murfreesboro\, TN\, 37130\, United States
CATEGORIES:Adult,Arts and Crafts,Class,Myrtle-Glanton Lord (MGL) Library,Teen/Adult
ATTACH;FMTTYPE=image/png:https://rclstn.org/wp-content/uploads/2026/01/MGL_booksbrushes_jan-26-2.png
END:VEVENT
END:VCALENDAR