BEGIN:VCALENDAR
VERSION:2.0
PRODID:-//RCLS+ - ECPv6.15.20//NONSGML v1.0//EN
CALSCALE:GREGORIAN
METHOD:PUBLISH
X-ORIGINAL-URL:https://rclstn.org
X-WR-CALDESC:Events for RCLS+
REFRESH-INTERVAL;VALUE=DURATION:PT1H
X-Robots-Tag:noindex
X-PUBLISHED-TTL:PT1H
BEGIN:VTIMEZONE
TZID:America/Chicago
BEGIN:DAYLIGHT
TZOFFSETFROM:-0600
TZOFFSETTO:-0500
TZNAME:CDT
DTSTART:20250309T080000
END:DAYLIGHT
BEGIN:STANDARD
TZOFFSETFROM:-0500
TZOFFSETTO:-0600
TZNAME:CST
DTSTART:20251102T070000
END:STANDARD
BEGIN:DAYLIGHT
TZOFFSETFROM:-0600
TZOFFSETTO:-0500
TZNAME:CDT
DTSTART:20260308T080000
END:DAYLIGHT
BEGIN:STANDARD
TZOFFSETFROM:-0500
TZOFFSETTO:-0600
TZNAME:CST
DTSTART:20261101T070000
END:STANDARD
BEGIN:DAYLIGHT
TZOFFSETFROM:-0600
TZOFFSETTO:-0500
TZNAME:CDT
DTSTART:20270314T080000
END:DAYLIGHT
BEGIN:STANDARD
TZOFFSETFROM:-0500
TZOFFSETTO:-0600
TZNAME:CST
DTSTART:20271107T070000
END:STANDARD
END:VTIMEZONE
BEGIN:VEVENT
DTSTART;VALUE=DATE:20260202
DTEND;VALUE=DATE:20260315
DTSTAMP:20260422T182417
CREATED:20260116T191556Z
LAST-MODIFIED:20260116T191817Z
UID:10023642-1769990400-1773532799@rclstn.org
SUMMARY:MGL Winter Reading Bingo!
DESCRIPTION:Have you heard? MGL Library has Winter Reading Bingo! From February 2nd through March 14th\, you can complete 6 unique\, fun reading challenges by reading 6 different books. Challenges like… “Read a book with a blue cover”\, “Read a book with a friend”\, “Read a book set in space”\, and so many more! Over the course of 6 weeks\, complete your reading challenges by March 14th and turn in your Bingo board at MGL to claim your prize! This reading challenge is meant to encourage literacy and life-long reading habits. By reading 30 minutes a day\, every day\, you are setting yourself up for success! \n\nYou can pick up a Bingo board at MGL starting Monday\, January 26th!\nParticipants who complete any 6 reading challenges from their board will receive a Winter Reading Completion Prize and one Grand Prize entry.\nBring your completed Bingo Board back to MGL Library claim your prize!\nFor additional Grand Prize drawing entries\, complete additional reading challenges from your Bingo board! One prize entry per challenge.\n\nBingo Boards must be picked up and returned at MGL Library inside Patterson Park Community Center.
URL:https://rclstn.org/event/mgl-winter-reading-bingo/
LOCATION:MGL\, 521 Dr. Martin Luther King Blvd\, Murfreesboro\, TN\, 37130\, United States
CATEGORIES:Adult,Family,Kids and Family,MGL Youth Services,Myrtle-Glanton Lord (MGL) Library
ATTACH;FMTTYPE=image/png:https://rclstn.org/wp-content/uploads/2026/01/MGL-WRP_Social-1.png
END:VEVENT
BEGIN:VEVENT
DTSTART;TZID=America/Chicago:20260203T144500
DTEND;TZID=America/Chicago:20260203T154500
DTSTAMP:20260422T182417
CREATED:20251230T225928Z
LAST-MODIFIED:20251230T225929Z
UID:10022434-1770129900-1770133500@rclstn.org
SUMMARY:READing with Lucas at MGL Library
DESCRIPTION:Join us for READing with Lucas every Tuesday at 1pm at MGL Library! Lucas loves pets and belly rubs- and having a story read to him! Sign up by calling or visiting the library. All ages are welcome! \nMGL Library is proud to participate in the Reading Education Assistance Dogs (R.E.A.D) READing Paws Program. This program is dedicated to improving the reading skills of children using registered therapy teams as literacy mentors. \nMGL Library is located inside of Patterson Park Community Center.
URL:https://rclstn.org/event/reading-with-lucas-at-mgl-library-2/2026-02-03/
LOCATION:MGL\, 521 Dr. Martin Luther King Blvd\, Murfreesboro\, TN\, 37130\, United States
CATEGORIES:Book Group,MGL Youth Services,Myrtle-Glanton Lord (MGL) Library,Story Time
ATTACH;FMTTYPE=image/png:https://rclstn.org/wp-content/uploads/2025/08/MGL_Read-with-Lucas_2026.png
END:VEVENT
BEGIN:VEVENT
DTSTART;TZID=America/Chicago:20260204T150000
DTEND;TZID=America/Chicago:20260204T152500
DTSTAMP:20260422T182417
CREATED:20251231T002828Z
LAST-MODIFIED:20251231T002830Z
UID:10011062-1770217200-1770218700@rclstn.org
SUMMARY:STEAM Lab at MGL Library
DESCRIPTION:Enjoy hands on activities to engage your curiosity and creativity that spans science\, technology\, engineering\, art\, and math! All ages are welcome.
URL:https://rclstn.org/event/s-t-e-a-m-lab-38-2-2-2/2026-02-04/
LOCATION:MGL\, 521 Dr. Martin Luther King Blvd\, Murfreesboro\, TN\, 37130\, United States
CATEGORIES:Kids and Family,MGL Youth Services,Myrtle-Glanton Lord (MGL) Library,STEM
ATTACH;FMTTYPE=image/png:https://rclstn.org/wp-content/uploads/2025/07/MGL_January-STEAM_Social.png
ORGANIZER;CN="Maddie":MAILTO:mhicks@rclstn.org
END:VEVENT
BEGIN:VEVENT
DTSTART;TZID=America/Chicago:20260206T100000
DTEND;TZID=America/Chicago:20260206T103000
DTSTAMP:20260422T182417
CREATED:20251230T225422Z
LAST-MODIFIED:20251230T225422Z
UID:10015449-1770372000-1770373800@rclstn.org
SUMMARY:Storytime at MGL Library
DESCRIPTION:Join us for stories\, songs\, and a craft every Friday morning at 10 am in MGL’s STEAM Room! All ages are welcome. \nMGL Library is located inside of Patterson Park Community Center.
URL:https://rclstn.org/event/mgl-storytime-4-2-2-2-2-2/2026-02-06/
LOCATION:MGL\, 521 Dr. Martin Luther King Blvd\, Murfreesboro\, TN\, 37130\, United States
CATEGORIES:Kids and Family,MGL Youth Services,Myrtle-Glanton Lord (MGL) Library,Story Time
ATTACH;FMTTYPE=image/png:https://rclstn.org/wp-content/uploads/2025/10/MGL-Jan-Storytimes-Flyer.png
ORGANIZER;CN="Maddie":MAILTO:mhicks@rclstn.org
END:VEVENT
BEGIN:VEVENT
DTSTART;TZID=America/Chicago:20260206T173000
DTEND;TZID=America/Chicago:20260206T190000
DTSTAMP:20260422T182417
CREATED:20260121T170746Z
LAST-MODIFIED:20260130T162327Z
UID:10023724-1770399000-1770404400@rclstn.org
SUMMARY:Books and Brushes at MGL Library
DESCRIPTION:THIS IS A RESCHEDULED EVENT\, originally scheduled for Friday\, January 30th! \nJoin us for Books and Brushes at MGL Library! This month\, we will be painting a Wintery Night landscape! We will meet Friday\, February 6th at 5:30pm. This is an after-hours event! \nAges 16+. It is $2 to register (cash only)\, and registration is open now. Visit the library in-person to pay this small fee for a great night!
URL:https://rclstn.org/event/books-and-brushes-at-mgl-library-4/
LOCATION:MGL\, 521 Dr. Martin Luther King Blvd\, Murfreesboro\, TN\, 37130\, United States
CATEGORIES:Adult,Arts and Crafts,Class,Myrtle-Glanton Lord (MGL) Library,Teen/Adult
ATTACH;FMTTYPE=image/png:https://rclstn.org/wp-content/uploads/2026/01/MGL_booksbrushes_jan-26-2.png
END:VEVENT
BEGIN:VEVENT
DTSTART;TZID=America/Chicago:20260210T144500
DTEND;TZID=America/Chicago:20260210T154500
DTSTAMP:20260422T182417
CREATED:20251230T225928Z
LAST-MODIFIED:20251230T225929Z
UID:10022435-1770734700-1770738300@rclstn.org
SUMMARY:READing with Lucas at MGL Library
DESCRIPTION:Join us for READing with Lucas every Tuesday at 1pm at MGL Library! Lucas loves pets and belly rubs- and having a story read to him! Sign up by calling or visiting the library. All ages are welcome! \nMGL Library is proud to participate in the Reading Education Assistance Dogs (R.E.A.D) READing Paws Program. This program is dedicated to improving the reading skills of children using registered therapy teams as literacy mentors. \nMGL Library is located inside of Patterson Park Community Center.
URL:https://rclstn.org/event/reading-with-lucas-at-mgl-library-2/2026-02-10/
LOCATION:MGL\, 521 Dr. Martin Luther King Blvd\, Murfreesboro\, TN\, 37130\, United States
CATEGORIES:Book Group,MGL Youth Services,Myrtle-Glanton Lord (MGL) Library,Story Time
ATTACH;FMTTYPE=image/png:https://rclstn.org/wp-content/uploads/2025/08/MGL_Read-with-Lucas_2026.png
END:VEVENT
BEGIN:VEVENT
DTSTART;TZID=America/Chicago:20260211T150000
DTEND;TZID=America/Chicago:20260211T152500
DTSTAMP:20260422T182417
CREATED:20251231T002828Z
LAST-MODIFIED:20251231T002830Z
UID:10011063-1770822000-1770823500@rclstn.org
SUMMARY:STEAM Lab at MGL Library
DESCRIPTION:Enjoy hands on activities to engage your curiosity and creativity that spans science\, technology\, engineering\, art\, and math! All ages are welcome.
URL:https://rclstn.org/event/s-t-e-a-m-lab-38-2-2-2/2026-02-11/
LOCATION:MGL\, 521 Dr. Martin Luther King Blvd\, Murfreesboro\, TN\, 37130\, United States
CATEGORIES:Kids and Family,MGL Youth Services,Myrtle-Glanton Lord (MGL) Library,STEM
ATTACH;FMTTYPE=image/png:https://rclstn.org/wp-content/uploads/2025/07/MGL_January-STEAM_Social.png
ORGANIZER;CN="Maddie":MAILTO:mhicks@rclstn.org
END:VEVENT
BEGIN:VEVENT
DTSTART;TZID=America/Chicago:20260212T150000
DTEND;TZID=America/Chicago:20260212T160000
DTSTAMP:20260422T182417
CREATED:20260123T152128Z
LAST-MODIFIED:20260123T152128Z
UID:10023759-1770908400-1770912000@rclstn.org
SUMMARY:After School Book Club at MGL Library
DESCRIPTION:Read something cool lately? Join us for After School Book Club\, a new youth book group at MGL Library! Kids of all ages are invited to come relax\, talk about what they’re reading and meet new friends along the way! On Thursday\, February 12th\, we will be discussing any book with a red cover!\n\n\nMGL Library is located inside of Patterson Park Community Center.
URL:https://rclstn.org/event/after-school-book-club-at-mgl-library-2/
LOCATION:MGL\, 521 Dr. Martin Luther King Blvd\, Murfreesboro\, TN\, 37130\, United States
CATEGORIES:Book Group,Kids and Family,MGL Youth Services,Myrtle-Glanton Lord (MGL) Library,Tween/Teen
ATTACH;FMTTYPE=image/png:https://rclstn.org/wp-content/uploads/2026/01/MGL_Afterschool-Book-Club_FEB-26.png
END:VEVENT
BEGIN:VEVENT
DTSTART;TZID=America/Chicago:20260213T100000
DTEND;TZID=America/Chicago:20260213T103000
DTSTAMP:20260422T182417
CREATED:20251230T225422Z
LAST-MODIFIED:20251230T225422Z
UID:10015450-1770976800-1770978600@rclstn.org
SUMMARY:Storytime at MGL Library
DESCRIPTION:Join us for stories\, songs\, and a craft every Friday morning at 10 am in MGL’s STEAM Room! All ages are welcome. \nMGL Library is located inside of Patterson Park Community Center.
URL:https://rclstn.org/event/mgl-storytime-4-2-2-2-2-2/2026-02-13/
LOCATION:MGL\, 521 Dr. Martin Luther King Blvd\, Murfreesboro\, TN\, 37130\, United States
CATEGORIES:Kids and Family,MGL Youth Services,Myrtle-Glanton Lord (MGL) Library,Story Time
ATTACH;FMTTYPE=image/png:https://rclstn.org/wp-content/uploads/2025/10/MGL-Jan-Storytimes-Flyer.png
ORGANIZER;CN="Maddie":MAILTO:mhicks@rclstn.org
END:VEVENT
BEGIN:VEVENT
DTSTART;TZID=America/Chicago:20260217T100000
DTEND;TZID=America/Chicago:20260217T110000
DTSTAMP:20260422T182417
CREATED:20260123T152239Z
LAST-MODIFIED:20260123T152239Z
UID:10023762-1771322400-1771326000@rclstn.org
SUMMARY:Microsoft Office Hour @ Myrtle Glanton Lord
DESCRIPTION:Need some help with Excel? Want to refresh your Word skills? Have a big PowerPoint Presentation? Come to Microsoft Office Hour for some one on one help!
URL:https://rclstn.org/event/microsoft-office-hour-myrtle-glanton-lord/
LOCATION:MGL\, 521 Dr. Martin Luther King Blvd\, Murfreesboro\, TN\, 37130\, United States
CATEGORIES:Computer/Tech Classes,Myrtle-Glanton Lord (MGL) Library
ATTACH;FMTTYPE=image/png:https://rclstn.org/wp-content/uploads/2026/01/12.png
ORGANIZER;CN="Trey":MAILTO:tgwinn@rclstn.org
END:VEVENT
BEGIN:VEVENT
DTSTART;TZID=America/Chicago:20260217T100000
DTEND;TZID=America/Chicago:20260217T110000
DTSTAMP:20260422T182417
CREATED:20260217T160824Z
LAST-MODIFIED:20260406T165903Z
UID:10022521-1771322400-1771326000@rclstn.org
SUMMARY:Storybook Stompers at MGL Library
DESCRIPTION:Join us for Storybook Stompers at MGL Library! Every Monday and Tuesday at 10am\, be ready to get moving\, shake out your sillies\, and listen to a story! \nMGL Library is located inside of Patterson Park Community Center.
URL:https://rclstn.org/event/storybook-stompers-at-mgl-library-2-2-2/2026-02-17/
LOCATION:MGL\, 521 Dr. Martin Luther King Blvd\, Murfreesboro\, TN\, 37130\, United States
CATEGORIES:Kids and Family,MGL Youth Services,Myrtle-Glanton Lord (MGL) Library,Story Time
ATTACH;FMTTYPE=image/png:https://rclstn.org/wp-content/uploads/2025/12/mgl_Storybook-Stompers_2026-1.png
END:VEVENT
BEGIN:VEVENT
DTSTART;TZID=America/Chicago:20260218T150000
DTEND;TZID=America/Chicago:20260218T152500
DTSTAMP:20260422T182417
CREATED:20251231T002828Z
LAST-MODIFIED:20251231T002830Z
UID:10011064-1771426800-1771428300@rclstn.org
SUMMARY:STEAM Lab at MGL Library
DESCRIPTION:Enjoy hands on activities to engage your curiosity and creativity that spans science\, technology\, engineering\, art\, and math! All ages are welcome.
URL:https://rclstn.org/event/s-t-e-a-m-lab-38-2-2-2/2026-02-18/
LOCATION:MGL\, 521 Dr. Martin Luther King Blvd\, Murfreesboro\, TN\, 37130\, United States
CATEGORIES:Kids and Family,MGL Youth Services,Myrtle-Glanton Lord (MGL) Library,STEM
ATTACH;FMTTYPE=image/png:https://rclstn.org/wp-content/uploads/2025/07/MGL_January-STEAM_Social.png
ORGANIZER;CN="Maddie":MAILTO:mhicks@rclstn.org
END:VEVENT
BEGIN:VEVENT
DTSTART;TZID=America/Chicago:20260220T100000
DTEND;TZID=America/Chicago:20260220T103000
DTSTAMP:20260422T182417
CREATED:20251230T225422Z
LAST-MODIFIED:20251230T225422Z
UID:10015451-1771581600-1771583400@rclstn.org
SUMMARY:Storytime at MGL Library
DESCRIPTION:Join us for stories\, songs\, and a craft every Friday morning at 10 am in MGL’s STEAM Room! All ages are welcome. \nMGL Library is located inside of Patterson Park Community Center.
URL:https://rclstn.org/event/mgl-storytime-4-2-2-2-2-2/2026-02-20/
LOCATION:MGL\, 521 Dr. Martin Luther King Blvd\, Murfreesboro\, TN\, 37130\, United States
CATEGORIES:Kids and Family,MGL Youth Services,Myrtle-Glanton Lord (MGL) Library,Story Time
ATTACH;FMTTYPE=image/png:https://rclstn.org/wp-content/uploads/2025/10/MGL-Jan-Storytimes-Flyer.png
ORGANIZER;CN="Maddie":MAILTO:mhicks@rclstn.org
END:VEVENT
BEGIN:VEVENT
DTSTART;TZID=America/Chicago:20260220T173000
DTEND;TZID=America/Chicago:20260220T190000
DTSTAMP:20260422T182417
CREATED:20260211T152826Z
LAST-MODIFIED:20260211T152826Z
UID:10023872-1771608600-1771614000@rclstn.org
SUMMARY:Books and Brushes at MGL Library
DESCRIPTION:Join us for Books and Brushes at MGL Library! This month\, we will be painting Love is in the Air! We will meet Friday\, February 20th at 5:30pm. This is an after-hours event! \nAges 16+. It is $2 to register (cash only)\, and registration is open now. Visit the library in-person to pay this small fee for a great night!
URL:https://rclstn.org/event/books-and-brushes-at-mgl-library-5/
LOCATION:MGL\, 521 Dr. Martin Luther King Blvd\, Murfreesboro\, TN\, 37130\, United States
CATEGORIES:Adult,Arts and Crafts,Class,Myrtle-Glanton Lord (MGL) Library,Teen/Adult
ATTACH;FMTTYPE=image/png:https://rclstn.org/wp-content/uploads/2026/02/MGL_booksbrushes_Feb-26.png
END:VEVENT
BEGIN:VEVENT
DTSTART;TZID=America/Chicago:20260223T100000
DTEND;TZID=America/Chicago:20260223T110000
DTSTAMP:20260422T182417
CREATED:20260217T160824Z
LAST-MODIFIED:20260406T165903Z
UID:10022522-1771840800-1771844400@rclstn.org
SUMMARY:Storybook Stompers at MGL Library
DESCRIPTION:Join us for Storybook Stompers at MGL Library! Every Monday and Tuesday at 10am\, be ready to get moving\, shake out your sillies\, and listen to a story! \nMGL Library is located inside of Patterson Park Community Center.
URL:https://rclstn.org/event/storybook-stompers-at-mgl-library-2-2-2/2026-02-23/
LOCATION:MGL\, 521 Dr. Martin Luther King Blvd\, Murfreesboro\, TN\, 37130\, United States
CATEGORIES:Kids and Family,MGL Youth Services,Myrtle-Glanton Lord (MGL) Library,Story Time
ATTACH;FMTTYPE=image/png:https://rclstn.org/wp-content/uploads/2025/12/mgl_Storybook-Stompers_2026-1.png
END:VEVENT
BEGIN:VEVENT
DTSTART;TZID=America/Chicago:20260224T100000
DTEND;TZID=America/Chicago:20260224T110000
DTSTAMP:20260422T182418
CREATED:20260217T160824Z
LAST-MODIFIED:20260406T165903Z
UID:10022523-1771927200-1771930800@rclstn.org
SUMMARY:Storybook Stompers at MGL Library
DESCRIPTION:Join us for Storybook Stompers at MGL Library! Every Monday and Tuesday at 10am\, be ready to get moving\, shake out your sillies\, and listen to a story! \nMGL Library is located inside of Patterson Park Community Center.
URL:https://rclstn.org/event/storybook-stompers-at-mgl-library-2-2-2/2026-02-24/
LOCATION:MGL\, 521 Dr. Martin Luther King Blvd\, Murfreesboro\, TN\, 37130\, United States
CATEGORIES:Kids and Family,MGL Youth Services,Myrtle-Glanton Lord (MGL) Library,Story Time
ATTACH;FMTTYPE=image/png:https://rclstn.org/wp-content/uploads/2025/12/mgl_Storybook-Stompers_2026-1.png
END:VEVENT
BEGIN:VEVENT
DTSTART;TZID=America/Chicago:20260224T144500
DTEND;TZID=America/Chicago:20260224T154500
DTSTAMP:20260422T182418
CREATED:20251230T225928Z
LAST-MODIFIED:20251230T225929Z
UID:10022437-1771944300-1771947900@rclstn.org
SUMMARY:READing with Lucas at MGL Library
DESCRIPTION:Join us for READing with Lucas every Tuesday at 1pm at MGL Library! Lucas loves pets and belly rubs- and having a story read to him! Sign up by calling or visiting the library. All ages are welcome! \nMGL Library is proud to participate in the Reading Education Assistance Dogs (R.E.A.D) READing Paws Program. This program is dedicated to improving the reading skills of children using registered therapy teams as literacy mentors. \nMGL Library is located inside of Patterson Park Community Center.
URL:https://rclstn.org/event/reading-with-lucas-at-mgl-library-2/2026-02-24/
LOCATION:MGL\, 521 Dr. Martin Luther King Blvd\, Murfreesboro\, TN\, 37130\, United States
CATEGORIES:Book Group,MGL Youth Services,Myrtle-Glanton Lord (MGL) Library,Story Time
ATTACH;FMTTYPE=image/png:https://rclstn.org/wp-content/uploads/2025/08/MGL_Read-with-Lucas_2026.png
END:VEVENT
BEGIN:VEVENT
DTSTART;TZID=America/Chicago:20260225T150000
DTEND;TZID=America/Chicago:20260225T152500
DTSTAMP:20260422T182418
CREATED:20251231T002828Z
LAST-MODIFIED:20251231T002830Z
UID:10011065-1772031600-1772033100@rclstn.org
SUMMARY:STEAM Lab at MGL Library
DESCRIPTION:Enjoy hands on activities to engage your curiosity and creativity that spans science\, technology\, engineering\, art\, and math! All ages are welcome.
URL:https://rclstn.org/event/s-t-e-a-m-lab-38-2-2-2/2026-02-25/
LOCATION:MGL\, 521 Dr. Martin Luther King Blvd\, Murfreesboro\, TN\, 37130\, United States
CATEGORIES:Kids and Family,MGL Youth Services,Myrtle-Glanton Lord (MGL) Library,STEM
ATTACH;FMTTYPE=image/png:https://rclstn.org/wp-content/uploads/2025/07/MGL_January-STEAM_Social.png
ORGANIZER;CN="Maddie":MAILTO:mhicks@rclstn.org
END:VEVENT
BEGIN:VEVENT
DTSTART;TZID=America/Chicago:20260227T100000
DTEND;TZID=America/Chicago:20260227T103000
DTSTAMP:20260422T182418
CREATED:20251230T225422Z
LAST-MODIFIED:20251230T225422Z
UID:10015452-1772186400-1772188200@rclstn.org
SUMMARY:Storytime at MGL Library
DESCRIPTION:Join us for stories\, songs\, and a craft every Friday morning at 10 am in MGL’s STEAM Room! All ages are welcome. \nMGL Library is located inside of Patterson Park Community Center.
URL:https://rclstn.org/event/mgl-storytime-4-2-2-2-2-2/2026-02-27/
LOCATION:MGL\, 521 Dr. Martin Luther King Blvd\, Murfreesboro\, TN\, 37130\, United States
CATEGORIES:Kids and Family,MGL Youth Services,Myrtle-Glanton Lord (MGL) Library,Story Time
ATTACH;FMTTYPE=image/png:https://rclstn.org/wp-content/uploads/2025/10/MGL-Jan-Storytimes-Flyer.png
ORGANIZER;CN="Maddie":MAILTO:mhicks@rclstn.org
END:VEVENT
END:VCALENDAR