BEGIN:VCALENDAR
VERSION:2.0
PRODID:-//RCLS+ - ECPv6.15.20//NONSGML v1.0//EN
CALSCALE:GREGORIAN
METHOD:PUBLISH
X-WR-CALNAME:RCLS+
X-ORIGINAL-URL:https://rclstn.org
X-WR-CALDESC:Events for RCLS+
REFRESH-INTERVAL;VALUE=DURATION:PT1H
X-Robots-Tag:noindex
X-PUBLISHED-TTL:PT1H
BEGIN:VTIMEZONE
TZID:America/Chicago
BEGIN:DAYLIGHT
TZOFFSETFROM:-0600
TZOFFSETTO:-0500
TZNAME:CDT
DTSTART:20250309T080000
END:DAYLIGHT
BEGIN:STANDARD
TZOFFSETFROM:-0500
TZOFFSETTO:-0600
TZNAME:CST
DTSTART:20251102T070000
END:STANDARD
BEGIN:DAYLIGHT
TZOFFSETFROM:-0600
TZOFFSETTO:-0500
TZNAME:CDT
DTSTART:20260308T080000
END:DAYLIGHT
BEGIN:STANDARD
TZOFFSETFROM:-0500
TZOFFSETTO:-0600
TZNAME:CST
DTSTART:20261101T070000
END:STANDARD
BEGIN:DAYLIGHT
TZOFFSETFROM:-0600
TZOFFSETTO:-0500
TZNAME:CDT
DTSTART:20270314T080000
END:DAYLIGHT
BEGIN:STANDARD
TZOFFSETFROM:-0500
TZOFFSETTO:-0600
TZNAME:CST
DTSTART:20271107T070000
END:STANDARD
END:VTIMEZONE
BEGIN:VEVENT
DTSTART;TZID=America/Chicago:20260707T110000
DTEND;TZID=America/Chicago:20260707T120000
DTSTAMP:20260421T232910
CREATED:20260421T161750Z
LAST-MODIFIED:20260421T161750Z
UID:10025574-1783422000-1783425600@rclstn.org
SUMMARY:Lunch at Linebaugh
DESCRIPTION:Linebaugh Public Library is a summer feeding site again this summer. Children age 18 and younger may receive a free lunch every weekday from 11 am – 12 pm. Children must be present in line and eat the provided lunch while at the library.
URL:https://rclstn.org/event/lunch-at-linebaugh-2/2026-07-07/
LOCATION:Linebaugh Public Library\, 105 W Vine St\, Murfreesboro\, TN\, 37130\, United States
CATEGORIES:Kids and Family,Linebaugh Public Library,Linebaugh Youth Services
ATTACH;FMTTYPE=image/png:https://rclstn.org/wp-content/uploads/2026/04/Lunch-@-LIN-2026.png
END:VEVENT
BEGIN:VEVENT
DTSTART;TZID=America/Chicago:20260707T160000
DTEND;TZID=America/Chicago:20260707T173000
DTSTAMP:20260421T232910
CREATED:20260116T161953Z
LAST-MODIFIED:20260116T162954Z
UID:10023527-1783440000-1783445400@rclstn.org
SUMMARY:Teen BYOCC @ Linebaugh Public Library
DESCRIPTION:Come get your craft on with us every 1st Tuesday here at Linebaugh at our teen BYOCC–Bring Your Own Craft Club! We meet in the 1st floor clubroom from 4-5:30pm and welcome crafters of all proficiencies and mediums. Whether you’re a visual artist\, a jewelry maker\, a fabric artist\, or are making something totally new\, we want you to come hang out & meet other teen crafters for a chill social. \nAges 13-18 welcome. Contact Taylor at tdavis@rclstn.org for more information.
URL:https://rclstn.org/event/teen-byocc-linebaugh-public-library/2026-07-07/
LOCATION:Linebaugh Public Library\, 105 W Vine St\, Murfreesboro\, TN\, 37130\, United States
CATEGORIES:Arts and Crafts,Club,Linebaugh Public Library,Linebaugh Youth Services,Teen
ATTACH;FMTTYPE=application/pdf:https://rclstn.org/wp-content/uploads/2026/01/Teen-BYOCC-Flyer-.pdf
END:VEVENT
BEGIN:VEVENT
DTSTART;TZID=America/Chicago:20260708T110000
DTEND;TZID=America/Chicago:20260708T120000
DTSTAMP:20260421T232910
CREATED:20260421T161750Z
LAST-MODIFIED:20260421T161750Z
UID:10025575-1783508400-1783512000@rclstn.org
SUMMARY:Lunch at Linebaugh
DESCRIPTION:Linebaugh Public Library is a summer feeding site again this summer. Children age 18 and younger may receive a free lunch every weekday from 11 am – 12 pm. Children must be present in line and eat the provided lunch while at the library.
URL:https://rclstn.org/event/lunch-at-linebaugh-2/2026-07-08/
LOCATION:Linebaugh Public Library\, 105 W Vine St\, Murfreesboro\, TN\, 37130\, United States
CATEGORIES:Kids and Family,Linebaugh Public Library,Linebaugh Youth Services
ATTACH;FMTTYPE=image/png:https://rclstn.org/wp-content/uploads/2026/04/Lunch-@-LIN-2026.png
END:VEVENT
BEGIN:VEVENT
DTSTART;TZID=America/Chicago:20260708T150000
DTEND;TZID=America/Chicago:20260708T154500
DTSTAMP:20260421T232910
CREATED:20260421T160334Z
LAST-MODIFIED:20260421T160334Z
UID:10025538-1783522800-1783525500@rclstn.org
SUMMARY:All-Ages Storytime at Linebaugh
DESCRIPTION:For our “Unearth a Story” summer reading program\, we’re sharing stories about dinosaurs\, history\, and curiosity. All-Ages Storytimes are intended for children ages 2-8 and feature a mix of stories\, songs\, and puppet shows.
URL:https://rclstn.org/event/all-ages-storytime-at-linebaugh-3/2026-07-08/
LOCATION:Linebaugh Public Library\, 105 W Vine St\, Murfreesboro\, TN\, 37130\, United States
CATEGORIES:Kids and Family,Linebaugh Public Library,Linebaugh Youth Services,Story Time
END:VEVENT
BEGIN:VEVENT
DTSTART;TZID=America/Chicago:20260709T103000
DTEND;TZID=America/Chicago:20260709T110000
DTSTAMP:20260421T232911
CREATED:20260421T160715Z
LAST-MODIFIED:20260421T160715Z
UID:10025545-1783593000-1783594800@rclstn.org
SUMMARY:Itty Bitty Storytime at Linebaugh
DESCRIPTION:For our “Unearth a Story” summer reading program\, we’re sharing stories about dinosaurs\, history\, and curiosity. Itty Bitty Storytimes are intended for children ages 0-23 months and feature a mix of stories\, scarf songs\, fingerplays\, and lap bounces.
URL:https://rclstn.org/event/itty-bitty-storytime-at-linebaugh-2/2026-07-09/
LOCATION:Linebaugh Public Library\, 105 W Vine St\, Murfreesboro\, TN\, 37130\, United States
CATEGORIES:Kids and Family,Linebaugh Public Library,Linebaugh Youth Services,Story Time
END:VEVENT
BEGIN:VEVENT
DTSTART;TZID=America/Chicago:20260709T110000
DTEND;TZID=America/Chicago:20260709T120000
DTSTAMP:20260421T232911
CREATED:20260421T161750Z
LAST-MODIFIED:20260421T161750Z
UID:10025576-1783594800-1783598400@rclstn.org
SUMMARY:Lunch at Linebaugh
DESCRIPTION:Linebaugh Public Library is a summer feeding site again this summer. Children age 18 and younger may receive a free lunch every weekday from 11 am – 12 pm. Children must be present in line and eat the provided lunch while at the library.
URL:https://rclstn.org/event/lunch-at-linebaugh-2/2026-07-09/
LOCATION:Linebaugh Public Library\, 105 W Vine St\, Murfreesboro\, TN\, 37130\, United States
CATEGORIES:Kids and Family,Linebaugh Public Library,Linebaugh Youth Services
ATTACH;FMTTYPE=image/png:https://rclstn.org/wp-content/uploads/2026/04/Lunch-@-LIN-2026.png
END:VEVENT
BEGIN:VEVENT
DTSTART;TZID=America/Chicago:20260709T130000
DTEND;TZID=America/Chicago:20260709T153000
DTSTAMP:20260421T232911
CREATED:20260421T162336Z
LAST-MODIFIED:20260421T162336Z
UID:10025593-1783602000-1783611000@rclstn.org
SUMMARY:Curiosity Club at Linebaugh
DESCRIPTION:The Curiosity Club is a new play club for preschool through early elementary grades. Every Thursday afternoon we’ll set up the children’s section with toys\, games\, art supplies\, and books on a topic kids might be curious about\, and let their imaginations soar! For our “Unearth a Story” summer reading program\, most weeks will feature sensory bins\, simple art projects\, and guided Lego builds all about dinosaurs! \nThe one rule for Curiosity Club is there are NO SCREENS allowed\, so please help us keep the section screen-free during this program.
URL:https://rclstn.org/event/curiosity-club-at-linebaugh/2026-07-09/
LOCATION:Linebaugh Public Library\, 105 W Vine St\, Murfreesboro\, TN\, 37130\, United States
CATEGORIES:Arts and Crafts,Family,Kids and Family,Linebaugh Public Library,Linebaugh Youth Services,STEAM
ATTACH;FMTTYPE=image/png:https://rclstn.org/wp-content/uploads/2026/04/Curiosity-Club-SRP-2026.png
END:VEVENT
BEGIN:VEVENT
DTSTART;TZID=America/Chicago:20260709T180000
DTEND;TZID=America/Chicago:20260709T183000
DTSTAMP:20260421T232911
CREATED:20260421T161245Z
LAST-MODIFIED:20260421T161245Z
UID:10025551-1783620000-1783621800@rclstn.org
SUMMARY:Pajama Storytime at Linebaugh
DESCRIPTION:For our “Unearth a Story” summer reading program\, we’re sharing stories about dinosaurs\, history\, and curiosity. Pajama Storytimes are intended for kids of all ages with stories\, songs\, and an opportunity to relax in your PJs!
URL:https://rclstn.org/event/pajama-storytime-at-linebaugh-2/2026-07-09/
LOCATION:Linebaugh Public Library\, 105 W Vine St\, Murfreesboro\, TN\, 37130\, United States
CATEGORIES:Kids and Family,Linebaugh Public Library,Linebaugh Youth Services,Story Time
ATTACH;FMTTYPE=image/png:https://rclstn.org/wp-content/uploads/2026/04/PJ-ST-SRP-2026.png
END:VEVENT
BEGIN:VEVENT
DTSTART;TZID=America/Chicago:20260710T100000
DTEND;TZID=America/Chicago:20260710T110000
DTSTAMP:20260421T232911
CREATED:20260421T162926Z
LAST-MODIFIED:20260421T162926Z
UID:10025598-1783677600-1783681200@rclstn.org
SUMMARY:STEAM at Linebaugh
DESCRIPTION:Learn all about dinosaurs and reptiles\, archaeology\, and gardening every Friday at our summer STEAM events.
URL:https://rclstn.org/event/steam-at-linebaugh/2026-07-10/
LOCATION:Linebaugh Public Library\, 105 W Vine St\, Murfreesboro\, TN\, 37130\, United States
CATEGORIES:Kids and Family,Linebaugh Public Library,Linebaugh Youth Services,STEAM,STEM
END:VEVENT
BEGIN:VEVENT
DTSTART;TZID=America/Chicago:20260710T110000
DTEND;TZID=America/Chicago:20260710T120000
DTSTAMP:20260421T232911
CREATED:20260421T161750Z
LAST-MODIFIED:20260421T161750Z
UID:10025577-1783681200-1783684800@rclstn.org
SUMMARY:Lunch at Linebaugh
DESCRIPTION:Linebaugh Public Library is a summer feeding site again this summer. Children age 18 and younger may receive a free lunch every weekday from 11 am – 12 pm. Children must be present in line and eat the provided lunch while at the library.
URL:https://rclstn.org/event/lunch-at-linebaugh-2/2026-07-10/
LOCATION:Linebaugh Public Library\, 105 W Vine St\, Murfreesboro\, TN\, 37130\, United States
CATEGORIES:Kids and Family,Linebaugh Public Library,Linebaugh Youth Services
ATTACH;FMTTYPE=image/png:https://rclstn.org/wp-content/uploads/2026/04/Lunch-@-LIN-2026.png
END:VEVENT
BEGIN:VEVENT
DTSTART;TZID=America/Chicago:20260710T153000
DTEND;TZID=America/Chicago:20260710T163000
DTSTAMP:20260421T232911
CREATED:20251219T173729Z
LAST-MODIFIED:20251219T173807Z
UID:10022026-1783697400-1783701000@rclstn.org
SUMMARY:We're Board Too! Tween Board Game Club @ Linebaugh
DESCRIPTION:Are you board? So are we! (The tweens\, not the teens.) Kids aged 8-12 can join us every 2nd Friday of the month from 3:30-4:30pm in the 1st floor club room to play a different game; we’ve got a mix of timeless classics and new selections. Email Taylor at tdavis@rclstn.org for more information.
URL:https://rclstn.org/event/were-board-too-tween-board-game-club-linebaugh/2026-07-10/
LOCATION:Linebaugh Public Library\, 105 W Vine St\, Murfreesboro\, TN\, 37130\, United States
CATEGORIES:Club,Kids and Family,Linebaugh Public Library,Linebaugh Youth Services,Tween/Teen
ATTACH;FMTTYPE=image/png:https://rclstn.org/wp-content/uploads/2025/12/Tween-Board-Game-RCLS-Site.png
END:VEVENT
BEGIN:VEVENT
DTSTART;TZID=America/Chicago:20260711T100000
DTEND;TZID=America/Chicago:20260711T113000
DTSTAMP:20260421T232911
CREATED:20240207T220527Z
LAST-MODIFIED:20250820T151748Z
UID:10002038-1783764000-1783769400@rclstn.org
SUMMARY:READing Paws at Linebaugh
DESCRIPTION:Do you have a child who is a struggling or new reader? Does your child love to read? Does your child love dogs? We have the perfect opportunity for you here at Linebaugh! Call to register to read to a trained Reading Education Assistance Dog! The dogs love to listen to children read while being petted and cuddled! Stevie and General will be here on Mondays from 3:30-5 pm\, and Frankie will be here on the 2nd Saturday of each month 10-11:30 am.
URL:https://rclstn.org/event/reading-paws-at-linebaugh-3/2026-07-11/
LOCATION:Linebaugh Public Library\, 105 W Vine St\, Murfreesboro\, TN\, 37130\, United States
CATEGORIES:Linebaugh Youth Services
ATTACH;FMTTYPE=image/png:https://rclstn.org/wp-content/uploads/2024/02/READing-Paws-Sat-rec.png
END:VEVENT
BEGIN:VEVENT
DTSTART;TZID=America/Chicago:20260711T140000
DTEND;TZID=America/Chicago:20260711T160000
DTSTAMP:20260421T232911
CREATED:20260318T165835Z
LAST-MODIFIED:20260318T173849Z
UID:10015070-1783778400-1783785600@rclstn.org
SUMMARY:Teen Anime & Manga Club
DESCRIPTION:Join us at Linebaugh every month for a discussion of our current favorite anime and manga! We’ll be showing an anime movie once a month this summer!
URL:https://rclstn.org/event/teen-anime-manga-club-3-2-5/2026-07-11/
LOCATION:Linebaugh Public Library\, 105 W Vine St\, Murfreesboro\, TN\, 37130\, United States
CATEGORIES:Book Group,Club,Linebaugh Youth Services,Movie,Teen,Tween/Teen
ATTACH;FMTTYPE=image/png:https://rclstn.org/wp-content/uploads/2026/03/Anime-Manga-Club.png
ORGANIZER;CN="Ollie":MAILTO:omiller@rclstn.org
END:VEVENT
BEGIN:VEVENT
DTSTART;TZID=America/Chicago:20260713T090000
DTEND;TZID=America/Chicago:20260713T164500
DTSTAMP:20260421T232911
CREATED:20260421T155426Z
LAST-MODIFIED:20260421T164007Z
UID:10025526-1783933200-1783961100@rclstn.org
SUMMARY:Dewey Win Day at Linebaugh
DESCRIPTION:Everyone’s favorite prize wheel is back! Spin the wheel\, check out a nonfiction book from the section you land on\, and win cool prizes!
URL:https://rclstn.org/event/dewey-win-day-at-linebaugh-2/2026-07-13/
LOCATION:Linebaugh Public Library\, 105 W Vine St\, Murfreesboro\, TN\, 37130\, United States
CATEGORIES:Kids and Family,Linebaugh Public Library,Linebaugh Youth Services
ATTACH;FMTTYPE=image/png:https://rclstn.org/wp-content/uploads/2026/04/DWD-SRP-2026.png
END:VEVENT
BEGIN:VEVENT
DTSTART;TZID=America/Chicago:20260713T110000
DTEND;TZID=America/Chicago:20260713T120000
DTSTAMP:20260421T232911
CREATED:20260421T161750Z
LAST-MODIFIED:20260421T161750Z
UID:10025578-1783940400-1783944000@rclstn.org
SUMMARY:Lunch at Linebaugh
DESCRIPTION:Linebaugh Public Library is a summer feeding site again this summer. Children age 18 and younger may receive a free lunch every weekday from 11 am – 12 pm. Children must be present in line and eat the provided lunch while at the library.
URL:https://rclstn.org/event/lunch-at-linebaugh-2/2026-07-13/
LOCATION:Linebaugh Public Library\, 105 W Vine St\, Murfreesboro\, TN\, 37130\, United States
CATEGORIES:Kids and Family,Linebaugh Public Library,Linebaugh Youth Services
ATTACH;FMTTYPE=image/png:https://rclstn.org/wp-content/uploads/2026/04/Lunch-@-LIN-2026.png
END:VEVENT
BEGIN:VEVENT
DTSTART;TZID=America/Chicago:20260714T100000
DTEND;TZID=America/Chicago:20260714T104500
DTSTAMP:20260421T232911
CREATED:20260421T160334Z
LAST-MODIFIED:20260421T160334Z
UID:10025539-1784023200-1784025900@rclstn.org
SUMMARY:All-Ages Storytime at Linebaugh
DESCRIPTION:For our “Unearth a Story” summer reading program\, we’re sharing stories about dinosaurs\, history\, and curiosity. All-Ages Storytimes are intended for children ages 2-8 and feature a mix of stories\, songs\, and puppet shows.
URL:https://rclstn.org/event/all-ages-storytime-at-linebaugh-3/2026-07-14/
LOCATION:Linebaugh Public Library\, 105 W Vine St\, Murfreesboro\, TN\, 37130\, United States
CATEGORIES:Kids and Family,Linebaugh Public Library,Linebaugh Youth Services,Story Time
END:VEVENT
BEGIN:VEVENT
DTSTART;TZID=America/Chicago:20260714T110000
DTEND;TZID=America/Chicago:20260714T120000
DTSTAMP:20260421T232911
CREATED:20260421T161750Z
LAST-MODIFIED:20260421T161750Z
UID:10025579-1784026800-1784030400@rclstn.org
SUMMARY:Lunch at Linebaugh
DESCRIPTION:Linebaugh Public Library is a summer feeding site again this summer. Children age 18 and younger may receive a free lunch every weekday from 11 am – 12 pm. Children must be present in line and eat the provided lunch while at the library.
URL:https://rclstn.org/event/lunch-at-linebaugh-2/2026-07-14/
LOCATION:Linebaugh Public Library\, 105 W Vine St\, Murfreesboro\, TN\, 37130\, United States
CATEGORIES:Kids and Family,Linebaugh Public Library,Linebaugh Youth Services
ATTACH;FMTTYPE=image/png:https://rclstn.org/wp-content/uploads/2026/04/Lunch-@-LIN-2026.png
END:VEVENT
BEGIN:VEVENT
DTSTART;TZID=America/Chicago:20260714T160000
DTEND;TZID=America/Chicago:20260714T170000
DTSTAMP:20260421T232911
CREATED:20251219T172811Z
LAST-MODIFIED:20251219T172811Z
UID:10022013-1784044800-1784048400@rclstn.org
SUMMARY:Tween Creative Writing Club @ Linebaugh
DESCRIPTION:Creative writers aged 8-12 are invited to join us to share their work & learn ways to improve their craft! No registration required. This club is held every 2nd Tuesday of the month from 4-5pm in the 1st floor club room at Linebaugh Public Library. Contact Taylor at tdavis@rclstn.org for more information.
URL:https://rclstn.org/event/tween-creative-writing-club-linebaugh/2026-07-14/
LOCATION:Linebaugh Public Library\, 105 W Vine St\, Murfreesboro\, TN\, 37130\, United States
CATEGORIES:Club,Kids and Family,Linebaugh Public Library,Linebaugh Youth Services,Tween/Teen,Writing Group
ATTACH;FMTTYPE=image/png:https://rclstn.org/wp-content/uploads/2025/12/Tween-Creative-Writing-Club-IGPJ.png
END:VEVENT
BEGIN:VEVENT
DTSTART;TZID=America/Chicago:20260715T110000
DTEND;TZID=America/Chicago:20260715T120000
DTSTAMP:20260421T232911
CREATED:20260421T161750Z
LAST-MODIFIED:20260421T161750Z
UID:10025580-1784113200-1784116800@rclstn.org
SUMMARY:Lunch at Linebaugh
DESCRIPTION:Linebaugh Public Library is a summer feeding site again this summer. Children age 18 and younger may receive a free lunch every weekday from 11 am – 12 pm. Children must be present in line and eat the provided lunch while at the library.
URL:https://rclstn.org/event/lunch-at-linebaugh-2/2026-07-15/
LOCATION:Linebaugh Public Library\, 105 W Vine St\, Murfreesboro\, TN\, 37130\, United States
CATEGORIES:Kids and Family,Linebaugh Public Library,Linebaugh Youth Services
ATTACH;FMTTYPE=image/png:https://rclstn.org/wp-content/uploads/2026/04/Lunch-@-LIN-2026.png
END:VEVENT
BEGIN:VEVENT
DTSTART;TZID=America/Chicago:20260716T110000
DTEND;TZID=America/Chicago:20260716T120000
DTSTAMP:20260421T232911
CREATED:20260421T161750Z
LAST-MODIFIED:20260421T161750Z
UID:10025581-1784199600-1784203200@rclstn.org
SUMMARY:Lunch at Linebaugh
DESCRIPTION:Linebaugh Public Library is a summer feeding site again this summer. Children age 18 and younger may receive a free lunch every weekday from 11 am – 12 pm. Children must be present in line and eat the provided lunch while at the library.
URL:https://rclstn.org/event/lunch-at-linebaugh-2/2026-07-16/
LOCATION:Linebaugh Public Library\, 105 W Vine St\, Murfreesboro\, TN\, 37130\, United States
CATEGORIES:Kids and Family,Linebaugh Public Library,Linebaugh Youth Services
ATTACH;FMTTYPE=image/png:https://rclstn.org/wp-content/uploads/2026/04/Lunch-@-LIN-2026.png
END:VEVENT
BEGIN:VEVENT
DTSTART;TZID=America/Chicago:20260717T110000
DTEND;TZID=America/Chicago:20260717T120000
DTSTAMP:20260421T232911
CREATED:20260421T161750Z
LAST-MODIFIED:20260421T161750Z
UID:10025582-1784286000-1784289600@rclstn.org
SUMMARY:Lunch at Linebaugh
DESCRIPTION:Linebaugh Public Library is a summer feeding site again this summer. Children age 18 and younger may receive a free lunch every weekday from 11 am – 12 pm. Children must be present in line and eat the provided lunch while at the library.
URL:https://rclstn.org/event/lunch-at-linebaugh-2/2026-07-17/
LOCATION:Linebaugh Public Library\, 105 W Vine St\, Murfreesboro\, TN\, 37130\, United States
CATEGORIES:Kids and Family,Linebaugh Public Library,Linebaugh Youth Services
ATTACH;FMTTYPE=image/png:https://rclstn.org/wp-content/uploads/2026/04/Lunch-@-LIN-2026.png
END:VEVENT
BEGIN:VEVENT
DTSTART;TZID=America/Chicago:20260717T153000
DTEND;TZID=America/Chicago:20260717T163000
DTSTAMP:20260421T232911
CREATED:20251219T185139Z
LAST-MODIFIED:20251219T185139Z
UID:10022065-1784302200-1784305800@rclstn.org
SUMMARY:We're Board! Teen Board Game Club @ Linebaugh
DESCRIPTION:We’re Board! Are you? Teens aged 13-18 can join us every 3rd Friday from 3:30-4:30pm in the 1st club room at Linebaugh Library to test out their strategic prowess with fun and challenging board and card games. Email Taylor at tdavis@rclstn.org for more information.
URL:https://rclstn.org/event/were-board-teen-board-game-club-linebaugh/2026-07-17/
LOCATION:Linebaugh Public Library\, 105 W Vine St\, Murfreesboro\, TN\, 37130\, United States
CATEGORIES:Club,Linebaugh Public Library,Linebaugh Youth Services,Teen
ATTACH;FMTTYPE=image/png:https://rclstn.org/wp-content/uploads/2025/12/Teen-Board-Game-Club-Jan-26-IGPJ.png
END:VEVENT
BEGIN:VEVENT
DTSTART;TZID=America/Chicago:20260718T100000
DTEND;TZID=America/Chicago:20260718T110000
DTSTAMP:20260421T232911
CREATED:20260321T153216Z
LAST-MODIFIED:20260321T153218Z
UID:10000758-1784368800-1784372400@rclstn.org
SUMMARY:Lego\, Jr Club at Linebaugh
DESCRIPTION:Build and create with the Linebaugh Lego Club on the 3rd Saturday of every month at 10 am.
URL:https://rclstn.org/event/lego-jr-club-at-linebaugh-3-2-2/2026-07-18/
LOCATION:Linebaugh Public Library\, 105 W Vine St\, Murfreesboro\, TN\, 37130\, United States
CATEGORIES:Club,Kids and Family,Linebaugh Youth Services
ATTACH;FMTTYPE=image/png:https://rclstn.org/wp-content/uploads/2024/12/Lego-Club-rec.png
END:VEVENT
BEGIN:VEVENT
DTSTART;TZID=America/Chicago:20260718T140000
DTEND;TZID=America/Chicago:20260718T153000
DTSTAMP:20260421T232911
CREATED:20251219T190449Z
LAST-MODIFIED:20251219T190449Z
UID:10022091-1784383200-1784388600@rclstn.org
SUMMARY:Teen Gaming Club @ Linebaugh
DESCRIPTION:This club meets every 3rd Saturday from 2-3:30pm in the 1st floor club room at Linebaugh Public Library. \nCalling all gamers! Teens aged 13-18 can bring their devices or play a variety of games on our in-house Switch system. Meet other teens who love video games & level up with us in this chill social club.
URL:https://rclstn.org/event/teen-gaming-club-linebaugh/2026-07-18/
LOCATION:Linebaugh Public Library\, 105 W Vine St\, Murfreesboro\, TN\, 37130\, United States
CATEGORIES:Club,Linebaugh Public Library,Linebaugh Youth Services,STEAM,STEM,Teen
ATTACH;FMTTYPE=image/png:https://rclstn.org/wp-content/uploads/2025/12/Teen-Gaming-Club-IGPJ-1.png
END:VEVENT
BEGIN:VEVENT
DTSTART;TZID=America/Chicago:20260720T110000
DTEND;TZID=America/Chicago:20260720T120000
DTSTAMP:20260421T232911
CREATED:20260421T161750Z
LAST-MODIFIED:20260421T161750Z
UID:10025583-1784545200-1784548800@rclstn.org
SUMMARY:Lunch at Linebaugh
DESCRIPTION:Linebaugh Public Library is a summer feeding site again this summer. Children age 18 and younger may receive a free lunch every weekday from 11 am – 12 pm. Children must be present in line and eat the provided lunch while at the library.
URL:https://rclstn.org/event/lunch-at-linebaugh-2/2026-07-20/
LOCATION:Linebaugh Public Library\, 105 W Vine St\, Murfreesboro\, TN\, 37130\, United States
CATEGORIES:Kids and Family,Linebaugh Public Library,Linebaugh Youth Services
ATTACH;FMTTYPE=image/png:https://rclstn.org/wp-content/uploads/2026/04/Lunch-@-LIN-2026.png
END:VEVENT
BEGIN:VEVENT
DTSTART;TZID=America/Chicago:20260720T153000
DTEND;TZID=America/Chicago:20260720T170000
DTSTAMP:20260421T232911
CREATED:20251229T171722Z
LAST-MODIFIED:20251229T171722Z
UID:10007087-1784561400-1784566800@rclstn.org
SUMMARY:READing Paws at Linebaugh
DESCRIPTION:Do you have a child who is a struggling or new reader? Does your child love to read? Does your child love dogs? We have the perfect opportunity for you here at Linebaugh! Call 615-893-4131 ext. 114 to register to read to a trained Reading Education Assistance Dog! The dogs love to listen to children read while being petted and cuddled! Stevie and Paris will be here on Mondays from 3:30-5 pm. 
URL:https://rclstn.org/event/reading-paws-at-linebaugh-2-2-3-2-2-2/2026-07-20/
LOCATION:Linebaugh Public Library\, 105 W Vine St\, Murfreesboro\, TN\, 37130\, United States
CATEGORIES:Linebaugh Youth Services
ATTACH;FMTTYPE=image/png:https://rclstn.org/wp-content/uploads/2025/07/READing-Paws-Mon-rec.png
END:VEVENT
BEGIN:VEVENT
DTSTART;TZID=America/Chicago:20260721T110000
DTEND;TZID=America/Chicago:20260721T120000
DTSTAMP:20260421T232911
CREATED:20260421T161750Z
LAST-MODIFIED:20260421T161750Z
UID:10025584-1784631600-1784635200@rclstn.org
SUMMARY:Lunch at Linebaugh
DESCRIPTION:Linebaugh Public Library is a summer feeding site again this summer. Children age 18 and younger may receive a free lunch every weekday from 11 am – 12 pm. Children must be present in line and eat the provided lunch while at the library.
URL:https://rclstn.org/event/lunch-at-linebaugh-2/2026-07-21/
LOCATION:Linebaugh Public Library\, 105 W Vine St\, Murfreesboro\, TN\, 37130\, United States
CATEGORIES:Kids and Family,Linebaugh Public Library,Linebaugh Youth Services
ATTACH;FMTTYPE=image/png:https://rclstn.org/wp-content/uploads/2026/04/Lunch-@-LIN-2026.png
END:VEVENT
BEGIN:VEVENT
DTSTART;TZID=America/Chicago:20260721T160000
DTEND;TZID=America/Chicago:20260721T173000
DTSTAMP:20260421T232911
CREATED:20251219T181910Z
LAST-MODIFIED:20251219T181910Z
UID:10022052-1784649600-1784655000@rclstn.org
SUMMARY:Teen Creative Writing Club @ Linebaugh Library
DESCRIPTION:Join us every 3rd Tuesday from 4-5:30pm in the 1st floor club room at Linebaugh Public Library for our Teen Creative Writing Club (ages 13-18)! \nTeen writers of all proficiencies are invited to join us to share their work & learn ways to improve their craft! Bring up to 4 minutes of original writing (stories\, poetry\, scripts\, creative non-fiction\, etc.) & get feedback from your peers. Email Taylor at tdavis@rclstn.org for more information.
URL:https://rclstn.org/event/teen-creative-writing-club-linebaugh-library/2026-07-21/
LOCATION:Linebaugh Public Library\, 105 W Vine St\, Murfreesboro\, TN\, 37130\, United States
CATEGORIES:Club,Linebaugh Public Library,Linebaugh Youth Services,Teen,Writing Group
ATTACH;FMTTYPE=image/png:https://rclstn.org/wp-content/uploads/2025/12/Teen-Creative-Writing-Club-IGPJ-1.png
END:VEVENT
BEGIN:VEVENT
DTSTART;TZID=America/Chicago:20260722T110000
DTEND;TZID=America/Chicago:20260722T120000
DTSTAMP:20260421T232911
CREATED:20260421T161750Z
LAST-MODIFIED:20260421T161750Z
UID:10025585-1784718000-1784721600@rclstn.org
SUMMARY:Lunch at Linebaugh
DESCRIPTION:Linebaugh Public Library is a summer feeding site again this summer. Children age 18 and younger may receive a free lunch every weekday from 11 am – 12 pm. Children must be present in line and eat the provided lunch while at the library.
URL:https://rclstn.org/event/lunch-at-linebaugh-2/2026-07-22/
LOCATION:Linebaugh Public Library\, 105 W Vine St\, Murfreesboro\, TN\, 37130\, United States
CATEGORIES:Kids and Family,Linebaugh Public Library,Linebaugh Youth Services
ATTACH;FMTTYPE=image/png:https://rclstn.org/wp-content/uploads/2026/04/Lunch-@-LIN-2026.png
END:VEVENT
BEGIN:VEVENT
DTSTART;TZID=America/Chicago:20260723T110000
DTEND;TZID=America/Chicago:20260723T120000
DTSTAMP:20260421T232911
CREATED:20260421T161750Z
LAST-MODIFIED:20260421T161750Z
UID:10025586-1784804400-1784808000@rclstn.org
SUMMARY:Lunch at Linebaugh
DESCRIPTION:Linebaugh Public Library is a summer feeding site again this summer. Children age 18 and younger may receive a free lunch every weekday from 11 am – 12 pm. Children must be present in line and eat the provided lunch while at the library.
URL:https://rclstn.org/event/lunch-at-linebaugh-2/2026-07-23/
LOCATION:Linebaugh Public Library\, 105 W Vine St\, Murfreesboro\, TN\, 37130\, United States
CATEGORIES:Kids and Family,Linebaugh Public Library,Linebaugh Youth Services
ATTACH;FMTTYPE=image/png:https://rclstn.org/wp-content/uploads/2026/04/Lunch-@-LIN-2026.png
END:VEVENT
END:VCALENDAR