BEGIN:VCALENDAR
VERSION:2.0
PRODID:-//RCLS+ - ECPv6.15.20//NONSGML v1.0//EN
CALSCALE:GREGORIAN
METHOD:PUBLISH
X-ORIGINAL-URL:https://rclstn.org
X-WR-CALDESC:Events for RCLS+
REFRESH-INTERVAL;VALUE=DURATION:PT1H
X-Robots-Tag:noindex
X-PUBLISHED-TTL:PT1H
BEGIN:VTIMEZONE
TZID:America/Chicago
BEGIN:DAYLIGHT
TZOFFSETFROM:-0600
TZOFFSETTO:-0500
TZNAME:CDT
DTSTART:20250309T080000
END:DAYLIGHT
BEGIN:STANDARD
TZOFFSETFROM:-0500
TZOFFSETTO:-0600
TZNAME:CST
DTSTART:20251102T070000
END:STANDARD
BEGIN:DAYLIGHT
TZOFFSETFROM:-0600
TZOFFSETTO:-0500
TZNAME:CDT
DTSTART:20260308T080000
END:DAYLIGHT
BEGIN:STANDARD
TZOFFSETFROM:-0500
TZOFFSETTO:-0600
TZNAME:CST
DTSTART:20261101T070000
END:STANDARD
BEGIN:DAYLIGHT
TZOFFSETFROM:-0600
TZOFFSETTO:-0500
TZNAME:CDT
DTSTART:20270314T080000
END:DAYLIGHT
BEGIN:STANDARD
TZOFFSETFROM:-0500
TZOFFSETTO:-0600
TZNAME:CST
DTSTART:20271107T070000
END:STANDARD
END:VTIMEZONE
BEGIN:VEVENT
DTSTART;TZID=America/Chicago:20260314T100000
DTEND;TZID=America/Chicago:20260314T103000
DTSTAMP:20260421T183924
CREATED:20250820T163015Z
LAST-MODIFIED:20250820T163016Z
UID:10004992-1773482400-1773484200@rclstn.org
SUMMARY:Youth Magic at Linebaugh
DESCRIPTION:Aspiring magicians can join in the fun with The Youth Magic Group\, led by the Amazing Abner Youth Magic Club.\nQuarterly meetings at 10 am at Linebaugh Library. \n 
URL:https://rclstn.org/event/youth-magic-at-linebaugh-4/2026-03-14/
LOCATION:Linebaugh Public Library\, 105 W Vine St\, Murfreesboro\, TN\, 37130\, United States
CATEGORIES:Club,Kids and Family,Linebaugh Youth Services,Tween/Teen
ATTACH;FMTTYPE=image/png:https://rclstn.org/wp-content/uploads/2024/02/Sep-Youth-Magic.png
END:VEVENT
BEGIN:VEVENT
DTSTART;TZID=America/Chicago:20260314T100000
DTEND;TZID=America/Chicago:20260314T113000
DTSTAMP:20260421T183924
CREATED:20240207T220527Z
LAST-MODIFIED:20250820T151748Z
UID:10002034-1773482400-1773487800@rclstn.org
SUMMARY:READing Paws at Linebaugh
DESCRIPTION:Do you have a child who is a struggling or new reader? Does your child love to read? Does your child love dogs? We have the perfect opportunity for you here at Linebaugh! Call to register to read to a trained Reading Education Assistance Dog! The dogs love to listen to children read while being petted and cuddled! Stevie and General will be here on Mondays from 3:30-5 pm\, and Frankie will be here on the 2nd Saturday of each month 10-11:30 am.
URL:https://rclstn.org/event/reading-paws-at-linebaugh-3/2026-03-14/
LOCATION:Linebaugh Public Library\, 105 W Vine St\, Murfreesboro\, TN\, 37130\, United States
CATEGORIES:Linebaugh Youth Services
ATTACH;FMTTYPE=image/png:https://rclstn.org/wp-content/uploads/2024/02/READing-Paws-Sat-rec.png
END:VEVENT
BEGIN:VEVENT
DTSTART;TZID=America/Chicago:20260314T140000
DTEND;TZID=America/Chicago:20260314T150000
DTSTAMP:20260421T183924
CREATED:20250519T190041Z
LAST-MODIFIED:20250519T190041Z
UID:10015066-1773496800-1773500400@rclstn.org
SUMMARY:Teen Anime & Manga Club
DESCRIPTION:Join us at Linebaugh every month for a discussion of our current favorite anime and manga! We’ll be showing an anime movie once a month this summer!
URL:https://rclstn.org/event/teen-anime-manga-club-3-2/2026-03-14/
LOCATION:Linebaugh Public Library\, 105 W Vine St\, Murfreesboro\, TN\, 37130\, United States
CATEGORIES:Book Group,Club,Linebaugh Youth Services,Movie,Teen,Tween/Teen
ATTACH;FMTTYPE=image/png:https://rclstn.org/wp-content/uploads/2025/04/Teen-Anime-Manga-rec.png
ORGANIZER;CN="Ollie":MAILTO:omiller@rclstn.org
END:VEVENT
END:VCALENDAR