BEGIN:VCALENDAR
VERSION:2.0
PRODID:-//RCLS+ - ECPv6.15.20//NONSGML v1.0//EN
CALSCALE:GREGORIAN
METHOD:PUBLISH
X-ORIGINAL-URL:https://rclstn.org
X-WR-CALDESC:Events for RCLS+
REFRESH-INTERVAL;VALUE=DURATION:PT1H
X-Robots-Tag:noindex
X-PUBLISHED-TTL:PT1H
BEGIN:VTIMEZONE
TZID:America/Chicago
BEGIN:DAYLIGHT
TZOFFSETFROM:-0600
TZOFFSETTO:-0500
TZNAME:CDT
DTSTART:20250309T080000
END:DAYLIGHT
BEGIN:STANDARD
TZOFFSETFROM:-0500
TZOFFSETTO:-0600
TZNAME:CST
DTSTART:20251102T070000
END:STANDARD
BEGIN:DAYLIGHT
TZOFFSETFROM:-0600
TZOFFSETTO:-0500
TZNAME:CDT
DTSTART:20260308T080000
END:DAYLIGHT
BEGIN:STANDARD
TZOFFSETFROM:-0500
TZOFFSETTO:-0600
TZNAME:CST
DTSTART:20261101T070000
END:STANDARD
BEGIN:DAYLIGHT
TZOFFSETFROM:-0600
TZOFFSETTO:-0500
TZNAME:CDT
DTSTART:20270314T080000
END:DAYLIGHT
BEGIN:STANDARD
TZOFFSETFROM:-0500
TZOFFSETTO:-0600
TZNAME:CST
DTSTART:20271107T070000
END:STANDARD
END:VTIMEZONE
BEGIN:VEVENT
DTSTART;TZID=America/Chicago:20260601T090000
DTEND;TZID=America/Chicago:20260601T164500
DTSTAMP:20260423T064229
CREATED:20260421T155426Z
LAST-MODIFIED:20260421T164007Z
UID:10025520-1780304400-1780332300@rclstn.org
SUMMARY:Dewey Win Day at Linebaugh
DESCRIPTION:Everyone’s favorite prize wheel is back! Spin the wheel\, check out a nonfiction book from the section you land on\, and win cool prizes!
URL:https://rclstn.org/event/dewey-win-day-at-linebaugh-2/2026-06-01/
LOCATION:Linebaugh Public Library\, 105 W Vine St\, Murfreesboro\, TN\, 37130\, United States
CATEGORIES:Kids and Family,Linebaugh Public Library,Linebaugh Youth Services
ATTACH;FMTTYPE=image/png:https://rclstn.org/wp-content/uploads/2026/04/DWD-SRP-2026.png
END:VEVENT
BEGIN:VEVENT
DTSTART;TZID=America/Chicago:20260601T153000
DTEND;TZID=America/Chicago:20260601T170000
DTSTAMP:20260423T064230
CREATED:20250728T140119Z
LAST-MODIFIED:20250820T163645Z
UID:10000977-1780327800-1780333200@rclstn.org
SUMMARY:READing Paws at Linebaugh
DESCRIPTION:Do you have a child who is a struggling or new reader? Does your child love to read? Does your child love dogs? We have the perfect opportunity for you here at Linebaugh! Call to register to read to a trained Reading Education Assistance Dog! The dogs love to listen to children read while being petted and cuddled! Stevie and Paris will be here on Mondays from 3:30-5 pm. 
URL:https://rclstn.org/event/reading-paws-at-linebaugh-2/2026-06-01/
LOCATION:Linebaugh Public Library\, 105 W Vine St\, Murfreesboro\, TN\, 37130\, United States
CATEGORIES:Linebaugh Youth Services
ATTACH;FMTTYPE=image/png:https://rclstn.org/wp-content/uploads/2025/07/READing-Paws-Mon-rec.png
END:VEVENT
END:VCALENDAR