BEGIN:VCALENDAR
VERSION:2.0
PRODID:-//RCLS+ - ECPv6.15.20//NONSGML v1.0//EN
CALSCALE:GREGORIAN
METHOD:PUBLISH
X-ORIGINAL-URL:https://rclstn.org
X-WR-CALDESC:Events for RCLS+
REFRESH-INTERVAL;VALUE=DURATION:PT1H
X-Robots-Tag:noindex
X-PUBLISHED-TTL:PT1H
BEGIN:VTIMEZONE
TZID:America/Chicago
BEGIN:DAYLIGHT
TZOFFSETFROM:-0600
TZOFFSETTO:-0500
TZNAME:CDT
DTSTART:20250309T080000
END:DAYLIGHT
BEGIN:STANDARD
TZOFFSETFROM:-0500
TZOFFSETTO:-0600
TZNAME:CST
DTSTART:20251102T070000
END:STANDARD
BEGIN:DAYLIGHT
TZOFFSETFROM:-0600
TZOFFSETTO:-0500
TZNAME:CDT
DTSTART:20260308T080000
END:DAYLIGHT
BEGIN:STANDARD
TZOFFSETFROM:-0500
TZOFFSETTO:-0600
TZNAME:CST
DTSTART:20261101T070000
END:STANDARD
BEGIN:DAYLIGHT
TZOFFSETFROM:-0600
TZOFFSETTO:-0500
TZNAME:CDT
DTSTART:20270314T080000
END:DAYLIGHT
BEGIN:STANDARD
TZOFFSETFROM:-0500
TZOFFSETTO:-0600
TZNAME:CST
DTSTART:20271107T070000
END:STANDARD
END:VTIMEZONE
BEGIN:VEVENT
DTSTART;TZID=America/Chicago:20260323T130000
DTEND;TZID=America/Chicago:20260323T150000
DTSTAMP:20260421T073048
CREATED:20250506T182139Z
LAST-MODIFIED:20260416T163933Z
UID:10012772-1774270800-1774278000@rclstn.org
SUMMARY:Tech Coach 1-on-1
DESCRIPTION:Do you or someone you know need help with technology questions or using the Library’s digital resources? The TEC can help with one-on-one assistance during a TECH Coaching session.  Coaches can help patrons explore technology and increase their digital literacy. \nPlease: \n\nBring your device\nRemember to bring your log-in/password information\nAnd do remember that NO device repair is offered through RCLS
URL:https://rclstn.org/event/tech-coach-1-on-1-2/2026-03-23/
LOCATION:TN
CATEGORIES:Adult,Computer/Tech Classes
ATTACH;FMTTYPE=image/png:https://rclstn.org/wp-content/uploads/2025/01/TechCoach.png
END:VEVENT
BEGIN:VEVENT
DTSTART;TZID=America/Chicago:20260323T140000
DTEND;TZID=America/Chicago:20260323T150000
DTSTAMP:20260421T073048
CREATED:20260219T214349Z
LAST-MODIFIED:20260219T214349Z
UID:10024765-1774274400-1774278000@rclstn.org
SUMMARY:One on One Tech Help @ Eagleville
DESCRIPTION:This one-on-one tech help session at the public library offers personalized assistance for your specific questions about smartphones\, tablets\, laptops\, apps\, or online services. Work at your own pace with a friendly staff member who can help troubleshoot problems\, build confidence\, and make everyday technology easier to use.
URL:https://rclstn.org/event/one-on-one-tech-help-eagleville-4/2026-03-23/
LOCATION:Eagleville Bicentennial Library\, 317 Old Hwy 99\, Eagleville\, TN\, 37060\, United States
CATEGORIES:Computer/Tech Classes,Eagleville Public Library
ATTACH;FMTTYPE=image/png:https://rclstn.org/wp-content/uploads/2026/02/13.png
ORGANIZER;CN="Trey":MAILTO:tgwinn@rclstn.org
END:VEVENT
BEGIN:VEVENT
DTSTART;TZID=America/Chicago:20260323T150000
DTEND;TZID=America/Chicago:20260323T160000
DTSTAMP:20260421T073048
CREATED:20260219T213057Z
LAST-MODIFIED:20260219T213057Z
UID:10024760-1774278000-1774281600@rclstn.org
SUMMARY:Basic Canva @ TEC
DESCRIPTION:This beginner-friendly class introduces participants to the basics of Canva\, teaching how to create eye-catching flyers\, social media graphics\, and simple presentations using easy drag-and-drop tools. Attendees will learn how to work with templates\, images\, and text so they can confidently design polished materials for personal\, school\, or community projects.
URL:https://rclstn.org/event/basic-canva-tec-2/2026-03-23/
LOCATION:Technology Engagement Center\, 306 Minerva Drive\, Murfreesboro\, TN\, 37130\, United States
CATEGORIES:Computer/Tech Classes,Technology Engagement Center (TEC)
ATTACH;FMTTYPE=image/png:https://rclstn.org/wp-content/uploads/2026/02/14.png
ORGANIZER;CN="Trey":MAILTO:tgwinn@rclstn.org
END:VEVENT
END:VCALENDAR