BEGIN:VCALENDAR
VERSION:2.0
PRODID:-//RCLS+ - ECPv6.15.20//NONSGML v1.0//EN
CALSCALE:GREGORIAN
METHOD:PUBLISH
X-ORIGINAL-URL:https://rclstn.org
X-WR-CALDESC:Events for RCLS+
REFRESH-INTERVAL;VALUE=DURATION:PT1H
X-Robots-Tag:noindex
X-PUBLISHED-TTL:PT1H
BEGIN:VTIMEZONE
TZID:America/Chicago
BEGIN:DAYLIGHT
TZOFFSETFROM:-0600
TZOFFSETTO:-0500
TZNAME:CDT
DTSTART:20250309T080000
END:DAYLIGHT
BEGIN:STANDARD
TZOFFSETFROM:-0500
TZOFFSETTO:-0600
TZNAME:CST
DTSTART:20251102T070000
END:STANDARD
BEGIN:DAYLIGHT
TZOFFSETFROM:-0600
TZOFFSETTO:-0500
TZNAME:CDT
DTSTART:20260308T080000
END:DAYLIGHT
BEGIN:STANDARD
TZOFFSETFROM:-0500
TZOFFSETTO:-0600
TZNAME:CST
DTSTART:20261101T070000
END:STANDARD
BEGIN:DAYLIGHT
TZOFFSETFROM:-0600
TZOFFSETTO:-0500
TZNAME:CDT
DTSTART:20270314T080000
END:DAYLIGHT
BEGIN:STANDARD
TZOFFSETFROM:-0500
TZOFFSETTO:-0600
TZNAME:CST
DTSTART:20271107T070000
END:STANDARD
END:VTIMEZONE
BEGIN:VEVENT
DTSTART;TZID=America/Chicago:20260310T140000
DTEND;TZID=America/Chicago:20260310T150000
DTSTAMP:20260421T043519
CREATED:20260219T212028Z
LAST-MODIFIED:20260219T212028Z
UID:10024753-1773151200-1773154800@rclstn.org
SUMMARY:Scam Awareness for Seniors at Linebaugh Public Library
DESCRIPTION:This free class at the public library helps senior citizens recognize common scams\, protect their personal information\, and confidently navigate phone calls\, emails\, and online offers that may be fraudulent. Participants will learn practical safety tips\, hear real-world examples\, and gain confidence to explore the internet without fear.
URL:https://rclstn.org/event/scam-awareness-for-seniors-at-linebaugh-public-library-2/
LOCATION:Linebaugh Public Library\, 105 W Vine St\, Murfreesboro\, TN\, 37130\, United States
CATEGORIES:Computer/Tech Classes,Linebaugh Public Library
ATTACH;FMTTYPE=image/png:https://rclstn.org/wp-content/uploads/2026/02/12.png
ORGANIZER;CN="Trey":MAILTO:tgwinn@rclstn.org
END:VEVENT
BEGIN:VEVENT
DTSTART;TZID=America/Chicago:20260310T140000
DTEND;TZID=America/Chicago:20260310T153000
DTSTAMP:20260421T043519
CREATED:20251022T155217Z
LAST-MODIFIED:20251216T214119Z
UID:10020858-1773151200-1773156600@rclstn.org
SUMMARY:Computer Basics
DESCRIPTION:Free computer classes @ the TEC! Come learn basic computer skills\, Windows 10\, Google Docs\, Microsoft Office\, Excel\, PowerPoint and more with self-paced modules and guided instruction. \nThis class\, which is taught by Workforce Essentials\, is for Adults. \nFor more information contact: mamaro@workforceessentials.com
URL:https://rclstn.org/event/computer-basics-2-2-2-2/2026-03-10/
LOCATION:Technology Engagement Center\, 306 Minerva Drive\, Murfreesboro\, TN\, 37130\, United States
CATEGORIES:Adult,Class,Computer/Tech Classes,Technology Engagement Center (TEC)
ATTACH;FMTTYPE=image/png:https://rclstn.org/wp-content/uploads/2025/10/for-TEC-Grafitti-sign.png
END:VEVENT
END:VCALENDAR