BEGIN:VCALENDAR
VERSION:2.0
PRODID:-//RCLS+ - ECPv6.15.20//NONSGML v1.0//EN
CALSCALE:GREGORIAN
METHOD:PUBLISH
X-WR-CALNAME:RCLS+
X-ORIGINAL-URL:https://rclstn.org
X-WR-CALDESC:Events for RCLS+
REFRESH-INTERVAL;VALUE=DURATION:PT1H
X-Robots-Tag:noindex
X-PUBLISHED-TTL:PT1H
BEGIN:VTIMEZONE
TZID:America/Chicago
BEGIN:DAYLIGHT
TZOFFSETFROM:-0600
TZOFFSETTO:-0500
TZNAME:CDT
DTSTART:20250309T080000
END:DAYLIGHT
BEGIN:STANDARD
TZOFFSETFROM:-0500
TZOFFSETTO:-0600
TZNAME:CST
DTSTART:20251102T070000
END:STANDARD
BEGIN:DAYLIGHT
TZOFFSETFROM:-0600
TZOFFSETTO:-0500
TZNAME:CDT
DTSTART:20260308T080000
END:DAYLIGHT
BEGIN:STANDARD
TZOFFSETFROM:-0500
TZOFFSETTO:-0600
TZNAME:CST
DTSTART:20261101T070000
END:STANDARD
BEGIN:DAYLIGHT
TZOFFSETFROM:-0600
TZOFFSETTO:-0500
TZNAME:CDT
DTSTART:20270314T080000
END:DAYLIGHT
BEGIN:STANDARD
TZOFFSETFROM:-0500
TZOFFSETTO:-0600
TZNAME:CST
DTSTART:20271107T070000
END:STANDARD
END:VTIMEZONE
BEGIN:VEVENT
DTSTART;TZID=America/Chicago:20260210T100000
DTEND;TZID=America/Chicago:20260210T110000
DTSTAMP:20260421T084039
CREATED:20260123T152142Z
LAST-MODIFIED:20260123T152142Z
UID:10023761-1770717600-1770721200@rclstn.org
SUMMARY:Microsoft Office Hour @ Linebaugh Public Library
DESCRIPTION:Need some help with Excel? Want to refresh your Word skills? Have a big PowerPoint Presentation? Come to Microsoft Office Hour for some one on one help!
URL:https://rclstn.org/event/microsoft-office-hour-linebaugh-public-library-2/
LOCATION:Linebaugh Public Library\, 105 W Vine St\, Murfreesboro\, TN\, 37130\, United States
CATEGORIES:Computer/Tech Classes,Linebaugh Public Library
ATTACH;FMTTYPE=image/png:https://rclstn.org/wp-content/uploads/2026/01/12.png
ORGANIZER;CN="Trey":MAILTO:tgwinn@rclstn.org
END:VEVENT
BEGIN:VEVENT
DTSTART;TZID=America/Chicago:20260210T140000
DTEND;TZID=America/Chicago:20260210T153000
DTSTAMP:20260421T084039
CREATED:20251022T155217Z
LAST-MODIFIED:20251216T214119Z
UID:10020854-1770732000-1770737400@rclstn.org
SUMMARY:Computer Basics
DESCRIPTION:Free computer classes @ the TEC! Come learn basic computer skills\, Windows 10\, Google Docs\, Microsoft Office\, Excel\, PowerPoint and more with self-paced modules and guided instruction. \nThis class\, which is taught by Workforce Essentials\, is for Adults. \nFor more information contact: mamaro@workforceessentials.com
URL:https://rclstn.org/event/computer-basics-2-2-2-2/2026-02-10/
LOCATION:Technology Engagement Center\, 306 Minerva Drive\, Murfreesboro\, TN\, 37130\, United States
CATEGORIES:Adult,Class,Computer/Tech Classes,Technology Engagement Center (TEC)
ATTACH;FMTTYPE=image/png:https://rclstn.org/wp-content/uploads/2025/10/for-TEC-Grafitti-sign.png
END:VEVENT
BEGIN:VEVENT
DTSTART;TZID=America/Chicago:20260210T150000
DTEND;TZID=America/Chicago:20260210T160000
DTSTAMP:20260421T084040
CREATED:20260123T151144Z
LAST-MODIFIED:20260123T151213Z
UID:10023755-1770735600-1770739200@rclstn.org
SUMMARY:Basic Canva @ Technology Engagement Center
DESCRIPTION:Unlock your creativity at the library with our free Basic Canva Class! Whether you want to design eye-catching flyers\, personalized social media posts\, or professional-looking presentations\, this beginner-friendly workshop will guide you through the essentials of Canva’s easy-to-use design tools. No prior experience is needed! Just bring your imagination\, and we’ll help you turn your ideas into beautiful\, polished designs. Join us and discover how fun and simple graphic design can be!
URL:https://rclstn.org/event/basic-canva-technology-engagement-center/2026-02-10/
LOCATION:Technology Engagement Center\, 306 Minerva Drive\, Murfreesboro\, TN\, 37130\, United States
CATEGORIES:Computer/Tech Classes,Technology Engagement Center (TEC)
ATTACH;FMTTYPE=image/png:https://rclstn.org/wp-content/uploads/2026/01/11.png
ORGANIZER;CN="Trey":MAILTO:tgwinn@rclstn.org
END:VEVENT
END:VCALENDAR