BEGIN:VCALENDAR
VERSION:2.0
PRODID:-//RCLS+ - ECPv6.15.20//NONSGML v1.0//EN
CALSCALE:GREGORIAN
METHOD:PUBLISH
X-ORIGINAL-URL:https://rclstn.org
X-WR-CALDESC:Events for RCLS+
REFRESH-INTERVAL;VALUE=DURATION:PT1H
X-Robots-Tag:noindex
X-PUBLISHED-TTL:PT1H
BEGIN:VTIMEZONE
TZID:America/Chicago
BEGIN:DAYLIGHT
TZOFFSETFROM:-0600
TZOFFSETTO:-0500
TZNAME:CDT
DTSTART:20250309T080000
END:DAYLIGHT
BEGIN:STANDARD
TZOFFSETFROM:-0500
TZOFFSETTO:-0600
TZNAME:CST
DTSTART:20251102T070000
END:STANDARD
BEGIN:DAYLIGHT
TZOFFSETFROM:-0600
TZOFFSETTO:-0500
TZNAME:CDT
DTSTART:20260308T080000
END:DAYLIGHT
BEGIN:STANDARD
TZOFFSETFROM:-0500
TZOFFSETTO:-0600
TZNAME:CST
DTSTART:20261101T070000
END:STANDARD
BEGIN:DAYLIGHT
TZOFFSETFROM:-0600
TZOFFSETTO:-0500
TZNAME:CDT
DTSTART:20270314T080000
END:DAYLIGHT
BEGIN:STANDARD
TZOFFSETFROM:-0500
TZOFFSETTO:-0600
TZNAME:CST
DTSTART:20271107T070000
END:STANDARD
END:VTIMEZONE
BEGIN:VEVENT
DTSTART;TZID=America/Chicago:20260702T130000
DTEND;TZID=America/Chicago:20260702T153000
DTSTAMP:20260421T182300
CREATED:20260421T162336Z
LAST-MODIFIED:20260421T162336Z
UID:10025592-1782997200-1783006200@rclstn.org
SUMMARY:Curiosity Club at Linebaugh
DESCRIPTION:The Curiosity Club is a new play club for preschool through early elementary grades. Every Thursday afternoon we’ll set up the children’s section with toys\, games\, art supplies\, and books on a topic kids might be curious about\, and let their imaginations soar! For our “Unearth a Story” summer reading program\, most weeks will feature sensory bins\, simple art projects\, and guided Lego builds all about dinosaurs! \nThe one rule for Curiosity Club is there are NO SCREENS allowed\, so please help us keep the section screen-free during this program.
URL:https://rclstn.org/event/curiosity-club-at-linebaugh/2026-07-02/
LOCATION:Linebaugh Public Library\, 105 W Vine St\, Murfreesboro\, TN\, 37130\, United States
CATEGORIES:Arts and Crafts,Family,Kids and Family,Linebaugh Public Library,Linebaugh Youth Services,STEAM
ATTACH;FMTTYPE=image/png:https://rclstn.org/wp-content/uploads/2026/04/Curiosity-Club-SRP-2026.png
END:VEVENT
END:VCALENDAR