BEGIN:VCALENDAR
VERSION:2.0
PRODID:-//RCLS+ - ECPv6.15.20//NONSGML v1.0//EN
CALSCALE:GREGORIAN
METHOD:PUBLISH
X-ORIGINAL-URL:https://rclstn.org
X-WR-CALDESC:Events for RCLS+
REFRESH-INTERVAL;VALUE=DURATION:PT1H
X-Robots-Tag:noindex
X-PUBLISHED-TTL:PT1H
BEGIN:VTIMEZONE
TZID:America/Chicago
BEGIN:DAYLIGHT
TZOFFSETFROM:-0600
TZOFFSETTO:-0500
TZNAME:CDT
DTSTART:20250309T080000
END:DAYLIGHT
BEGIN:STANDARD
TZOFFSETFROM:-0500
TZOFFSETTO:-0600
TZNAME:CST
DTSTART:20251102T070000
END:STANDARD
BEGIN:DAYLIGHT
TZOFFSETFROM:-0600
TZOFFSETTO:-0500
TZNAME:CDT
DTSTART:20260308T080000
END:DAYLIGHT
BEGIN:STANDARD
TZOFFSETFROM:-0500
TZOFFSETTO:-0600
TZNAME:CST
DTSTART:20261101T070000
END:STANDARD
BEGIN:DAYLIGHT
TZOFFSETFROM:-0600
TZOFFSETTO:-0500
TZNAME:CDT
DTSTART:20270314T080000
END:DAYLIGHT
BEGIN:STANDARD
TZOFFSETFROM:-0500
TZOFFSETTO:-0600
TZNAME:CST
DTSTART:20271107T070000
END:STANDARD
END:VTIMEZONE
BEGIN:VEVENT
DTSTART;TZID=America/Chicago:20260427T100000
DTEND;TZID=America/Chicago:20260427T103000
DTSTAMP:20260422T073110
CREATED:20260211T200500Z
LAST-MODIFIED:20260414T175926Z
UID:10023882-1777284000-1777285800@rclstn.org
SUMMARY:Silly Song & Dance at Smyrna Public Library
DESCRIPTION:Join Ms. Nicole for Silly Song and Dance Mondays at 10 A.M. at Smyrna Public Library.  This is an exciting high energy program for all ages. Our songs are geared for toddlers and preschoolers to stretch\, dance\, and sing! We will learn about shapes\, colors\, letters\, and numbers while singing and dancing. Adult participation is encouraged! **Programs close at ten minutes after start time.
URL:https://rclstn.org/event/silly-song-dance-at-smyrna-public-library/2026-04-27/
LOCATION:Smyrna Public Library\, 400 Enon Springs Rd W\, Smyrna\, TN\, 37167\, United States
CATEGORIES:Smyrna Public Libary,Smyrna Youth Services
ATTACH;FMTTYPE=image/png:https://rclstn.org/wp-content/uploads/2026/02/Silly-Song-Dance-11-×-8.5-in-8.5-×-11-in-11-×-8.5-in-1.png
END:VEVENT
BEGIN:VEVENT
DTSTART;TZID=America/Chicago:20260427T130000
DTEND;TZID=America/Chicago:20260427T150000
DTSTAMP:20260422T073110
CREATED:20250506T182139Z
LAST-MODIFIED:20260416T163933Z
UID:10012777-1777294800-1777302000@rclstn.org
SUMMARY:Tech Coach 1-on-1
DESCRIPTION:Do you or someone you know need help with technology questions or using the Library’s digital resources? The TEC can help with one-on-one assistance during a TECH Coaching session.  Coaches can help patrons explore technology and increase their digital literacy. \nPlease: \n\nBring your device\nRemember to bring your log-in/password information\nAnd do remember that NO device repair is offered through RCLS
URL:https://rclstn.org/event/tech-coach-1-on-1-2/2026-04-27/
LOCATION:TN
CATEGORIES:Adult,Computer/Tech Classes
ATTACH;FMTTYPE=image/png:https://rclstn.org/wp-content/uploads/2025/01/TechCoach.png
END:VEVENT
BEGIN:VEVENT
DTSTART;TZID=America/Chicago:20260427T140000
DTEND;TZID=America/Chicago:20260427T150000
DTSTAMP:20260422T073110
CREATED:20260318T161124Z
LAST-MODIFIED:20260318T161323Z
UID:10025229-1777298400-1777302000@rclstn.org
SUMMARY:Basic Canva @ Technology Engagement Center
DESCRIPTION:This beginner-friendly class introduces participants to the basics of Canva\, teaching how to create eye-catching flyers\, social media graphics\, and simple presentations using easy drag-and-drop tools. Attendees will learn how to work with templates\, images\, and text so they can confidently design polished materials for personal\, school\, or community projects.
URL:https://rclstn.org/event/basic-canva-technology-engagement-center-2/2026-04-27/
LOCATION:Technology Engagement Center\, 306 Minerva Drive\, Murfreesboro\, TN\, 37130\, United States
CATEGORIES:Computer/Tech Classes,Technology Engagement Center (TEC)
ATTACH;FMTTYPE=image/png:https://rclstn.org/wp-content/uploads/2026/03/15.png
ORGANIZER;CN="Trey":MAILTO:tgwinn@rclstn.org
END:VEVENT
BEGIN:VEVENT
DTSTART;TZID=America/Chicago:20260427T140000
DTEND;TZID=America/Chicago:20260427T150000
DTSTAMP:20260422T073110
CREATED:20260318T201808Z
LAST-MODIFIED:20260318T201858Z
UID:10025241-1777298400-1777302000@rclstn.org
SUMMARY:One on One Tech Help at Eagleville
DESCRIPTION:This one-on-one tech help session at the public library offers personalized assistance for your specific questions about smartphones\, tablets\, laptops\, apps\, or online services. Work at your own pace with a friendly staff member who can help troubleshoot problems\, build confidence\, and make everyday technology easier to use.
URL:https://rclstn.org/event/one-one-one-tech-help-at-eagleville/2026-04-27/
LOCATION:Eagleville Bicentennial Library\, 317 Old Hwy 99\, Eagleville\, TN\, 37060\, United States
CATEGORIES:Computer/Tech Classes,Eagleville Public Library
ATTACH;FMTTYPE=image/png:https://rclstn.org/wp-content/uploads/2026/03/2026-february-computer-classes-2.png
ORGANIZER;CN="Trey":MAILTO:tgwinn@rclstn.org
END:VEVENT
BEGIN:VEVENT
DTSTART;TZID=America/Chicago:20260427T140000
DTEND;TZID=America/Chicago:20260427T160000
DTSTAMP:20260422T073110
CREATED:20250916T190113Z
LAST-MODIFIED:20250916T190113Z
UID:10019813-1777298400-1777305600@rclstn.org
SUMMARY:Curiosity Club
DESCRIPTION:The Curiosity Club is a new play club for preschool through early elementary grades. Every Monday afternoon we’ll set up the children’s section with toys\, games\, art supplies\, and books on a topic kids might be curious about\, and let their imaginations soar!  \nThe one rule for Curiosity Club is there are NO SCREENS allowed\, so please help us keep the section screen-free during this program.
URL:https://rclstn.org/event/curiosity-club/2026-04-27/
LOCATION:Linebaugh Public Library\, 105 W Vine St\, Murfreesboro\, TN\, 37130\, United States
CATEGORIES:Club,Kids and Family,Linebaugh Youth Services
ATTACH;FMTTYPE=image/png:https://rclstn.org/wp-content/uploads/2025/09/Curiosity-Club-Web.png
END:VEVENT
BEGIN:VEVENT
DTSTART;TZID=America/Chicago:20260427T151500
DTEND;TZID=America/Chicago:20260427T160000
DTSTAMP:20260422T073110
CREATED:20260115T220211Z
LAST-MODIFIED:20260414T183118Z
UID:10023858-1777302900-1777305600@rclstn.org
SUMMARY:Pokémon Club at Smyrna Library
DESCRIPTION:Join us @ Smyrna Public Library 3:15pm for our Pokémon Club.  Bring your cards and hang out with fellow Pokémon fans! \nShow and trade Pokémon cards. \nWatch classic episodes to learn more about Pokémon and Ash’s adventures \nAges: 5+ \n*Trading is allowed with parents’ permission. \n*Every 2nd and 4th Monday of the Month.
URL:https://rclstn.org/event/pokemon-club/2026-04-27/
LOCATION:Smyrna Public Library\, 400 Enon Springs Rd W\, Smyrna\, TN\, 37167\, United States
CATEGORIES:Kids and Family,Smyrna Public Libary,Smyrna Youth Services
ATTACH;FMTTYPE=image/png:https://rclstn.org/wp-content/uploads/2026/01/Smy-YS-Pokemon-Club-10.png
END:VEVENT
BEGIN:VEVENT
DTSTART;TZID=America/Chicago:20260427T160000
DTEND;TZID=America/Chicago:20260427T170000
DTSTAMP:20260422T073110
CREATED:20260312T181106Z
LAST-MODIFIED:20260312T181107Z
UID:10013344-1777305600-1777309200@rclstn.org
SUMMARY:Hooked on Yarn at Smyrna Public Library
DESCRIPTION:This will be a space for any fiber crafter- crochet\, knitting\, embroidery\, etc.- to work on projects and talk with other artists at Smyrna Public Library. \nSupplies will be provided\, but you can also bring your own supplies. \nThis event meets every 4th Monday in the Conference Room from 4p-5p at the Smyrna Public Library.
URL:https://rclstn.org/event/hooked-on-yarn-at-smyrna-public-library-3-2/2026-04-27/
LOCATION:Smyrna Public Library\, 400 Enon Springs Rd W\, Smyrna\, TN\, 37167\, United States
CATEGORIES:Adult,Arts and Crafts,Club,Smyrna Public Libary
ATTACH;FMTTYPE=image/png:https://rclstn.org/wp-content/uploads/2025/05/HOOKED-ON-YARN.png
END:VEVENT
END:VCALENDAR