BEGIN:VCALENDAR
VERSION:2.0
PRODID:-//RCLS+ - ECPv6.15.20//NONSGML v1.0//EN
CALSCALE:GREGORIAN
METHOD:PUBLISH
X-ORIGINAL-URL:https://rclstn.org
X-WR-CALDESC:Events for RCLS+
REFRESH-INTERVAL;VALUE=DURATION:PT1H
X-Robots-Tag:noindex
X-PUBLISHED-TTL:PT1H
BEGIN:VTIMEZONE
TZID:America/Chicago
BEGIN:DAYLIGHT
TZOFFSETFROM:-0600
TZOFFSETTO:-0500
TZNAME:CDT
DTSTART:20250309T080000
END:DAYLIGHT
BEGIN:STANDARD
TZOFFSETFROM:-0500
TZOFFSETTO:-0600
TZNAME:CST
DTSTART:20251102T070000
END:STANDARD
BEGIN:DAYLIGHT
TZOFFSETFROM:-0600
TZOFFSETTO:-0500
TZNAME:CDT
DTSTART:20260308T080000
END:DAYLIGHT
BEGIN:STANDARD
TZOFFSETFROM:-0500
TZOFFSETTO:-0600
TZNAME:CST
DTSTART:20261101T070000
END:STANDARD
BEGIN:DAYLIGHT
TZOFFSETFROM:-0600
TZOFFSETTO:-0500
TZNAME:CDT
DTSTART:20270314T080000
END:DAYLIGHT
BEGIN:STANDARD
TZOFFSETFROM:-0500
TZOFFSETTO:-0600
TZNAME:CST
DTSTART:20271107T070000
END:STANDARD
END:VTIMEZONE
BEGIN:VEVENT
DTSTART;TZID=America/Chicago:20260426T130000
DTEND;TZID=America/Chicago:20260426T150000
DTSTAMP:20260424T064742
CREATED:20260318T204836Z
LAST-MODIFIED:20260318T204836Z
UID:10025254-1777208400-1777215600@rclstn.org
SUMMARY:2nd Annual Craft Swap at the TEC
DESCRIPTION:Got extra craft supplies gathering dust? Turn them into fresh inspiration at our 2nd Annual Craft Supply Swap! Bring your gently used materials—yarn\, fabric\, paints\, paper\, beads\, and more—and exchange them for something new-to-you. It’s a fun\, sustainable way to refresh your creative stash\, connect with fellow makers\, and spark your next project without spending a dime. All skill levels welcome—whether you’re a seasoned artist or just getting started\, you’re sure to leave inspired. Join us and let creativity circulate! \nCraft supplies for swap can be dropped of at the Technology Engagement Center April 20th – 24th.  The swap will be held on April 26th from 1:00-3:00 pm.  \n**PLEASE NOTE: No materials will be accepted before 10 am on April 20th or after 5 pm on Friday\, April 24th.  \n 
URL:https://rclstn.org/event/2nd-annual-craft-swap-at-the-tec/
LOCATION:Technology Engagement Center\, 306 Minerva Drive\, Murfreesboro\, TN\, 37130\, United States
CATEGORIES:Adult,Arts and Crafts,Technology Engagement Center (TEC)
ATTACH;FMTTYPE=image/png:https://rclstn.org/wp-content/uploads/2026/03/TEC_Adult-Maker-Club-26-1.png
END:VEVENT
BEGIN:VEVENT
DTSTART;TZID=America/Chicago:20260426T140000
DTEND;TZID=America/Chicago:20260426T150000
DTSTAMP:20260424T064742
CREATED:20260310T211916Z
LAST-MODIFIED:20260310T213421Z
UID:10014115-1777212000-1777215600@rclstn.org
SUMMARY:Forever YA Book Group
DESCRIPTION:Forever Young Adult book club is a group of YA fans who are a little less “Y”(oung) and a bit more “A”(dult). Whether you’re a regular YA reader or you need a break from your usual “to read” list\, all are welcome! Forever Young Adult book club meets every fourth Sunday online.  Click HERE for more information and a list of each month’s book. \n  \nForever YA has gone virtual!  Join the meeting here: \nGoogle Meet\nhttps://meet.google.com/landing?pli=1 \nEnter code zpdrowqfof \n 
URL:https://rclstn.org/event/forever-ya-book-group-2-2-2-2-2-2/2026-04-26/
LOCATION:Linebaugh Public Library\, 105 W Vine St\, Murfreesboro\, TN\, 37130\, United States
CATEGORIES:Book Group,Linebaugh Public Library
ATTACH;FMTTYPE=image/jpeg:https://rclstn.org/wp-content/uploads/2023/12/Book-Club.jpg
END:VEVENT
END:VCALENDAR