BEGIN:VCALENDAR
VERSION:2.0
PRODID:-//RCLS+ - ECPv6.15.20//NONSGML v1.0//EN
CALSCALE:GREGORIAN
METHOD:PUBLISH
X-WR-CALNAME:RCLS+
X-ORIGINAL-URL:https://rclstn.org
X-WR-CALDESC:Events for RCLS+
REFRESH-INTERVAL;VALUE=DURATION:PT1H
X-Robots-Tag:noindex
X-PUBLISHED-TTL:PT1H
BEGIN:VTIMEZONE
TZID:America/Chicago
BEGIN:DAYLIGHT
TZOFFSETFROM:-0600
TZOFFSETTO:-0500
TZNAME:CDT
DTSTART:20250309T080000
END:DAYLIGHT
BEGIN:STANDARD
TZOFFSETFROM:-0500
TZOFFSETTO:-0600
TZNAME:CST
DTSTART:20251102T070000
END:STANDARD
BEGIN:DAYLIGHT
TZOFFSETFROM:-0600
TZOFFSETTO:-0500
TZNAME:CDT
DTSTART:20260308T080000
END:DAYLIGHT
BEGIN:STANDARD
TZOFFSETFROM:-0500
TZOFFSETTO:-0600
TZNAME:CST
DTSTART:20261101T070000
END:STANDARD
BEGIN:DAYLIGHT
TZOFFSETFROM:-0600
TZOFFSETTO:-0500
TZNAME:CDT
DTSTART:20270314T080000
END:DAYLIGHT
BEGIN:STANDARD
TZOFFSETFROM:-0500
TZOFFSETTO:-0600
TZNAME:CST
DTSTART:20271107T070000
END:STANDARD
END:VTIMEZONE
BEGIN:VEVENT
DTSTART;TZID=America/Chicago:20260424T100000
DTEND;TZID=America/Chicago:20260424T103000
DTSTAMP:20260424T012628
CREATED:20260326T173623Z
LAST-MODIFIED:20260417T212327Z
UID:10025330-1777024800-1777026600@rclstn.org
SUMMARY:Bilingual Storytime at Smyrna Library
DESCRIPTION:Join us @ Smyrna Public Library 10 a.m. for a magical bilingual time filled with songs\, laughter\, and stories. \nÚnase a nosotros para una hora mágica bilingüe llena de canciones\, risas e historias. \n\n\nThis program is designed for children and their caregivers to engage in a fun and interactive environment. \nEste programa está diseñado para que los niños y sus cuidadores participen en un entorno divertido e interactivo. \nFor all ages\nPara todas las edades
URL:https://rclstn.org/event/bilingual-storytime/2026-04-24/
LOCATION:TN
ATTACH;FMTTYPE=image/png:https://rclstn.org/wp-content/uploads/2026/03/smy-bilingual.png
END:VEVENT
BEGIN:VEVENT
DTSTART;TZID=America/Chicago:20260424T100000
DTEND;TZID=America/Chicago:20260424T103000
DTSTAMP:20260424T012628
CREATED:20260406T172021Z
LAST-MODIFIED:20260406T172024Z
UID:10015460-1777024800-1777026600@rclstn.org
SUMMARY:Storytime at MGL Library
DESCRIPTION:Join us for stories\, songs\, and a craft every Friday morning at 10 am in MGL’s STEAM Room! All ages are welcome. Please remember MGL Storytimes will take a break in May! Storytimes will continue in June and July for Summer Reading. \n  \nApril storytimes: \nApril 3: Easter \nApril 10: Animal Friends \nApril 17: Earth Day \nApril 24: Library Love \n  \nMGL Library is located inside of Patterson Park Community Center.
URL:https://rclstn.org/event/mgl-storytime-4-2-2-2-2-2-2-2/2026-04-24/
LOCATION:MGL\, 521 Dr. Martin Luther King Blvd\, Murfreesboro\, TN\, 37130\, United States
CATEGORIES:Kids and Family,MGL Youth Services,Myrtle-Glanton Lord (MGL) Library,Story Time
ATTACH;FMTTYPE=image/png:https://rclstn.org/wp-content/uploads/2026/02/MGL_Storytimes_APR-26.png
ORGANIZER;CN="Maddie":MAILTO:mhicks@rclstn.org
END:VEVENT
BEGIN:VEVENT
DTSTART;TZID=America/Chicago:20260424T100000
DTEND;TZID=America/Chicago:20260424T120000
DTSTAMP:20260424T012628
CREATED:20260318T202220Z
LAST-MODIFIED:20260318T202220Z
UID:10025245-1777024800-1777032000@rclstn.org
SUMMARY:One on One Tech Help at Linebaugh Public Library
DESCRIPTION:This one-on-one tech help session at the public library offers personalized assistance for your specific questions about smartphones\, tablets\, laptops\, apps\, or online services. Work at your own pace with a friendly staff member who can help troubleshoot problems\, build confidence\, and make everyday technology easier to use.
URL:https://rclstn.org/event/one-on-one-tech-help-at-linebaugh-public-library-6/2026-04-24/
LOCATION:Linebaugh Public Library\, 105 W Vine St\, Murfreesboro\, TN\, 37130\, United States
CATEGORIES:Computer/Tech Classes,Linebaugh Public Library
ORGANIZER;CN="Trey":MAILTO:tgwinn@rclstn.org
END:VEVENT
BEGIN:VEVENT
DTSTART;TZID=America/Chicago:20260424T130000
DTEND;TZID=America/Chicago:20260424T140000
DTSTAMP:20260424T012628
CREATED:20250717T184458Z
LAST-MODIFIED:20260417T174953Z
UID:10024407-1777035600-1777039200@rclstn.org
SUMMARY:Chair Yoga at Smyrna Library
DESCRIPTION:Chair Yoga is an exercise and stretch class designed to be done with the support of a chair. It’s an ideal exercise for those who don’t want to get on the floor or who can benefit from a chair to support their balance. It’s typically practiced by older adults or people recovering from injuries. Try it out for free at Smyrna Public Library!
URL:https://rclstn.org/event/chair-yoga-at-smyrna-library-2/2026-04-24/
LOCATION:Smyrna Public Library\, 400 Enon Springs Rd W\, Smyrna\, TN\, 37167\, United States
CATEGORIES:Adult,Class,Kids and Family,Smyrna Public Libary,Teen,Teen/Adult,Tween/Teen
ATTACH;FMTTYPE=image/png:https://rclstn.org/wp-content/uploads/2025/07/All-Ages-Chair-Yoga-Fridays-1.png
END:VEVENT
BEGIN:VEVENT
DTSTART;TZID=America/Chicago:20260424T140000
DTEND;TZID=America/Chicago:20260424T150000
DTSTAMP:20260424T012628
CREATED:20251230T211910Z
LAST-MODIFIED:20260409T173432Z
UID:10025271-1777039200-1777042800@rclstn.org
SUMMARY:Phone Photography 101 at Smyrna
DESCRIPTION:New Year\, New Skill! Unlock the full potential of your smartphone to capture stunning photographs through expert guidance on camera settings\, composition techniques\, and editing strategies. Become a master photographer and join us at Smyrna Public Library for Phone Photography 101. This is an all-ages event; however\, any child under the age of 13 must have a parent present and some knowledge of smartphones in order to attend.
URL:https://rclstn.org/event/phone-photography-101-at-smyrna/2026-04-24/
LOCATION:Smyrna Public Library\, 400 Enon Springs Rd W\, Smyrna\, TN\, 37167\, United States
CATEGORIES:Adult,Class,Smyrna Public Libary,Teen,Teen/Adult,Tween/Teen
ATTACH;FMTTYPE=image/png:https://rclstn.org/wp-content/uploads/2025/12/SMY_Photography101-1.png
END:VEVENT
END:VCALENDAR