BEGIN:VCALENDAR
VERSION:2.0
PRODID:-//RCLS+ - ECPv6.15.20//NONSGML v1.0//EN
CALSCALE:GREGORIAN
METHOD:PUBLISH
X-WR-CALNAME:RCLS+
X-ORIGINAL-URL:https://rclstn.org
X-WR-CALDESC:Events for RCLS+
REFRESH-INTERVAL;VALUE=DURATION:PT1H
X-Robots-Tag:noindex
X-PUBLISHED-TTL:PT1H
BEGIN:VTIMEZONE
TZID:America/Chicago
BEGIN:DAYLIGHT
TZOFFSETFROM:-0600
TZOFFSETTO:-0500
TZNAME:CDT
DTSTART:20250309T080000
END:DAYLIGHT
BEGIN:STANDARD
TZOFFSETFROM:-0500
TZOFFSETTO:-0600
TZNAME:CST
DTSTART:20251102T070000
END:STANDARD
BEGIN:DAYLIGHT
TZOFFSETFROM:-0600
TZOFFSETTO:-0500
TZNAME:CDT
DTSTART:20260308T080000
END:DAYLIGHT
BEGIN:STANDARD
TZOFFSETFROM:-0500
TZOFFSETTO:-0600
TZNAME:CST
DTSTART:20261101T070000
END:STANDARD
BEGIN:DAYLIGHT
TZOFFSETFROM:-0600
TZOFFSETTO:-0500
TZNAME:CDT
DTSTART:20270314T080000
END:DAYLIGHT
BEGIN:STANDARD
TZOFFSETFROM:-0500
TZOFFSETTO:-0600
TZNAME:CST
DTSTART:20271107T070000
END:STANDARD
END:VTIMEZONE
BEGIN:VEVENT
DTSTART;VALUE=DATE:20260420
DTEND;VALUE=DATE:20260424
DTSTAMP:20260421T042056
CREATED:20260409T164423Z
LAST-MODIFIED:20260409T170834Z
UID:10025414-1776643200-1776988799@rclstn.org
SUMMARY:Celebrate National Library Week @Linebaugh Library
DESCRIPTION:Monday\, April 20th—Celebrate the start of National Library Week by wearing red\, white\, and blue and signing up for RCLS’ Road to Reading challenge! You can pick up a bookmark while supplies last. \nTuesday\, April 21st\, 10:00 am—Special Library Week storytime! \nWednesday\, April 22nd\, 9:00 am – 11:00 am – Bookmobile Day! Come check out the RCLS bookmobile. It will be parked outside of Linebaugh for National Library Outreach Day. \nThursday\, April 23rd\, 11:00 am – 2:00 pm – Enjoy some popcorn while learning about our support organizations: Friends of Linebaugh Library and the Rutherford County Library Foundation.
URL:https://rclstn.org/event/celebrate-national-library-week-linebaugh-library/
LOCATION:TN
ATTACH;FMTTYPE=image/png:https://rclstn.org/wp-content/uploads/2026/04/Screenshot-2026-04-09-at-11.37.29-AM.png
END:VEVENT
BEGIN:VEVENT
DTSTART;TZID=America/Chicago:20260421T100000
DTEND;TZID=America/Chicago:20260421T103000
DTSTAMP:20260421T042056
CREATED:20260211T201157Z
LAST-MODIFIED:20260414T180320Z
UID:10024140-1776765600-1776767400@rclstn.org
SUMMARY:Silly Song & Dance at Smyrna Public Library
DESCRIPTION:Join Ms. Nicole for Silly Song and Dance Tuesdays at 10 A.M. at Smyrna Public Library.  This is an exciting high energy program for all ages. Our songs are geared for toddlers and preschoolers to stretch\, dance\, and sing! We will learn about shapes\, colors\, letters\, and numbers while singing and dancing. Adult participation is encouraged! **Programs close at ten minutes after start time.
URL:https://rclstn.org/event/silly-song-dance-at-smyrna-public-library-2/2026-04-21/
LOCATION:TN
ATTACH;FMTTYPE=image/png:https://rclstn.org/wp-content/uploads/2026/02/Silly-Song-Dance-11-×-8.5-in-8.5-×-11-in-11-×-8.5-in-2.png
END:VEVENT
BEGIN:VEVENT
DTSTART;TZID=America/Chicago:20260421T100000
DTEND;TZID=America/Chicago:20260421T110000
DTSTAMP:20260421T042056
CREATED:20260324T193722Z
LAST-MODIFIED:20260324T193723Z
UID:10025321-1776765600-1776769200@rclstn.org
SUMMARY:All-Ages Storytime at Linebaugh
DESCRIPTION:This year’s All-Ages Storytime theme is “A is for All!” with a focus on Fry’s sight words list. Every Tuesday and Wednesday at 10 am we’ll have storytimes full of engaging stories\, silly songs\, a puppet show\, and a craft!
URL:https://rclstn.org/event/all-ages-storytime-at-linebaugh-2-5-2/2026-04-21/
LOCATION:Linebaugh Public Library\, 105 W Vine St\, Murfreesboro\, TN\, 37130\, United States
ATTACH;FMTTYPE=image/png:https://rclstn.org/wp-content/uploads/2025/08/Fall-25-ST.png
END:VEVENT
BEGIN:VEVENT
DTSTART;TZID=America/Chicago:20260421T100000
DTEND;TZID=America/Chicago:20260421T110000
DTSTAMP:20260421T042056
CREATED:20260420T160354Z
LAST-MODIFIED:20260420T213032Z
UID:10024855-1776765600-1776769200@rclstn.org
SUMMARY:-CANCELED- Two-Bite Club at Linebaugh
DESCRIPTION:We welcome homeschooling families with older children to join us for our Two-Bite Club and learn healthy\, easy recipes in this exclusive cooking class! We meet once a month from 10-11am in the 1st floor clubroom on select Tuesdays in partnership the University of Tennessee’s Agricultural Extension branch to introduce kids aged 8-12 to a hands-on experience in culinary exploration and nutrition. \nThis event runs concurrently with the All-Ages Storytime in the children’s area on the 1st floor so that older siblings have the option to enjoy more advanced programming. Please let us know if your child has any dietary restrictions and/or allergies. Contact Taylor at tdavis@rclstn.org or call (615) 893-4131 ext. 138 for more information.
URL:https://rclstn.org/event/two-bite-club-homeschool-tween-cooking-class-w-ut-extension-at-linebaugh-library-2-3/
LOCATION:Linebaugh Public Library\, 105 W Vine St\, Murfreesboro\, TN\, 37130\, United States
CATEGORIES:Class,Club,Family,Kids and Family,Linebaugh Public Library,Linebaugh Youth Services,Tween/Teen
ATTACH;FMTTYPE=image/png:https://rclstn.org/wp-content/uploads/2026/03/LIN-Two-Bite-Club-Apr26-Flyer.png
END:VEVENT
BEGIN:VEVENT
DTSTART;TZID=America/Chicago:20260421T113000
DTEND;TZID=America/Chicago:20260421T120000
DTSTAMP:20260421T042056
CREATED:20260318T202434Z
LAST-MODIFIED:20260416T162904Z
UID:10017965-1776771000-1776772800@rclstn.org
SUMMARY:Tiny TEC
DESCRIPTION:Join us for our Tiny TEC program\, specially designed for children aged 2-4! Each week\, we will dive into colorful picture books and participate in fun\, hands-on science activities inspired by the stories. From exploring textures to simple experiments\, this program nurtures curiosity\, sparks imagination\, and encourages early literacy and scientific thinking. Come discover\, learn\, and play with us—where every page turn is a new adventure! \nTiny TEC is held every Tuesday at 11:30 am and is free and open to the public. \nApril Themes:\n04/07 – Sprout Houses \n04/14 – Cat Collages \n04/21 – Worm Puppets \n04/28 – Number Scavenger Hunt
URL:https://rclstn.org/event/tiny-tec-2-2/2026-04-21/
LOCATION:Technology Engagement Center\, 306 Minerva Drive\, Murfreesboro\, TN\, 37130\, United States
CATEGORIES:Kids and Family,TEC Youth Services,Technology Engagement Center (TEC)
ATTACH;FMTTYPE=image/png:https://rclstn.org/wp-content/uploads/2025/08/TEC_Recurring-Events-Flyers-1-1.png
ORGANIZER;CN="Lee":MAILTO:hcurtis@rclstn.org
END:VEVENT
BEGIN:VEVENT
DTSTART;TZID=America/Chicago:20260421T140000
DTEND;TZID=America/Chicago:20260421T150000
DTSTAMP:20260421T042056
CREATED:20260318T161623Z
LAST-MODIFIED:20260318T161623Z
UID:10025230-1776780000-1776783600@rclstn.org
SUMMARY:Recording Studio Orientation for Beginners at Technology Engagement Center
DESCRIPTION:This beginner-friendly class introduces participants to the public library’s recording studio\, covering the basics of equipment\, software\, and studio etiquette in a simple\, hands-on way. Attendees will learn how to set up microphones\, record clear audio\, and confidently use the space to create podcasts\, music\, or voice projects.
URL:https://rclstn.org/event/recording-studio-orientation-for-beginners-at-technology-engagement-center/
LOCATION:Technology Engagement Center\, 306 Minerva Drive\, Murfreesboro\, TN\, 37130\, United States
CATEGORIES:Computer/Tech Classes,Technology Engagement Center (TEC)
ATTACH;FMTTYPE=image/png:https://rclstn.org/wp-content/uploads/2026/03/16.png
ORGANIZER;CN="Trey":MAILTO:tgwinn@rclstn.org
END:VEVENT
BEGIN:VEVENT
DTSTART;TZID=America/Chicago:20260421T140000
DTEND;TZID=America/Chicago:20260421T153000
DTSTAMP:20260421T042056
CREATED:20251022T155217Z
LAST-MODIFIED:20251216T214119Z
UID:10020864-1776780000-1776785400@rclstn.org
SUMMARY:Computer Basics
DESCRIPTION:Free computer classes @ the TEC! Come learn basic computer skills\, Windows 10\, Google Docs\, Microsoft Office\, Excel\, PowerPoint and more with self-paced modules and guided instruction. \nThis class\, which is taught by Workforce Essentials\, is for Adults. \nFor more information contact: mamaro@workforceessentials.com
URL:https://rclstn.org/event/computer-basics-2-2-2-2/2026-04-21/
LOCATION:Technology Engagement Center\, 306 Minerva Drive\, Murfreesboro\, TN\, 37130\, United States
CATEGORIES:Adult,Class,Computer/Tech Classes,Technology Engagement Center (TEC)
ATTACH;FMTTYPE=image/png:https://rclstn.org/wp-content/uploads/2025/10/for-TEC-Grafitti-sign.png
END:VEVENT
BEGIN:VEVENT
DTSTART;TZID=America/Chicago:20260421T144500
DTEND;TZID=America/Chicago:20260421T154500
DTSTAMP:20260421T042056
CREATED:20251230T225928Z
LAST-MODIFIED:20251230T225929Z
UID:10022445-1776782700-1776786300@rclstn.org
SUMMARY:READing with Lucas at MGL Library
DESCRIPTION:Join us for READing with Lucas every Tuesday at 1pm at MGL Library! Lucas loves pets and belly rubs- and having a story read to him! Sign up by calling or visiting the library. All ages are welcome! \nMGL Library is proud to participate in the Reading Education Assistance Dogs (R.E.A.D) READing Paws Program. This program is dedicated to improving the reading skills of children using registered therapy teams as literacy mentors. \nMGL Library is located inside of Patterson Park Community Center.
URL:https://rclstn.org/event/reading-with-lucas-at-mgl-library-2/2026-04-21/
LOCATION:MGL\, 521 Dr. Martin Luther King Blvd\, Murfreesboro\, TN\, 37130\, United States
CATEGORIES:Book Group,MGL Youth Services,Myrtle-Glanton Lord (MGL) Library,Story Time
ATTACH;FMTTYPE=image/png:https://rclstn.org/wp-content/uploads/2025/08/MGL_Read-with-Lucas_2026.png
END:VEVENT
BEGIN:VEVENT
DTSTART;TZID=America/Chicago:20260421T160000
DTEND;TZID=America/Chicago:20260421T173000
DTSTAMP:20260421T042056
CREATED:20251219T181910Z
LAST-MODIFIED:20251219T181910Z
UID:10022049-1776787200-1776792600@rclstn.org
SUMMARY:Teen Creative Writing Club @ Linebaugh Library
DESCRIPTION:Join us every 3rd Tuesday from 4-5:30pm in the 1st floor club room at Linebaugh Public Library for our Teen Creative Writing Club (ages 13-18)! \nTeen writers of all proficiencies are invited to join us to share their work & learn ways to improve their craft! Bring up to 4 minutes of original writing (stories\, poetry\, scripts\, creative non-fiction\, etc.) & get feedback from your peers. Email Taylor at tdavis@rclstn.org for more information.
URL:https://rclstn.org/event/teen-creative-writing-club-linebaugh-library/2026-04-21/
LOCATION:Linebaugh Public Library\, 105 W Vine St\, Murfreesboro\, TN\, 37130\, United States
CATEGORIES:Club,Linebaugh Public Library,Linebaugh Youth Services,Teen,Writing Group
ATTACH;FMTTYPE=image/png:https://rclstn.org/wp-content/uploads/2025/12/Teen-Creative-Writing-Club-IGPJ-1.png
END:VEVENT
BEGIN:VEVENT
DTSTART;TZID=America/Chicago:20260421T173000
DTEND;TZID=America/Chicago:20260421T183000
DTSTAMP:20260421T042056
CREATED:20231219T161241Z
LAST-MODIFIED:20241118T220842Z
UID:10000461-1776792600-1776796200@rclstn.org
SUMMARY:Art for Inner Exploration
DESCRIPTION:Curious about how art affects our emotions? Join us for a free\, artist-led workshop on the 3rd Tuesday of each month in the 2nd floor Conference Room at Linebaugh Public Library. Artist CatieBeth Thomas has been volunteering as an art therapist\, creating her own painted and fiber art works and teaching art since 2013. She is a native Tennesseean who believes everyone should have access to community spaces where they can express themselves. Participants will explore color theory and their emotions\, gratitude\, and self love. These art classes will be from 5:30 – 6:30 pm\, are for adults and teens\, and all materials are provided. Feel free to bring your own supplies\, paper or notebooks if you prefer. \nFor more information\, visit www.catiebeththomas.com. \n  \n 
URL:https://rclstn.org/event/art-for-inner-exploration/2026-04-21/
LOCATION:TN
CATEGORIES:Class,Linebaugh Public Library
ATTACH;FMTTYPE=image/jpeg:https://rclstn.org/wp-content/uploads/2023/12/Art-for-Inner-Exploration.jpg
END:VEVENT
END:VCALENDAR