BEGIN:VCALENDAR
VERSION:2.0
PRODID:-//RCLS+ - ECPv6.15.20//NONSGML v1.0//EN
CALSCALE:GREGORIAN
METHOD:PUBLISH
X-WR-CALNAME:RCLS+
X-ORIGINAL-URL:https://rclstn.org
X-WR-CALDESC:Events for RCLS+
REFRESH-INTERVAL;VALUE=DURATION:PT1H
X-Robots-Tag:noindex
X-PUBLISHED-TTL:PT1H
BEGIN:VTIMEZONE
TZID:America/Chicago
BEGIN:DAYLIGHT
TZOFFSETFROM:-0600
TZOFFSETTO:-0500
TZNAME:CDT
DTSTART:20250309T080000
END:DAYLIGHT
BEGIN:STANDARD
TZOFFSETFROM:-0500
TZOFFSETTO:-0600
TZNAME:CST
DTSTART:20251102T070000
END:STANDARD
BEGIN:DAYLIGHT
TZOFFSETFROM:-0600
TZOFFSETTO:-0500
TZNAME:CDT
DTSTART:20260308T080000
END:DAYLIGHT
BEGIN:STANDARD
TZOFFSETFROM:-0500
TZOFFSETTO:-0600
TZNAME:CST
DTSTART:20261101T070000
END:STANDARD
BEGIN:DAYLIGHT
TZOFFSETFROM:-0600
TZOFFSETTO:-0500
TZNAME:CDT
DTSTART:20270314T080000
END:DAYLIGHT
BEGIN:STANDARD
TZOFFSETFROM:-0500
TZOFFSETTO:-0600
TZNAME:CST
DTSTART:20271107T070000
END:STANDARD
END:VTIMEZONE
BEGIN:VEVENT
DTSTART;VALUE=DATE:20260420
DTEND;VALUE=DATE:20260424
DTSTAMP:20260420T015809
CREATED:20260409T164423Z
LAST-MODIFIED:20260409T170834Z
UID:10025414-1776643200-1776988799@rclstn.org
SUMMARY:Celebrate National Library Week @Linebaugh Library
DESCRIPTION:Monday\, April 20th—Celebrate the start of National Library Week by wearing red\, white\, and blue and signing up for RCLS’ Road to Reading challenge! You can pick up a bookmark while supplies last. \nTuesday\, April 21st\, 10:00 am—Special Library Week storytime! \nWednesday\, April 22nd\, 9:00 am – 11:00 am – Bookmobile Day! Come check out the RCLS bookmobile. It will be parked outside of Linebaugh for National Library Outreach Day. \nThursday\, April 23rd\, 11:00 am – 2:00 pm – Enjoy some popcorn while learning about our support organizations: Friends of Linebaugh Library and the Rutherford County Library Foundation.
URL:https://rclstn.org/event/celebrate-national-library-week-linebaugh-library/
LOCATION:TN
ATTACH;FMTTYPE=image/png:https://rclstn.org/wp-content/uploads/2026/04/Screenshot-2026-04-09-at-11.37.29-AM.png
END:VEVENT
BEGIN:VEVENT
DTSTART;TZID=America/Chicago:20260420T100000
DTEND;TZID=America/Chicago:20260420T103000
DTSTAMP:20260420T015809
CREATED:20260211T200500Z
LAST-MODIFIED:20260414T175926Z
UID:10023881-1776679200-1776681000@rclstn.org
SUMMARY:Silly Song & Dance at Smyrna Public Library
DESCRIPTION:Join Ms. Nicole for Silly Song and Dance Mondays at 10 A.M. at Smyrna Public Library.  This is an exciting high energy program for all ages. Our songs are geared for toddlers and preschoolers to stretch\, dance\, and sing! We will learn about shapes\, colors\, letters\, and numbers while singing and dancing. Adult participation is encouraged! **Programs close at ten minutes after start time.
URL:https://rclstn.org/event/silly-song-dance-at-smyrna-public-library/2026-04-20/
LOCATION:Smyrna Public Library\, 400 Enon Springs Rd W\, Smyrna\, TN\, 37167\, United States
CATEGORIES:Smyrna Public Libary,Smyrna Youth Services
ATTACH;FMTTYPE=image/png:https://rclstn.org/wp-content/uploads/2026/02/Silly-Song-Dance-11-×-8.5-in-8.5-×-11-in-11-×-8.5-in-1.png
END:VEVENT
BEGIN:VEVENT
DTSTART;TZID=America/Chicago:20260420T140000
DTEND;TZID=America/Chicago:20260420T150000
DTSTAMP:20260420T015809
CREATED:20260318T162923Z
LAST-MODIFIED:20260319T133040Z
UID:10025234-1776693600-1776697200@rclstn.org
SUMMARY:Scam Awareness for Seniors at Myrtle-Glanton Lord
DESCRIPTION:This free class at the public library helps senior citizens recognize common scams\, protect their personal information\, and confidently navigate phone calls\, emails\, and online offers that may be fraudulent. Participants will learn practical safety tips\, hear real-world examples\, and gain confidence to explore the internet without fear.
URL:https://rclstn.org/event/scam-awareness-for-seniors-at-myrtle-glanton-lord/
LOCATION:MGL\, 521 Dr. Martin Luther King Blvd\, Murfreesboro\, TN\, 37130\, United States
CATEGORIES:Computer/Tech Classes,Myrtle-Glanton Lord (MGL) Library
ATTACH;FMTTYPE=image/png:https://rclstn.org/wp-content/uploads/2026/03/2026-february-computer-classes-3.png
ORGANIZER;CN="Trey":MAILTO:tgwinn@rclstn.org
END:VEVENT
BEGIN:VEVENT
DTSTART;TZID=America/Chicago:20260420T140000
DTEND;TZID=America/Chicago:20260420T160000
DTSTAMP:20260420T015809
CREATED:20250916T190113Z
LAST-MODIFIED:20250916T190113Z
UID:10019812-1776693600-1776700800@rclstn.org
SUMMARY:Curiosity Club
DESCRIPTION:The Curiosity Club is a new play club for preschool through early elementary grades. Every Monday afternoon we’ll set up the children’s section with toys\, games\, art supplies\, and books on a topic kids might be curious about\, and let their imaginations soar!  \nThe one rule for Curiosity Club is there are NO SCREENS allowed\, so please help us keep the section screen-free during this program.
URL:https://rclstn.org/event/curiosity-club/2026-04-20/
LOCATION:Linebaugh Public Library\, 105 W Vine St\, Murfreesboro\, TN\, 37130\, United States
CATEGORIES:Club,Kids and Family,Linebaugh Youth Services
ATTACH;FMTTYPE=image/png:https://rclstn.org/wp-content/uploads/2025/09/Curiosity-Club-Web.png
END:VEVENT
BEGIN:VEVENT
DTSTART;TZID=America/Chicago:20260420T151500
DTEND;TZID=America/Chicago:20260420T154500
DTSTAMP:20260420T015809
CREATED:20260217T211317Z
LAST-MODIFIED:20260414T183749Z
UID:10024656-1776698100-1776699900@rclstn.org
SUMMARY:LEGO Block Party at Smyrna Library
DESCRIPTION:Join us at the Smyrna Public Library for half an hour of Lego free play! \n\nBuild whatever you can imagine\nMeet other Lego enthusiasts\nBolster Creativity\n\nLegos must remain at the library in order for us to save your build between events. This way\, you can continue to work on your masterpiece during future events.
URL:https://rclstn.org/event/lego-block-party-at-smyrna-library-6/2026-04-20/
LOCATION:Smyrna Public Library\, 400 Enon Springs Rd W\, Smyrna\, TN\, 37167\, United States
CATEGORIES:Kids and Family,Smyrna Public Libary,Smyrna Youth Services
ATTACH;FMTTYPE=image/png:https://rclstn.org/wp-content/uploads/2025/10/SMY_LEGOBLOCK-PARTY-4.png
END:VEVENT
BEGIN:VEVENT
DTSTART;TZID=America/Chicago:20260420T153000
DTEND;TZID=America/Chicago:20260420T170000
DTSTAMP:20260420T015809
CREATED:20251229T171722Z
LAST-MODIFIED:20251229T171722Z
UID:10007084-1776699000-1776704400@rclstn.org
SUMMARY:READing Paws at Linebaugh
DESCRIPTION:Do you have a child who is a struggling or new reader? Does your child love to read? Does your child love dogs? We have the perfect opportunity for you here at Linebaugh! Call 615-893-4131 ext. 114 to register to read to a trained Reading Education Assistance Dog! The dogs love to listen to children read while being petted and cuddled! Stevie and Paris will be here on Mondays from 3:30-5 pm. 
URL:https://rclstn.org/event/reading-paws-at-linebaugh-2-2-3-2-2-2/2026-04-20/
LOCATION:Linebaugh Public Library\, 105 W Vine St\, Murfreesboro\, TN\, 37130\, United States
CATEGORIES:Linebaugh Youth Services
ATTACH;FMTTYPE=image/png:https://rclstn.org/wp-content/uploads/2025/07/READing-Paws-Mon-rec.png
END:VEVENT
BEGIN:VEVENT
DTSTART;TZID=America/Chicago:20260420T170000
DTEND;TZID=America/Chicago:20260420T180000
DTSTAMP:20260420T015809
CREATED:20241025T160032Z
LAST-MODIFIED:20241025T160318Z
UID:10010687-1776704400-1776708000@rclstn.org
SUMMARY:RCLS Board Meeting
DESCRIPTION:
URL:https://rclstn.org/event/rcls-board-meeting-2/2026-04-20/
LOCATION:Smyrna Public Library\, 400 Enon Springs Rd W\, Smyrna\, TN\, 37167\, United States
CATEGORIES:Library Board
END:VEVENT
END:VCALENDAR