BEGIN:VCALENDAR
VERSION:2.0
PRODID:-//RCLS+ - ECPv6.15.20//NONSGML v1.0//EN
CALSCALE:GREGORIAN
METHOD:PUBLISH
X-WR-CALNAME:RCLS+
X-ORIGINAL-URL:https://rclstn.org
X-WR-CALDESC:Events for RCLS+
REFRESH-INTERVAL;VALUE=DURATION:PT1H
X-Robots-Tag:noindex
X-PUBLISHED-TTL:PT1H
BEGIN:VTIMEZONE
TZID:America/Chicago
BEGIN:DAYLIGHT
TZOFFSETFROM:-0600
TZOFFSETTO:-0500
TZNAME:CDT
DTSTART:20250309T080000
END:DAYLIGHT
BEGIN:STANDARD
TZOFFSETFROM:-0500
TZOFFSETTO:-0600
TZNAME:CST
DTSTART:20251102T070000
END:STANDARD
BEGIN:DAYLIGHT
TZOFFSETFROM:-0600
TZOFFSETTO:-0500
TZNAME:CDT
DTSTART:20260308T080000
END:DAYLIGHT
BEGIN:STANDARD
TZOFFSETFROM:-0500
TZOFFSETTO:-0600
TZNAME:CST
DTSTART:20261101T070000
END:STANDARD
BEGIN:DAYLIGHT
TZOFFSETFROM:-0600
TZOFFSETTO:-0500
TZNAME:CDT
DTSTART:20270314T080000
END:DAYLIGHT
BEGIN:STANDARD
TZOFFSETFROM:-0500
TZOFFSETTO:-0600
TZNAME:CST
DTSTART:20271107T070000
END:STANDARD
END:VTIMEZONE
BEGIN:VEVENT
DTSTART;TZID=America/Chicago:20260415T100000
DTEND;TZID=America/Chicago:20260415T104500
DTSTAMP:20260421T030936
CREATED:20260324T193722Z
LAST-MODIFIED:20260324T193723Z
UID:10021264-1776247200-1776249900@rclstn.org
SUMMARY:All-Ages Storytime at Linebaugh
DESCRIPTION:This year’s All-Ages Storytime theme is “A is for All!” with a focus on Fry’s sight words list. Every Tuesday and Wednesday at 10 am we’ll have storytimes full of engaging stories\, silly songs\, a puppet show\, and a craft!
URL:https://rclstn.org/event/all-ages-storytime-at-linebaugh-2-5-2/2026-04-15/
LOCATION:Linebaugh Public Library\, 105 W Vine St\, Murfreesboro\, TN\, 37130\, United States
ATTACH;FMTTYPE=image/png:https://rclstn.org/wp-content/uploads/2025/08/Fall-25-ST.png
END:VEVENT
BEGIN:VEVENT
DTSTART;TZID=America/Chicago:20260415T100000
DTEND;TZID=America/Chicago:20260415T110000
DTSTAMP:20260421T030936
CREATED:20251124T213101Z
LAST-MODIFIED:20260414T181658Z
UID:10018686-1776247200-1776250800@rclstn.org
SUMMARY:All Ages Story Time at Smyrna Library
DESCRIPTION:Join us at Smyrna Public Library for All Ages Story Time where we will read stories\, sing songs\, and play fun games to enhance early literacy.   *Programs close 10 minutes after start time.
URL:https://rclstn.org/event/all-ages-story-time-at-smyrna-library-2-2/2026-04-15/
LOCATION:Smyrna Public Library\, 400 Enon Springs Rd W\, Smyrna\, TN\, 37167\, United States
CATEGORIES:Kids and Family,Smyrna Public Libary,Smyrna Youth Services,Story Time
ATTACH;FMTTYPE=image/png:https://rclstn.org/wp-content/uploads/2024/10/family-story-time-11-×-8.5-in.png
ORGANIZER;CN="Smyrna Youth Services":MAILTO:smyrnays@rclstn.org
END:VEVENT
BEGIN:VEVENT
DTSTART;TZID=America/Chicago:20260415T140000
DTEND;TZID=America/Chicago:20260415T150000
DTSTAMP:20260421T030936
CREATED:20260318T162651Z
LAST-MODIFIED:20260319T133352Z
UID:10025233-1776261600-1776265200@rclstn.org
SUMMARY:Scam Awareness for Seniors at Smyrna Public Library
DESCRIPTION:This free class at the public library helps senior citizens recognize common scams\, protect their personal information\, and confidently navigate phone calls\, emails\, and online offers that may be fraudulent. Participants will learn practical safety tips\, hear real-world examples\, and gain confidence to explore the internet without fear.
URL:https://rclstn.org/event/scam-awareness-for-seniors-at-smyrna-public-library/
LOCATION:Smyrna Public Library\, 400 Enon Springs Rd W\, Smyrna\, TN\, 37167\, United States
CATEGORIES:Computer/Tech Classes,Smyrna Public Libary
ATTACH;FMTTYPE=image/png:https://rclstn.org/wp-content/uploads/2026/03/2026-february-computer-classes-3.png
ORGANIZER;CN="Trey":MAILTO:tgwinn@rclstn.org
END:VEVENT
BEGIN:VEVENT
DTSTART;TZID=America/Chicago:20260415T150000
DTEND;TZID=America/Chicago:20260415T152500
DTSTAMP:20260421T030936
CREATED:20251231T002828Z
LAST-MODIFIED:20251231T002830Z
UID:10011072-1776265200-1776266700@rclstn.org
SUMMARY:STEAM Lab at MGL Library
DESCRIPTION:Enjoy hands on activities to engage your curiosity and creativity that spans science\, technology\, engineering\, art\, and math! All ages are welcome.
URL:https://rclstn.org/event/s-t-e-a-m-lab-38-2-2-2/2026-04-15/
LOCATION:MGL\, 521 Dr. Martin Luther King Blvd\, Murfreesboro\, TN\, 37130\, United States
CATEGORIES:Kids and Family,MGL Youth Services,Myrtle-Glanton Lord (MGL) Library,STEM
ATTACH;FMTTYPE=image/png:https://rclstn.org/wp-content/uploads/2025/07/MGL_January-STEAM_Social.png
ORGANIZER;CN="Maddie":MAILTO:mhicks@rclstn.org
END:VEVENT
BEGIN:VEVENT
DTSTART;TZID=America/Chicago:20260415T153000
DTEND;TZID=America/Chicago:20260415T170000
DTSTAMP:20260421T030936
CREATED:20260107T212833Z
LAST-MODIFIED:20260319T184831Z
UID:10022777-1776267000-1776272400@rclstn.org
SUMMARY:Preteen D&D at Smyrna (Full)
DESCRIPTION:Join us for our Preteen Dungeons and Dragons Pirate Campaign. \nHelp build confidence\, critical thinking\, problem solving\, teamwork\, and conflict resolution skills. \nRegister on our website to join our waitlist!
URL:https://rclstn.org/event/preteen-dd-at-smyrna-full/2026-04-15/
LOCATION:TN
CATEGORIES:Smyrna Public Libary,Smyrna Youth Services
ATTACH;FMTTYPE=image/png:https://rclstn.org/wp-content/uploads/2026/01/smy-Pre-Teen-DD-2026-1-1.png
END:VEVENT
BEGIN:VEVENT
DTSTART;TZID=America/Chicago:20260415T173000
DTEND;TZID=America/Chicago:20260415T190000
DTSTAMP:20260421T030936
CREATED:20260323T215828Z
LAST-MODIFIED:20260323T215828Z
UID:10025319-1776274200-1776279600@rclstn.org
SUMMARY:Movie Night at Linebaugh
DESCRIPTION:Join us for a showing of Carrie at Linebaugh. Movie is Rated R. Anyone under 18 must be accompanied by an adult.
URL:https://rclstn.org/event/movie-night-at-linebaugh-2/
LOCATION:Linebaugh Public Library\, 105 W Vine St\, Murfreesboro\, TN\, 37130\, United States
CATEGORIES:Adult,Linebaugh Public Library,Movie
ATTACH;FMTTYPE=image/png:https://rclstn.org/wp-content/uploads/2026/03/Carrie-Website.png
END:VEVENT
BEGIN:VEVENT
DTSTART;TZID=America/Chicago:20260415T173000
DTEND;TZID=America/Chicago:20260415T190000
DTSTAMP:20260421T030936
CREATED:20260327T213826Z
LAST-MODIFIED:20260327T213826Z
UID:10025340-1776274200-1776279600@rclstn.org
SUMMARY:Books & Brews book club
DESCRIPTION:This book club meets off-site at local venues to share in the joy of reading! \nThis month’s title: Murder in the Dressing Room by Holly Stars \nMeeting at: Miller’s Ale House\, 1714 Old Fort Pkwy\, Murfreesboro
URL:https://rclstn.org/event/books-brews-book-club-3/
LOCATION:TN
CATEGORIES:Adult,Book Group,off-site,Technology Engagement Center (TEC),Teen/Adult
ATTACH;FMTTYPE=image/png:https://rclstn.org/wp-content/uploads/2025/08/BB-calendar.png
END:VEVENT
BEGIN:VEVENT
DTSTART;TZID=America/Chicago:20260415T173000
DTEND;TZID=America/Chicago:20260415T193000
DTSTAMP:20260421T030936
CREATED:20260116T015631Z
LAST-MODIFIED:20260116T015632Z
UID:10023457-1776274200-1776281400@rclstn.org
SUMMARY:Writing Workshop @ Smyrna Library
DESCRIPTION:The Smyrna Library’s Writing Workshop will be a monthly event where you can come to explore and hone your writing skills! We will explore different techniques and styles each session\, as well as have structured time to workshop pieces you’ve been working on. \nThis is a great opportunity for both new and seasoned writers alike to work together to create polished pieces and bring ideas to life! \nIf you have any questions about this event\, please email wmacready@rclstn.org
URL:https://rclstn.org/event/written-mosaic-writing-workshop-3-2/2026-04-15/
LOCATION:Smyrna Public Library\, 400 Enon Springs Rd W\, Smyrna\, TN\, 37167\, United States
CATEGORIES:Adult,Arts and Crafts,Class,Club,Smyrna Public Libary,Teen,Teen/Adult,Writing Group
ATTACH;FMTTYPE=image/png:https://rclstn.org/wp-content/uploads/2026/01/Smyrna-Writing-Workshop.png
END:VEVENT
BEGIN:VEVENT
DTSTART;TZID=America/Chicago:20260415T180000
DTEND;TZID=America/Chicago:20260415T190000
DTSTAMP:20260421T030936
CREATED:20250114T174248Z
LAST-MODIFIED:20251011T174250Z
UID:10013112-1776276000-1776279600@rclstn.org
SUMMARY:Murfreesboro Writer's Group
DESCRIPTION:The Murfreesboro Writers Group is a group of local writers who seek to improve their work through mutual critique. The group meets every Wednesday at 6:00 p.m. in the 2nd floor Meeting Room at Linebaugh Library. Anyone interested in writing is welcome to visit to see if you’d like to join the group. You might hear science fiction\, poetry\, alternate reality\, memoir\, fantasy\, mystery\, literary fiction\, or more.
URL:https://rclstn.org/event/murfreesboro-writers-group/2026-04-15/
LOCATION:Linebaugh Public Library\, 105 W Vine St\, Murfreesboro\, TN\, 37130\, United States
ATTACH;FMTTYPE=image/png:https://rclstn.org/wp-content/uploads/2025/01/Screenshot-2025-01-14-at-11.41.28 AM.png
END:VEVENT
END:VCALENDAR