BEGIN:VCALENDAR
VERSION:2.0
PRODID:-//RCLS+ - ECPv6.15.20//NONSGML v1.0//EN
CALSCALE:GREGORIAN
METHOD:PUBLISH
X-ORIGINAL-URL:https://rclstn.org
X-WR-CALDESC:Events for RCLS+
REFRESH-INTERVAL;VALUE=DURATION:PT1H
X-Robots-Tag:noindex
X-PUBLISHED-TTL:PT1H
BEGIN:VTIMEZONE
TZID:America/Chicago
BEGIN:DAYLIGHT
TZOFFSETFROM:-0600
TZOFFSETTO:-0500
TZNAME:CDT
DTSTART:20250309T080000
END:DAYLIGHT
BEGIN:STANDARD
TZOFFSETFROM:-0500
TZOFFSETTO:-0600
TZNAME:CST
DTSTART:20251102T070000
END:STANDARD
BEGIN:DAYLIGHT
TZOFFSETFROM:-0600
TZOFFSETTO:-0500
TZNAME:CDT
DTSTART:20260308T080000
END:DAYLIGHT
BEGIN:STANDARD
TZOFFSETFROM:-0500
TZOFFSETTO:-0600
TZNAME:CST
DTSTART:20261101T070000
END:STANDARD
BEGIN:DAYLIGHT
TZOFFSETFROM:-0600
TZOFFSETTO:-0500
TZNAME:CDT
DTSTART:20270314T080000
END:DAYLIGHT
BEGIN:STANDARD
TZOFFSETFROM:-0500
TZOFFSETTO:-0600
TZNAME:CST
DTSTART:20271107T070000
END:STANDARD
END:VTIMEZONE
BEGIN:VEVENT
DTSTART;TZID=America/Chicago:20260409T100000
DTEND;TZID=America/Chicago:20260409T103000
DTSTAMP:20260422T110449
CREATED:20250820T144232Z
LAST-MODIFIED:20250820T144232Z
UID:10018348-1775728800-1775730600@rclstn.org
SUMMARY:Itty Bitty Storytime
DESCRIPTION:Thursday Itty Bitty Storytimes are for our littlest patrons (aged 0-23 months) and feature fingerplays\, lap bounces\, and board book stories in a shorter format. We keep the same songs and fingerplays for a month at a time\, so you can learn them and use them at home with your family!
URL:https://rclstn.org/event/itty-bitty-storytime-2/2026-04-09/
LOCATION:Linebaugh Public Library\, 105 W Vine St\, Murfreesboro\, TN\, 37130\, United States
CATEGORIES:Kids and Family,Linebaugh Youth Services,Story Time
ATTACH;FMTTYPE=image/png:https://rclstn.org/wp-content/uploads/2025/08/Fall-25-Itty-Bitty.png
END:VEVENT
BEGIN:VEVENT
DTSTART;TZID=America/Chicago:20260409T103000
DTEND;TZID=America/Chicago:20260409T113000
DTSTAMP:20260422T110449
CREATED:20260122T165153Z
LAST-MODIFIED:20260416T162117Z
UID:10025246-1775730600-1775734200@rclstn.org
SUMMARY:Storytime Social Hour at the TEC
DESCRIPTION:Join us for a new kind of storytime at the Technology Engagement Center that’s fun for the whole family! Children will enjoy a lively storytime filled with engaging books and activities\, while adults can relax and connect with other caregivers during a casual social time featuring hot drinks and donuts. \nThis program is designed for families to enjoy together. Adults must remain with and actively supervise their children at all times during the event. Children may not be dropped off. \nBring your little ones\, grab a warm drink\, and spend some quality time together at the library—we look forward to seeing you there!
URL:https://rclstn.org/event/storytime-social-hour-at-the-tec/2026-04-09/
LOCATION:Technology Engagement Center\, 306 Minerva Drive\, Murfreesboro\, TN\, 37130\, United States
CATEGORIES:Kids and Family,Story Time,Technology Engagement Center (TEC)
ATTACH;FMTTYPE=image/png:https://rclstn.org/wp-content/uploads/2026/01/TEC_Recurring-Events-Flyers-1.png
ORGANIZER;CN="Lee":MAILTO:hcurtis@rclstn.org
END:VEVENT
BEGIN:VEVENT
DTSTART;TZID=America/Chicago:20260409T153000
DTEND;TZID=America/Chicago:20260409T163000
DTSTAMP:20260422T110449
CREATED:20260318T202936Z
LAST-MODIFIED:20260318T202937Z
UID:10018021-1775748600-1775752200@rclstn.org
SUMMARY:Tinker TEC
DESCRIPTION:Discover the exciting world of science and discovery at our STEAM program for kids ages 5-8! Join us at the library for fun-filled sessions where we explore fascinating nonfiction picture books and bring science to life with hands-on experiments. Perfect for curious minds\, our program sparks creativity\, critical thinking\, and a love for learning through engaging stories and exciting activities. Come ignite your child’s curiosity and make learning an adventure—no registration needed\, just bring your enthusiasm! \nThis event is free and open to the public. \nApril Themes:\n04/09 – Plant Dissection \n04/16 – Worm Observation \n04/23 – Upcycled Art \n04/30 – Rainforest Terrariums
URL:https://rclstn.org/event/15516-2/2026-04-09/
LOCATION:Technology Engagement Center\, 306 Minerva Drive\, Murfreesboro\, TN\, 37130\, United States
CATEGORIES:STEAM,STEM,TEC Youth Services,Technology Engagement Center (TEC)
ATTACH;FMTTYPE=image/png:https://rclstn.org/wp-content/uploads/2025/08/TEC_Recurring-Events-Flyers-2.png
ORGANIZER;CN="Lee":MAILTO:hcurtis@rclstn.org
END:VEVENT
BEGIN:VEVENT
DTSTART;TZID=America/Chicago:20260409T160000
DTEND;TZID=America/Chicago:20260409T164500
DTSTAMP:20260422T110449
CREATED:20250821T161845Z
LAST-MODIFIED:20250821T162222Z
UID:10018429-1775750400-1775753100@rclstn.org
SUMMARY:Girls Who Code Club
DESCRIPTION:Girls Who Code club is for 3rd – 5th graders interested in coding\, technology\, and design. Offered every Thursday 4-4:45 pm at Linebaugh Public Library\, we’ll learn about the basics of computer logic\, pioneers in tech fields\, and how AI works. \nGirls Who Code: \n\nis FREE\ndoes not require a device\ndoes not require any prior coding knowledge\nis not only for girls!
URL:https://rclstn.org/event/girls-who-code-club-2/2026-04-09/
LOCATION:Linebaugh Public Library\, 105 W Vine St\, Murfreesboro\, TN\, 37130\, United States
CATEGORIES:Club,Kids and Family,Linebaugh Youth Services,STEAM,STEM,Tween/Teen
ATTACH;FMTTYPE=image/png:https://rclstn.org/wp-content/uploads/2025/08/Fall-25-GWC-rec-2.png
END:VEVENT
BEGIN:VEVENT
DTSTART;TZID=America/Chicago:20260409T181500
DTEND;TZID=America/Chicago:20260409T184500
DTSTAMP:20260422T110449
CREATED:20260409T162436Z
LAST-MODIFIED:20260409T164442Z
UID:10018839-1775758500-1775760300@rclstn.org
SUMMARY:Pajama Story Time (MOVED TO MGL)
DESCRIPTION:THIS EVENT HAS MOVED TO MGL LIBRARY DUE TO ROOF REPAIRS AT SMYRNA. Bring your stuffed animal friends and wear your cozy pajamas to this delightful evening story time. We’ll read books\, sing songs and maybe learn something along the way. All ages welcome; geared towards pre-schoolers-1st grade.
URL:https://rclstn.org/event/pajama-story-time-at-smyrna-library-2-2/
LOCATION:Smyrna Public Library\, 400 Enon Springs Rd W\, Smyrna\, TN\, 37167\, United States
CATEGORIES:Kids and Family,Smyrna Public Libary,Story Time
ATTACH;FMTTYPE=image/png:https://rclstn.org/wp-content/uploads/2025/08/Copy-of-Pajama-Story-Time-only-2.png
ORGANIZER;CN="Smyrna Youth Services":MAILTO:smyrnays@rclstn.org
END:VEVENT
END:VCALENDAR