BEGIN:VCALENDAR
VERSION:2.0
PRODID:-//RCLS+ - ECPv6.15.20//NONSGML v1.0//EN
CALSCALE:GREGORIAN
METHOD:PUBLISH
X-WR-CALNAME:RCLS+
X-ORIGINAL-URL:https://rclstn.org
X-WR-CALDESC:Events for RCLS+
REFRESH-INTERVAL;VALUE=DURATION:PT1H
X-Robots-Tag:noindex
X-PUBLISHED-TTL:PT1H
BEGIN:VTIMEZONE
TZID:America/Chicago
BEGIN:DAYLIGHT
TZOFFSETFROM:-0600
TZOFFSETTO:-0500
TZNAME:CDT
DTSTART:20250309T080000
END:DAYLIGHT
BEGIN:STANDARD
TZOFFSETFROM:-0500
TZOFFSETTO:-0600
TZNAME:CST
DTSTART:20251102T070000
END:STANDARD
BEGIN:DAYLIGHT
TZOFFSETFROM:-0600
TZOFFSETTO:-0500
TZNAME:CDT
DTSTART:20260308T080000
END:DAYLIGHT
BEGIN:STANDARD
TZOFFSETFROM:-0500
TZOFFSETTO:-0600
TZNAME:CST
DTSTART:20261101T070000
END:STANDARD
BEGIN:DAYLIGHT
TZOFFSETFROM:-0600
TZOFFSETTO:-0500
TZNAME:CDT
DTSTART:20270314T080000
END:DAYLIGHT
BEGIN:STANDARD
TZOFFSETFROM:-0500
TZOFFSETTO:-0600
TZNAME:CST
DTSTART:20271107T070000
END:STANDARD
END:VTIMEZONE
BEGIN:VEVENT
DTSTART;TZID=America/Chicago:20260401T100000
DTEND;TZID=America/Chicago:20260401T103000
DTSTAMP:20260424T081542
CREATED:20260213T152200Z
LAST-MODIFIED:20260319T194536Z
UID:10024451-1775037600-1775039400@rclstn.org
SUMMARY:Book Bingo at Smyrna Public Library
DESCRIPTION:Join us at the Smyrna Public Library for Book Bingo @ 10am!
URL:https://rclstn.org/event/book-bingo/
LOCATION:Smyrna Public Library\, 400 Enon Springs Rd W\, Smyrna\, TN\, 37167\, United States
CATEGORIES:Smyrna Public Libary
ATTACH;FMTTYPE=image/png:https://rclstn.org/wp-content/uploads/2026/02/Spring-break-2026-3.png
END:VEVENT
BEGIN:VEVENT
DTSTART;TZID=America/Chicago:20260401T100000
DTEND;TZID=America/Chicago:20260401T104500
DTSTAMP:20260424T081542
CREATED:20251229T171358Z
LAST-MODIFIED:20251229T171453Z
UID:10021260-1775037600-1775040300@rclstn.org
SUMMARY:All-Ages Storytime at Linebaugh
DESCRIPTION:This year’s All-Ages Storytime theme is “A is for All!” with a focus on Fry’s sight words list. Every Tuesday and Wednesday at 10 am we’ll have storytimes full of engaging stories\, silly songs\, a puppet show\, and a craft!
URL:https://rclstn.org/event/all-ages-storytime-at-linebaugh-2-5/2026-04-01/
LOCATION:Linebaugh Public Library\, 105 W Vine St\, Murfreesboro\, TN\, 37130\, United States
ATTACH;FMTTYPE=image/png:https://rclstn.org/wp-content/uploads/2025/08/Fall-25-ST.png
END:VEVENT
BEGIN:VEVENT
DTSTART;TZID=America/Chicago:20260401T150000
DTEND;TZID=America/Chicago:20260401T152500
DTSTAMP:20260424T081542
CREATED:20251231T002828Z
LAST-MODIFIED:20251231T002830Z
UID:10011070-1775055600-1775057100@rclstn.org
SUMMARY:STEAM Lab at MGL Library
DESCRIPTION:Enjoy hands on activities to engage your curiosity and creativity that spans science\, technology\, engineering\, art\, and math! All ages are welcome.
URL:https://rclstn.org/event/s-t-e-a-m-lab-38-2-2-2/2026-04-01/
LOCATION:MGL\, 521 Dr. Martin Luther King Blvd\, Murfreesboro\, TN\, 37130\, United States
CATEGORIES:Kids and Family,MGL Youth Services,Myrtle-Glanton Lord (MGL) Library,STEM
ATTACH;FMTTYPE=image/png:https://rclstn.org/wp-content/uploads/2025/07/MGL_January-STEAM_Social.png
ORGANIZER;CN="Maddie":MAILTO:mhicks@rclstn.org
END:VEVENT
BEGIN:VEVENT
DTSTART;TZID=America/Chicago:20260401T160000
DTEND;TZID=America/Chicago:20260401T170000
DTSTAMP:20260424T081543
CREATED:20260328T182442Z
LAST-MODIFIED:20260328T182444Z
UID:10022036-1775059200-1775062800@rclstn.org
SUMMARY:Young Artists of Linebaugh Library (YALL Club) -- Tween Art Club
DESCRIPTION:Kids aged 8-12 can join us on the 1st Wednesday of every month from 4-5pm in the 1st floor club room at Linebaugh Library to learn a new art or crafting technique! Supplies & space are limited; register online here. Contact Taylor at tdavis@rclstn.org for more information. \nApril: Retro Bead Critters
URL:https://rclstn.org/event/young-artists-of-linebaugh-library-yall-club-tween-art-club-3/
LOCATION:Linebaugh Public Library\, 105 W Vine St\, Murfreesboro\, TN\, 37130\, United States
CATEGORIES:Arts and Crafts,Class,Club,Kids and Family,Linebaugh Public Library,Linebaugh Youth Services,Tween/Teen
ATTACH;FMTTYPE=image/png:https://rclstn.org/wp-content/uploads/2025/12/YALL-Club-Site-2.png
END:VEVENT
BEGIN:VEVENT
DTSTART;TZID=America/Chicago:20260401T173000
DTEND;TZID=America/Chicago:20260401T193000
DTSTAMP:20260424T081543
CREATED:20251230T233848Z
LAST-MODIFIED:20260319T211030Z
UID:10025268-1775064600-1775071800@rclstn.org
SUMMARY:Adult D&D at Smyrna Library
DESCRIPTION:“An adventure where every player is a thief\, the land is wild and names have power” \nSmyrna Library is relaunching our Adult D&D program with our new DM\, Wolfe! Space is limited so please reach out by email Wmacready@rclstn.org to reserve a seat! Sessions will be held on the second and fourth Wednesday of each month.
URL:https://rclstn.org/event/adult-dd-at-smyrna-2/2026-04-01/
LOCATION:TN
CATEGORIES:Adult,Smyrna Public Libary
ATTACH;FMTTYPE=image/png:https://rclstn.org/wp-content/uploads/2025/08/Copy-of-Adult-DD-Sept.-2025.png
END:VEVENT
BEGIN:VEVENT
DTSTART;TZID=America/Chicago:20260401T173000
DTEND;TZID=America/Chicago:20260401T200000
DTSTAMP:20260424T081543
CREATED:20260323T215520Z
LAST-MODIFIED:20260323T215520Z
UID:10025318-1775064600-1775073600@rclstn.org
SUMMARY:Movie Night at Linebaugh
DESCRIPTION:Join us for a showing of The Great Gatsby at Linebaugh Library! Movie rated PG-13. Anyone under 18 must be accompanied by an adult.
URL:https://rclstn.org/event/movie-night-at-linebaugh/
LOCATION:TN
CATEGORIES:Adult,Linebaugh Public Library,Movie
ATTACH;FMTTYPE=image/png:https://rclstn.org/wp-content/uploads/2026/03/The-Great-Gatsby-Website.png
END:VEVENT
BEGIN:VEVENT
DTSTART;TZID=America/Chicago:20260401T180000
DTEND;TZID=America/Chicago:20260401T190000
DTSTAMP:20260424T081543
CREATED:20250114T174248Z
LAST-MODIFIED:20251011T174250Z
UID:10013110-1775066400-1775070000@rclstn.org
SUMMARY:Murfreesboro Writer's Group
DESCRIPTION:The Murfreesboro Writers Group is a group of local writers who seek to improve their work through mutual critique. The group meets every Wednesday at 6:00 p.m. in the 2nd floor Meeting Room at Linebaugh Library. Anyone interested in writing is welcome to visit to see if you’d like to join the group. You might hear science fiction\, poetry\, alternate reality\, memoir\, fantasy\, mystery\, literary fiction\, or more.
URL:https://rclstn.org/event/murfreesboro-writers-group/2026-04-01/
LOCATION:Linebaugh Public Library\, 105 W Vine St\, Murfreesboro\, TN\, 37130\, United States
ATTACH;FMTTYPE=image/png:https://rclstn.org/wp-content/uploads/2025/01/Screenshot-2025-01-14-at-11.41.28 AM.png
END:VEVENT
END:VCALENDAR